BEGIN:VCALENDAR
VERSION:2.0
PRODID:-//Oasis Pickleball Club - ECPv6.15.13//NONSGML v1.0//EN
CALSCALE:GREGORIAN
METHOD:PUBLISH
X-WR-CALNAME:Oasis Pickleball Club
X-ORIGINAL-URL:https://www.oasispickleballclub.com
X-WR-CALDESC:Events for Oasis Pickleball Club
REFRESH-INTERVAL;VALUE=DURATION:PT1H
X-Robots-Tag:noindex
X-PUBLISHED-TTL:PT1H
BEGIN:VTIMEZONE
TZID:America/Chicago
BEGIN:DAYLIGHT
TZOFFSETFROM:-0600
TZOFFSETTO:-0500
TZNAME:CDT
DTSTART:20260308T080000
END:DAYLIGHT
BEGIN:STANDARD
TZOFFSETFROM:-0500
TZOFFSETTO:-0600
TZNAME:CST
DTSTART:20261101T070000
END:STANDARD
BEGIN:DAYLIGHT
TZOFFSETFROM:-0600
TZOFFSETTO:-0500
TZNAME:CDT
DTSTART:20270314T080000
END:DAYLIGHT
BEGIN:STANDARD
TZOFFSETFROM:-0500
TZOFFSETTO:-0600
TZNAME:CST
DTSTART:20271107T070000
END:STANDARD
BEGIN:DAYLIGHT
TZOFFSETFROM:-0600
TZOFFSETTO:-0500
TZNAME:CDT
DTSTART:20280312T080000
END:DAYLIGHT
BEGIN:STANDARD
TZOFFSETFROM:-0500
TZOFFSETTO:-0600
TZNAME:CST
DTSTART:20281105T070000
END:STANDARD
BEGIN:DAYLIGHT
TZOFFSETFROM:-0600
TZOFFSETTO:-0500
TZNAME:CDT
DTSTART:20290311T080000
END:DAYLIGHT
BEGIN:STANDARD
TZOFFSETFROM:-0500
TZOFFSETTO:-0600
TZNAME:CST
DTSTART:20291104T070000
END:STANDARD
END:VTIMEZONE
BEGIN:VEVENT
DTSTART;TZID=America/Chicago:20271231T080000
DTEND;TZID=America/Chicago:20271231T200000
DTSTAMP:20260425T181616
CREATED:20251229T165446Z
LAST-MODIFIED:20251229T165446Z
UID:10006158-1830240000-1830283200@www.oasispickleballclub.com
SUMMARY:Open Play (All Levels) - Friday
DESCRIPTION:
URL:https://www.oasispickleballclub.com/calendar/open-play-all-levels-friday/2027-12-31/
LOCATION:Oasis Pickleball Club\, 5757 SH-205\, Rockwall\, TX\, 75032\, United States
ORGANIZER;CN="Oasis Pickleball Club":MAILTO:director@oasispickleballclub.com
END:VEVENT
BEGIN:VEVENT
DTSTART;TZID=America/Chicago:20280101T080000
DTEND;TZID=America/Chicago:20280101T200000
DTSTAMP:20260425T181616
CREATED:20241105T171457Z
LAST-MODIFIED:20251229T165047Z
UID:10005052-1830326400-1830369600@www.oasispickleballclub.com
SUMMARY:Open Play (All Levels) - Saturday
DESCRIPTION:
URL:https://www.oasispickleballclub.com/calendar/open-play-all-levels-4/2028-01-01/
LOCATION:Oasis Pickleball Club\, 5757 SH-205\, Rockwall\, TX\, 75032\, United States
ORGANIZER;CN="Oasis Pickleball Club":MAILTO:director@oasispickleballclub.com
END:VEVENT
BEGIN:VEVENT
DTSTART;TZID=America/Chicago:20280101T090000
DTEND;TZID=America/Chicago:20280101T110000
DTSTAMP:20260425T181616
CREATED:20251229T171059Z
LAST-MODIFIED:20251229T171059Z
UID:10007718-1830330000-1830337200@www.oasispickleballclub.com
SUMMARY:Round Robin (Saturdays)
DESCRIPTION:
URL:https://www.oasispickleballclub.com/calendar/round-robin-saturdays/2028-01-01/
LOCATION:TX
END:VEVENT
BEGIN:VEVENT
DTSTART;TZID=America/Chicago:20280102T110000
DTEND;TZID=America/Chicago:20280102T190000
DTSTAMP:20260425T181616
CREATED:20241105T171813Z
LAST-MODIFIED:20251229T165035Z
UID:10005314-1830423600-1830452400@www.oasispickleballclub.com
SUMMARY:Open Play (All Levels) - Sunday
DESCRIPTION:
URL:https://www.oasispickleballclub.com/calendar/open-play-all-levels-5/2028-01-02/
LOCATION:Oasis Pickleball Club\, 5757 SH-205\, Rockwall\, TX\, 75032\, United States
ORGANIZER;CN="Oasis Pickleball Club":MAILTO:director@oasispickleballclub.com
END:VEVENT
BEGIN:VEVENT
DTSTART;TZID=America/Chicago:20280103T080000
DTEND;TZID=America/Chicago:20280103T210000
DTSTAMP:20260425T181616
CREATED:20251229T165305Z
LAST-MODIFIED:20251229T165307Z
UID:10000166-1830499200-1830546000@www.oasispickleballclub.com
SUMMARY:Open Play (All Levels) - Monday
DESCRIPTION:
URL:https://www.oasispickleballclub.com/calendar/open-play-all-levels-6/2028-01-03/
LOCATION:Oasis Pickleball Club\, 5757 SH-205\, Rockwall\, TX\, 75032\, United States
ORGANIZER;CN="Oasis Pickleball Club":MAILTO:director@oasispickleballclub.com
END:VEVENT
BEGIN:VEVENT
DTSTART;TZID=America/Chicago:20280103T190000
DTEND;TZID=America/Chicago:20280103T200000
DTSTAMP:20260425T181616
CREATED:20251229T165758Z
LAST-MODIFIED:20251229T165912Z
UID:10006418-1830538800-1830542400@www.oasispickleballclub.com
SUMMARY:Intro to Pickleball
DESCRIPTION:
URL:https://www.oasispickleballclub.com/calendar/intro-level-1-class-2/2028-01-03/
LOCATION:Oasis Pickleball Club\, 5757 SH-205\, Rockwall\, TX\, 75032\, United States
ORGANIZER;CN="Oasis Pickleball Club":MAILTO:director@oasispickleballclub.com
END:VEVENT
BEGIN:VEVENT
DTSTART;TZID=America/Chicago:20280103T200000
DTEND;TZID=America/Chicago:20280103T210000
DTSTAMP:20260425T181616
CREATED:20251229T170134Z
LAST-MODIFIED:20251229T170138Z
UID:10006678-1830542400-1830546000@www.oasispickleballclub.com
SUMMARY:Drills with Tom
DESCRIPTION:Price is $20 for members\, $30 for non-members.
URL:https://www.oasispickleballclub.com/calendar/drills-with-coach-2/2028-01-03/
LOCATION:Oasis Pickleball Club\, 5757 SH-205\, Rockwall\, TX\, 75032\, United States
ORGANIZER;CN="Oasis Pickleball Club":MAILTO:director@oasispickleballclub.com
END:VEVENT
BEGIN:VEVENT
DTSTART;TZID=America/Chicago:20280104T080000
DTEND;TZID=America/Chicago:20280104T210000
DTSTAMP:20260425T181616
CREATED:20251229T165315Z
LAST-MODIFIED:20251229T165317Z
UID:10002443-1830585600-1830632400@www.oasispickleballclub.com
SUMMARY:Open Play (All Levels) - Tuesday
DESCRIPTION:
URL:https://www.oasispickleballclub.com/calendar/open-play-all-levels-2-2/2028-01-04/
LOCATION:Oasis Pickleball Club\, 5757 SH-205\, Rockwall\, TX\, 75032\, United States
ORGANIZER;CN="Oasis Pickleball Club":MAILTO:director@oasispickleballclub.com
END:VEVENT
BEGIN:VEVENT
DTSTART;TZID=America/Chicago:20280104T185903
DTEND;TZID=America/Chicago:20280104T205903
DTSTAMP:20260425T181616
CREATED:20251229T170346Z
LAST-MODIFIED:20251229T172712Z
UID:10008101-1830625143-1830632343@www.oasispickleballclub.com
SUMMARY:Round Robin (Tuesdays)
DESCRIPTION:
URL:https://www.oasispickleballclub.com/calendar/round-robin-2-2/2028-01-04/
LOCATION:Oasis Pickleball Club\, 5757 SH-205\, Rockwall\, TX\, 75032\, United States
ORGANIZER;CN="Oasis Pickleball Club":MAILTO:director@oasispickleballclub.com
END:VEVENT
BEGIN:VEVENT
DTSTART;TZID=America/Chicago:20280105T080000
DTEND;TZID=America/Chicago:20280105T210000
DTSTAMP:20260425T181616
CREATED:20251229T165324Z
LAST-MODIFIED:20251229T165326Z
UID:10002963-1830672000-1830718800@www.oasispickleballclub.com
SUMMARY:Open Play (All Levels) - Wednesday
DESCRIPTION:
URL:https://www.oasispickleballclub.com/calendar/open-play-all-levels-3-2/2028-01-05/
LOCATION:Oasis Pickleball Club\, 5757 SH-205\, Rockwall\, TX\, 75032\, United States
ORGANIZER;CN="Oasis Pickleball Club":MAILTO:director@oasispickleballclub.com
END:VEVENT
BEGIN:VEVENT
DTSTART;TZID=America/Chicago:20280105T190000
DTEND;TZID=America/Chicago:20280105T210000
DTSTAMP:20260425T181616
CREATED:20251229T170806Z
LAST-MODIFIED:20251229T170806Z
UID:10007197-1830711600-1830718800@www.oasispickleballclub.com
SUMMARY:Chill Pickles
DESCRIPTION:Rockwall residents enjoy half off
URL:https://www.oasispickleballclub.com/calendar/chill-pickles/2028-01-05/
LOCATION:TX
END:VEVENT
BEGIN:VEVENT
DTSTART;TZID=America/Chicago:20280106T080000
DTEND;TZID=America/Chicago:20280106T210000
DTSTAMP:20260425T181616
CREATED:20251229T165336Z
LAST-MODIFIED:20251229T165337Z
UID:10003223-1830758400-1830805200@www.oasispickleballclub.com
SUMMARY:Open Play (All Levels) - Thursday
DESCRIPTION:
URL:https://www.oasispickleballclub.com/calendar/open-play-all-levels-thursdays-2/2028-01-06/
LOCATION:Oasis Pickleball Club\, 5757 SH-205\, Rockwall\, TX\, 75032\, United States
ORGANIZER;CN="Oasis Pickleball Club":MAILTO:director@oasispickleballclub.com
END:VEVENT
BEGIN:VEVENT
DTSTART;TZID=America/Chicago:20280106T180000
DTEND;TZID=America/Chicago:20280106T210000
DTSTAMP:20260425T181616
CREATED:20251229T170903Z
LAST-MODIFIED:20251229T170903Z
UID:10007457-1830794400-1830805200@www.oasispickleballclub.com
SUMMARY:Pickleball & Pizza
DESCRIPTION:
URL:https://www.oasispickleballclub.com/calendar/pickleball-pizza/2028-01-06/
LOCATION:TX
END:VEVENT
BEGIN:VEVENT
DTSTART;TZID=America/Chicago:20280107T080000
DTEND;TZID=America/Chicago:20280107T200000
DTSTAMP:20260425T181616
CREATED:20251229T165446Z
LAST-MODIFIED:20251229T165446Z
UID:10006159-1830844800-1830888000@www.oasispickleballclub.com
SUMMARY:Open Play (All Levels) - Friday
DESCRIPTION:
URL:https://www.oasispickleballclub.com/calendar/open-play-all-levels-friday/2028-01-07/
LOCATION:Oasis Pickleball Club\, 5757 SH-205\, Rockwall\, TX\, 75032\, United States
ORGANIZER;CN="Oasis Pickleball Club":MAILTO:director@oasispickleballclub.com
END:VEVENT
BEGIN:VEVENT
DTSTART;TZID=America/Chicago:20280108T080000
DTEND;TZID=America/Chicago:20280108T200000
DTSTAMP:20260425T181616
CREATED:20241105T171457Z
LAST-MODIFIED:20251229T165047Z
UID:10005053-1830931200-1830974400@www.oasispickleballclub.com
SUMMARY:Open Play (All Levels) - Saturday
DESCRIPTION:
URL:https://www.oasispickleballclub.com/calendar/open-play-all-levels-4/2028-01-08/
LOCATION:Oasis Pickleball Club\, 5757 SH-205\, Rockwall\, TX\, 75032\, United States
ORGANIZER;CN="Oasis Pickleball Club":MAILTO:director@oasispickleballclub.com
END:VEVENT
BEGIN:VEVENT
DTSTART;TZID=America/Chicago:20280108T090000
DTEND;TZID=America/Chicago:20280108T110000
DTSTAMP:20260425T181616
CREATED:20251229T171059Z
LAST-MODIFIED:20251229T171059Z
UID:10007719-1830934800-1830942000@www.oasispickleballclub.com
SUMMARY:Round Robin (Saturdays)
DESCRIPTION:
URL:https://www.oasispickleballclub.com/calendar/round-robin-saturdays/2028-01-08/
LOCATION:TX
END:VEVENT
BEGIN:VEVENT
DTSTART;TZID=America/Chicago:20280109T110000
DTEND;TZID=America/Chicago:20280109T190000
DTSTAMP:20260425T181616
CREATED:20241105T171813Z
LAST-MODIFIED:20251229T165035Z
UID:10005315-1831028400-1831057200@www.oasispickleballclub.com
SUMMARY:Open Play (All Levels) - Sunday
DESCRIPTION:
URL:https://www.oasispickleballclub.com/calendar/open-play-all-levels-5/2028-01-09/
LOCATION:Oasis Pickleball Club\, 5757 SH-205\, Rockwall\, TX\, 75032\, United States
ORGANIZER;CN="Oasis Pickleball Club":MAILTO:director@oasispickleballclub.com
END:VEVENT
BEGIN:VEVENT
DTSTART;TZID=America/Chicago:20280110T080000
DTEND;TZID=America/Chicago:20280110T210000
DTSTAMP:20260425T181616
CREATED:20251229T165305Z
LAST-MODIFIED:20251229T165307Z
UID:10001519-1831104000-1831150800@www.oasispickleballclub.com
SUMMARY:Open Play (All Levels) - Monday
DESCRIPTION:
URL:https://www.oasispickleballclub.com/calendar/open-play-all-levels-6/2028-01-10/
LOCATION:Oasis Pickleball Club\, 5757 SH-205\, Rockwall\, TX\, 75032\, United States
ORGANIZER;CN="Oasis Pickleball Club":MAILTO:director@oasispickleballclub.com
END:VEVENT
BEGIN:VEVENT
DTSTART;TZID=America/Chicago:20280110T190000
DTEND;TZID=America/Chicago:20280110T200000
DTSTAMP:20260425T181616
CREATED:20251229T165758Z
LAST-MODIFIED:20251229T165912Z
UID:10006419-1831143600-1831147200@www.oasispickleballclub.com
SUMMARY:Intro to Pickleball
DESCRIPTION:
URL:https://www.oasispickleballclub.com/calendar/intro-level-1-class-2/2028-01-10/
LOCATION:Oasis Pickleball Club\, 5757 SH-205\, Rockwall\, TX\, 75032\, United States
ORGANIZER;CN="Oasis Pickleball Club":MAILTO:director@oasispickleballclub.com
END:VEVENT
BEGIN:VEVENT
DTSTART;TZID=America/Chicago:20280110T200000
DTEND;TZID=America/Chicago:20280110T210000
DTSTAMP:20260425T181616
CREATED:20251229T170134Z
LAST-MODIFIED:20251229T170138Z
UID:10006679-1831147200-1831150800@www.oasispickleballclub.com
SUMMARY:Drills with Tom
DESCRIPTION:Price is $20 for members\, $30 for non-members.
URL:https://www.oasispickleballclub.com/calendar/drills-with-coach-2/2028-01-10/
LOCATION:Oasis Pickleball Club\, 5757 SH-205\, Rockwall\, TX\, 75032\, United States
ORGANIZER;CN="Oasis Pickleball Club":MAILTO:director@oasispickleballclub.com
END:VEVENT
BEGIN:VEVENT
DTSTART;TZID=America/Chicago:20280111T080000
DTEND;TZID=America/Chicago:20280111T210000
DTSTAMP:20260425T181616
CREATED:20251229T165315Z
LAST-MODIFIED:20251229T165317Z
UID:10002444-1831190400-1831237200@www.oasispickleballclub.com
SUMMARY:Open Play (All Levels) - Tuesday
DESCRIPTION:
URL:https://www.oasispickleballclub.com/calendar/open-play-all-levels-2-2/2028-01-11/
LOCATION:Oasis Pickleball Club\, 5757 SH-205\, Rockwall\, TX\, 75032\, United States
ORGANIZER;CN="Oasis Pickleball Club":MAILTO:director@oasispickleballclub.com
END:VEVENT
BEGIN:VEVENT
DTSTART;TZID=America/Chicago:20280111T185903
DTEND;TZID=America/Chicago:20280111T205903
DTSTAMP:20260425T181616
CREATED:20251229T170346Z
LAST-MODIFIED:20251229T172712Z
UID:10008102-1831229943-1831237143@www.oasispickleballclub.com
SUMMARY:Round Robin (Tuesdays)
DESCRIPTION:
URL:https://www.oasispickleballclub.com/calendar/round-robin-2-2/2028-01-11/
LOCATION:Oasis Pickleball Club\, 5757 SH-205\, Rockwall\, TX\, 75032\, United States
ORGANIZER;CN="Oasis Pickleball Club":MAILTO:director@oasispickleballclub.com
END:VEVENT
BEGIN:VEVENT
DTSTART;TZID=America/Chicago:20280112T080000
DTEND;TZID=America/Chicago:20280112T210000
DTSTAMP:20260425T181616
CREATED:20251229T165324Z
LAST-MODIFIED:20251229T165326Z
UID:10002964-1831276800-1831323600@www.oasispickleballclub.com
SUMMARY:Open Play (All Levels) - Wednesday
DESCRIPTION:
URL:https://www.oasispickleballclub.com/calendar/open-play-all-levels-3-2/2028-01-12/
LOCATION:Oasis Pickleball Club\, 5757 SH-205\, Rockwall\, TX\, 75032\, United States
ORGANIZER;CN="Oasis Pickleball Club":MAILTO:director@oasispickleballclub.com
END:VEVENT
BEGIN:VEVENT
DTSTART;TZID=America/Chicago:20280112T190000
DTEND;TZID=America/Chicago:20280112T210000
DTSTAMP:20260425T181616
CREATED:20251229T170806Z
LAST-MODIFIED:20251229T170806Z
UID:10007198-1831316400-1831323600@www.oasispickleballclub.com
SUMMARY:Chill Pickles
DESCRIPTION:Rockwall residents enjoy half off
URL:https://www.oasispickleballclub.com/calendar/chill-pickles/2028-01-12/
LOCATION:TX
END:VEVENT
BEGIN:VEVENT
DTSTART;TZID=America/Chicago:20280113T080000
DTEND;TZID=America/Chicago:20280113T210000
DTSTAMP:20260425T181616
CREATED:20251229T165336Z
LAST-MODIFIED:20251229T165337Z
UID:10003224-1831363200-1831410000@www.oasispickleballclub.com
SUMMARY:Open Play (All Levels) - Thursday
DESCRIPTION:
URL:https://www.oasispickleballclub.com/calendar/open-play-all-levels-thursdays-2/2028-01-13/
LOCATION:Oasis Pickleball Club\, 5757 SH-205\, Rockwall\, TX\, 75032\, United States
ORGANIZER;CN="Oasis Pickleball Club":MAILTO:director@oasispickleballclub.com
END:VEVENT
BEGIN:VEVENT
DTSTART;TZID=America/Chicago:20280113T180000
DTEND;TZID=America/Chicago:20280113T210000
DTSTAMP:20260425T181616
CREATED:20251229T170903Z
LAST-MODIFIED:20251229T170903Z
UID:10007458-1831399200-1831410000@www.oasispickleballclub.com
SUMMARY:Pickleball & Pizza
DESCRIPTION:
URL:https://www.oasispickleballclub.com/calendar/pickleball-pizza/2028-01-13/
LOCATION:TX
END:VEVENT
BEGIN:VEVENT
DTSTART;TZID=America/Chicago:20280114T080000
DTEND;TZID=America/Chicago:20280114T200000
DTSTAMP:20260425T181616
CREATED:20251229T165446Z
LAST-MODIFIED:20251229T165446Z
UID:10006160-1831449600-1831492800@www.oasispickleballclub.com
SUMMARY:Open Play (All Levels) - Friday
DESCRIPTION:
URL:https://www.oasispickleballclub.com/calendar/open-play-all-levels-friday/2028-01-14/
LOCATION:Oasis Pickleball Club\, 5757 SH-205\, Rockwall\, TX\, 75032\, United States
ORGANIZER;CN="Oasis Pickleball Club":MAILTO:director@oasispickleballclub.com
END:VEVENT
BEGIN:VEVENT
DTSTART;TZID=America/Chicago:20280115T080000
DTEND;TZID=America/Chicago:20280115T200000
DTSTAMP:20260425T181616
CREATED:20241105T171457Z
LAST-MODIFIED:20251229T165047Z
UID:10005054-1831536000-1831579200@www.oasispickleballclub.com
SUMMARY:Open Play (All Levels) - Saturday
DESCRIPTION:
URL:https://www.oasispickleballclub.com/calendar/open-play-all-levels-4/2028-01-15/
LOCATION:Oasis Pickleball Club\, 5757 SH-205\, Rockwall\, TX\, 75032\, United States
ORGANIZER;CN="Oasis Pickleball Club":MAILTO:director@oasispickleballclub.com
END:VEVENT
BEGIN:VEVENT
DTSTART;TZID=America/Chicago:20280115T090000
DTEND;TZID=America/Chicago:20280115T110000
DTSTAMP:20260425T181616
CREATED:20251229T171059Z
LAST-MODIFIED:20251229T171059Z
UID:10007720-1831539600-1831546800@www.oasispickleballclub.com
SUMMARY:Round Robin (Saturdays)
DESCRIPTION:
URL:https://www.oasispickleballclub.com/calendar/round-robin-saturdays/2028-01-15/
LOCATION:TX
END:VEVENT
BEGIN:VEVENT
DTSTART;TZID=America/Chicago:20280116T110000
DTEND;TZID=America/Chicago:20280116T190000
DTSTAMP:20260425T181616
CREATED:20241105T171813Z
LAST-MODIFIED:20251229T165035Z
UID:10005316-1831633200-1831662000@www.oasispickleballclub.com
SUMMARY:Open Play (All Levels) - Sunday
DESCRIPTION:
URL:https://www.oasispickleballclub.com/calendar/open-play-all-levels-5/2028-01-16/
LOCATION:Oasis Pickleball Club\, 5757 SH-205\, Rockwall\, TX\, 75032\, United States
ORGANIZER;CN="Oasis Pickleball Club":MAILTO:director@oasispickleballclub.com
END:VEVENT
END:VCALENDAR