BEGIN:VCALENDAR
VERSION:2.0
PRODID:-//Oasis Pickleball Club - ECPv6.15.13//NONSGML v1.0//EN
CALSCALE:GREGORIAN
METHOD:PUBLISH
X-ORIGINAL-URL:https://www.oasispickleballclub.com
X-WR-CALDESC:Events for Oasis Pickleball Club
REFRESH-INTERVAL;VALUE=DURATION:PT1H
X-Robots-Tag:noindex
X-PUBLISHED-TTL:PT1H
BEGIN:VTIMEZONE
TZID:America/Chicago
BEGIN:DAYLIGHT
TZOFFSETFROM:-0600
TZOFFSETTO:-0500
TZNAME:CDT
DTSTART:20240310T080000
END:DAYLIGHT
BEGIN:STANDARD
TZOFFSETFROM:-0500
TZOFFSETTO:-0600
TZNAME:CST
DTSTART:20241103T070000
END:STANDARD
BEGIN:DAYLIGHT
TZOFFSETFROM:-0600
TZOFFSETTO:-0500
TZNAME:CDT
DTSTART:20250309T080000
END:DAYLIGHT
BEGIN:STANDARD
TZOFFSETFROM:-0500
TZOFFSETTO:-0600
TZNAME:CST
DTSTART:20251102T070000
END:STANDARD
BEGIN:DAYLIGHT
TZOFFSETFROM:-0600
TZOFFSETTO:-0500
TZNAME:CDT
DTSTART:20260308T080000
END:DAYLIGHT
BEGIN:STANDARD
TZOFFSETFROM:-0500
TZOFFSETTO:-0600
TZNAME:CST
DTSTART:20261101T070000
END:STANDARD
END:VTIMEZONE
BEGIN:VEVENT
DTSTART;TZID=America/Chicago:20250805T190000
DTEND;TZID=America/Chicago:20250805T210000
DTSTAMP:20260419T180348
CREATED:20241105T170636Z
LAST-MODIFIED:20241105T171123Z
UID:10004138-1754420400-1754427600@www.oasispickleballclub.com
SUMMARY:Round Robin
DESCRIPTION:
URL:https://www.oasispickleballclub.com/calendar/round-robin/2025-08-05/
LOCATION:Oasis Pickleball Club\, 5757 SH-205\, Rockwall\, TX\, 75032\, United States
ORGANIZER;CN="Oasis Pickleball Club":MAILTO:director@oasispickleballclub.com
END:VEVENT
BEGIN:VEVENT
DTSTART;TZID=America/Chicago:20250806T080000
DTEND;TZID=America/Chicago:20250806T120000
DTSTAMP:20260419T180348
CREATED:20241105T161206Z
LAST-MODIFIED:20241105T171025Z
UID:10002837-1754467200-1754481600@www.oasispickleballclub.com
SUMMARY:Open Play (All Levels) - Wednesday
DESCRIPTION:
URL:https://www.oasispickleballclub.com/calendar/open-play-all-levels-3/2025-08-06/
LOCATION:Oasis Pickleball Club\, 5757 SH-205\, Rockwall\, TX\, 75032\, United States
ORGANIZER;CN="Oasis Pickleball Club":MAILTO:director@oasispickleballclub.com
END:VEVENT
BEGIN:VEVENT
DTSTART;TZID=America/Chicago:20250807T080000
DTEND;TZID=America/Chicago:20250807T120000
DTSTAMP:20260419T180348
CREATED:20241105T161348Z
LAST-MODIFIED:20241105T171051Z
UID:10003097-1754553600-1754568000@www.oasispickleballclub.com
SUMMARY:Open Play (All Levels) - Thursday
DESCRIPTION:
URL:https://www.oasispickleballclub.com/calendar/open-play-all-levels-thursdays/2025-08-07/
LOCATION:Oasis Pickleball Club\, 5757 SH-205\, Rockwall\, TX\, 75032\, United States
ORGANIZER;CN="Oasis Pickleball Club":MAILTO:director@oasispickleballclub.com
END:VEVENT
BEGIN:VEVENT
DTSTART;TZID=America/Chicago:20250807T183000
DTEND;TZID=America/Chicago:20250807T210000
DTSTAMP:20260419T180348
CREATED:20241105T170951Z
LAST-MODIFIED:20241105T170951Z
UID:10004399-1754591400-1754600400@www.oasispickleballclub.com
SUMMARY:Advanced Night
DESCRIPTION:
URL:https://www.oasispickleballclub.com/calendar/advanced-night/2025-08-07/
LOCATION:Oasis Pickleball Club\, 5757 SH-205\, Rockwall\, TX\, 75032\, United States
ORGANIZER;CN="Oasis Pickleball Club":MAILTO:director@oasispickleballclub.com
END:VEVENT
BEGIN:VEVENT
DTSTART;TZID=America/Chicago:20250809T080000
DTEND;TZID=America/Chicago:20250809T200000
DTSTAMP:20260419T180348
CREATED:20241105T171457Z
LAST-MODIFIED:20251229T165047Z
UID:10004927-1754726400-1754769600@www.oasispickleballclub.com
SUMMARY:Open Play (All Levels) - Saturday
DESCRIPTION:
URL:https://www.oasispickleballclub.com/calendar/open-play-all-levels-4/2025-08-09/
LOCATION:Oasis Pickleball Club\, 5757 SH-205\, Rockwall\, TX\, 75032\, United States
ORGANIZER;CN="Oasis Pickleball Club":MAILTO:director@oasispickleballclub.com
END:VEVENT
BEGIN:VEVENT
DTSTART;TZID=America/Chicago:20250810T110000
DTEND;TZID=America/Chicago:20250810T190000
DTSTAMP:20260419T180348
CREATED:20241105T171813Z
LAST-MODIFIED:20251229T165035Z
UID:10005189-1754823600-1754852400@www.oasispickleballclub.com
SUMMARY:Open Play (All Levels) - Sunday
DESCRIPTION:
URL:https://www.oasispickleballclub.com/calendar/open-play-all-levels-5/2025-08-10/
LOCATION:Oasis Pickleball Club\, 5757 SH-205\, Rockwall\, TX\, 75032\, United States
ORGANIZER;CN="Oasis Pickleball Club":MAILTO:director@oasispickleballclub.com
END:VEVENT
BEGIN:VEVENT
DTSTART;TZID=America/Chicago:20250811T080000
DTEND;TZID=America/Chicago:20250811T120000
DTSTAMP:20260419T180348
CREATED:20241105T160654Z
LAST-MODIFIED:20241105T161655Z
UID:10000857-1754899200-1754913600@www.oasispickleballclub.com
SUMMARY:Open Play (All Levels) - Monday
DESCRIPTION:
URL:https://www.oasispickleballclub.com/calendar/open-play-all-levels/2025-08-11/
LOCATION:Oasis Pickleball Club\, 5757 SH-205\, Rockwall\, TX\, 75032\, United States
ORGANIZER;CN="Oasis Pickleball Club":MAILTO:director@oasispickleballclub.com
END:VEVENT
BEGIN:VEVENT
DTSTART;TZID=America/Chicago:20250811T183000
DTEND;TZID=America/Chicago:20250811T210000
DTSTAMP:20260419T180348
CREATED:20241105T162353Z
LAST-MODIFIED:20241105T162353Z
UID:10003358-1754937000-1754946000@www.oasispickleballclub.com
SUMMARY:Drills with Coach
DESCRIPTION:
URL:https://www.oasispickleballclub.com/calendar/drills-with-coach/2025-08-11/
LOCATION:Oasis Pickleball Club\, 5757 SH-205\, Rockwall\, TX\, 75032\, United States
ORGANIZER;CN="Oasis Pickleball Club":MAILTO:director@oasispickleballclub.com
END:VEVENT
BEGIN:VEVENT
DTSTART;TZID=America/Chicago:20250812T080000
DTEND;TZID=America/Chicago:20250812T120000
DTSTAMP:20260419T180348
CREATED:20241105T161042Z
LAST-MODIFIED:20241105T171229Z
UID:10002318-1754985600-1755000000@www.oasispickleballclub.com
SUMMARY:Open Play (All Levels) - Tuesday
DESCRIPTION:
URL:https://www.oasispickleballclub.com/calendar/open-play-all-levels-2/2025-08-12/
LOCATION:Oasis Pickleball Club\, 5757 SH-205\, Rockwall\, TX\, 75032\, United States
ORGANIZER;CN="Oasis Pickleball Club":MAILTO:director@oasispickleballclub.com
END:VEVENT
BEGIN:VEVENT
DTSTART;TZID=America/Chicago:20250812T180000
DTEND;TZID=America/Chicago:20250812T210000
DTSTAMP:20260419T180348
CREATED:20241105T170352Z
LAST-MODIFIED:20251229T172349Z
UID:10003619-1755021600-1755032400@www.oasispickleballclub.com
SUMMARY:Beginner Night
DESCRIPTION:
URL:https://www.oasispickleballclub.com/calendar/beginner-night/2025-08-12/
LOCATION:Oasis Pickleball Club\, 5757 SH-205\, Rockwall\, TX\, 75032\, United States
ORGANIZER;CN="Oasis Pickleball Club":MAILTO:director@oasispickleballclub.com
END:VEVENT
BEGIN:VEVENT
DTSTART;TZID=America/Chicago:20250812T190000
DTEND;TZID=America/Chicago:20250812T210000
DTSTAMP:20260419T180348
CREATED:20241105T170541Z
LAST-MODIFIED:20241105T171148Z
UID:10003879-1755025200-1755032400@www.oasispickleballclub.com
SUMMARY:Intro & Level 1 Class
DESCRIPTION:
URL:https://www.oasispickleballclub.com/calendar/intro-level-1-class/2025-08-12/
LOCATION:Oasis Pickleball Club\, 5757 SH-205\, Rockwall\, TX\, 75032\, United States
ORGANIZER;CN="Oasis Pickleball Club":MAILTO:director@oasispickleballclub.com
END:VEVENT
BEGIN:VEVENT
DTSTART;TZID=America/Chicago:20250812T190000
DTEND;TZID=America/Chicago:20250812T210000
DTSTAMP:20260419T180348
CREATED:20241105T170636Z
LAST-MODIFIED:20241105T171123Z
UID:10004139-1755025200-1755032400@www.oasispickleballclub.com
SUMMARY:Round Robin
DESCRIPTION:
URL:https://www.oasispickleballclub.com/calendar/round-robin/2025-08-12/
LOCATION:Oasis Pickleball Club\, 5757 SH-205\, Rockwall\, TX\, 75032\, United States
ORGANIZER;CN="Oasis Pickleball Club":MAILTO:director@oasispickleballclub.com
END:VEVENT
BEGIN:VEVENT
DTSTART;TZID=America/Chicago:20250813T080000
DTEND;TZID=America/Chicago:20250813T120000
DTSTAMP:20260419T180348
CREATED:20241105T161206Z
LAST-MODIFIED:20241105T171025Z
UID:10002838-1755072000-1755086400@www.oasispickleballclub.com
SUMMARY:Open Play (All Levels) - Wednesday
DESCRIPTION:
URL:https://www.oasispickleballclub.com/calendar/open-play-all-levels-3/2025-08-13/
LOCATION:Oasis Pickleball Club\, 5757 SH-205\, Rockwall\, TX\, 75032\, United States
ORGANIZER;CN="Oasis Pickleball Club":MAILTO:director@oasispickleballclub.com
END:VEVENT
BEGIN:VEVENT
DTSTART;TZID=America/Chicago:20250814T080000
DTEND;TZID=America/Chicago:20250814T120000
DTSTAMP:20260419T180348
CREATED:20241105T161348Z
LAST-MODIFIED:20241105T171051Z
UID:10003098-1755158400-1755172800@www.oasispickleballclub.com
SUMMARY:Open Play (All Levels) - Thursday
DESCRIPTION:
URL:https://www.oasispickleballclub.com/calendar/open-play-all-levels-thursdays/2025-08-14/
LOCATION:Oasis Pickleball Club\, 5757 SH-205\, Rockwall\, TX\, 75032\, United States
ORGANIZER;CN="Oasis Pickleball Club":MAILTO:director@oasispickleballclub.com
END:VEVENT
BEGIN:VEVENT
DTSTART;TZID=America/Chicago:20250814T183000
DTEND;TZID=America/Chicago:20250814T210000
DTSTAMP:20260419T180348
CREATED:20241105T170951Z
LAST-MODIFIED:20241105T170951Z
UID:10004400-1755196200-1755205200@www.oasispickleballclub.com
SUMMARY:Advanced Night
DESCRIPTION:
URL:https://www.oasispickleballclub.com/calendar/advanced-night/2025-08-14/
LOCATION:Oasis Pickleball Club\, 5757 SH-205\, Rockwall\, TX\, 75032\, United States
ORGANIZER;CN="Oasis Pickleball Club":MAILTO:director@oasispickleballclub.com
END:VEVENT
BEGIN:VEVENT
DTSTART;TZID=America/Chicago:20250816T080000
DTEND;TZID=America/Chicago:20250816T200000
DTSTAMP:20260419T180348
CREATED:20241105T171457Z
LAST-MODIFIED:20251229T165047Z
UID:10004928-1755331200-1755374400@www.oasispickleballclub.com
SUMMARY:Open Play (All Levels) - Saturday
DESCRIPTION:
URL:https://www.oasispickleballclub.com/calendar/open-play-all-levels-4/2025-08-16/
LOCATION:Oasis Pickleball Club\, 5757 SH-205\, Rockwall\, TX\, 75032\, United States
ORGANIZER;CN="Oasis Pickleball Club":MAILTO:director@oasispickleballclub.com
END:VEVENT
BEGIN:VEVENT
DTSTART;TZID=America/Chicago:20250817T110000
DTEND;TZID=America/Chicago:20250817T190000
DTSTAMP:20260419T180348
CREATED:20241105T171813Z
LAST-MODIFIED:20251229T165035Z
UID:10005190-1755428400-1755457200@www.oasispickleballclub.com
SUMMARY:Open Play (All Levels) - Sunday
DESCRIPTION:
URL:https://www.oasispickleballclub.com/calendar/open-play-all-levels-5/2025-08-17/
LOCATION:Oasis Pickleball Club\, 5757 SH-205\, Rockwall\, TX\, 75032\, United States
ORGANIZER;CN="Oasis Pickleball Club":MAILTO:director@oasispickleballclub.com
END:VEVENT
BEGIN:VEVENT
DTSTART;TZID=America/Chicago:20250818T080000
DTEND;TZID=America/Chicago:20250818T120000
DTSTAMP:20260419T180348
CREATED:20241105T160654Z
LAST-MODIFIED:20241105T161655Z
UID:10000042-1755504000-1755518400@www.oasispickleballclub.com
SUMMARY:Open Play (All Levels) - Monday
DESCRIPTION:
URL:https://www.oasispickleballclub.com/calendar/open-play-all-levels/2025-08-18/
LOCATION:Oasis Pickleball Club\, 5757 SH-205\, Rockwall\, TX\, 75032\, United States
ORGANIZER;CN="Oasis Pickleball Club":MAILTO:director@oasispickleballclub.com
END:VEVENT
BEGIN:VEVENT
DTSTART;TZID=America/Chicago:20250818T183000
DTEND;TZID=America/Chicago:20250818T210000
DTSTAMP:20260419T180348
CREATED:20241105T162353Z
LAST-MODIFIED:20241105T162353Z
UID:10003359-1755541800-1755550800@www.oasispickleballclub.com
SUMMARY:Drills with Coach
DESCRIPTION:
URL:https://www.oasispickleballclub.com/calendar/drills-with-coach/2025-08-18/
LOCATION:Oasis Pickleball Club\, 5757 SH-205\, Rockwall\, TX\, 75032\, United States
ORGANIZER;CN="Oasis Pickleball Club":MAILTO:director@oasispickleballclub.com
END:VEVENT
BEGIN:VEVENT
DTSTART;TZID=America/Chicago:20250819T080000
DTEND;TZID=America/Chicago:20250819T120000
DTSTAMP:20260419T180348
CREATED:20241105T161042Z
LAST-MODIFIED:20241105T171229Z
UID:10002319-1755590400-1755604800@www.oasispickleballclub.com
SUMMARY:Open Play (All Levels) - Tuesday
DESCRIPTION:
URL:https://www.oasispickleballclub.com/calendar/open-play-all-levels-2/2025-08-19/
LOCATION:Oasis Pickleball Club\, 5757 SH-205\, Rockwall\, TX\, 75032\, United States
ORGANIZER;CN="Oasis Pickleball Club":MAILTO:director@oasispickleballclub.com
END:VEVENT
BEGIN:VEVENT
DTSTART;TZID=America/Chicago:20250819T180000
DTEND;TZID=America/Chicago:20250819T210000
DTSTAMP:20260419T180348
CREATED:20241105T170352Z
LAST-MODIFIED:20251229T172349Z
UID:10003620-1755626400-1755637200@www.oasispickleballclub.com
SUMMARY:Beginner Night
DESCRIPTION:
URL:https://www.oasispickleballclub.com/calendar/beginner-night/2025-08-19/
LOCATION:Oasis Pickleball Club\, 5757 SH-205\, Rockwall\, TX\, 75032\, United States
ORGANIZER;CN="Oasis Pickleball Club":MAILTO:director@oasispickleballclub.com
END:VEVENT
BEGIN:VEVENT
DTSTART;TZID=America/Chicago:20250819T190000
DTEND;TZID=America/Chicago:20250819T210000
DTSTAMP:20260419T180348
CREATED:20241105T170541Z
LAST-MODIFIED:20241105T171148Z
UID:10003880-1755630000-1755637200@www.oasispickleballclub.com
SUMMARY:Intro & Level 1 Class
DESCRIPTION:
URL:https://www.oasispickleballclub.com/calendar/intro-level-1-class/2025-08-19/
LOCATION:Oasis Pickleball Club\, 5757 SH-205\, Rockwall\, TX\, 75032\, United States
ORGANIZER;CN="Oasis Pickleball Club":MAILTO:director@oasispickleballclub.com
END:VEVENT
BEGIN:VEVENT
DTSTART;TZID=America/Chicago:20250819T190000
DTEND;TZID=America/Chicago:20250819T210000
DTSTAMP:20260419T180348
CREATED:20241105T170636Z
LAST-MODIFIED:20241105T171123Z
UID:10004140-1755630000-1755637200@www.oasispickleballclub.com
SUMMARY:Round Robin
DESCRIPTION:
URL:https://www.oasispickleballclub.com/calendar/round-robin/2025-08-19/
LOCATION:Oasis Pickleball Club\, 5757 SH-205\, Rockwall\, TX\, 75032\, United States
ORGANIZER;CN="Oasis Pickleball Club":MAILTO:director@oasispickleballclub.com
END:VEVENT
BEGIN:VEVENT
DTSTART;TZID=America/Chicago:20250820T080000
DTEND;TZID=America/Chicago:20250820T120000
DTSTAMP:20260419T180348
CREATED:20241105T161206Z
LAST-MODIFIED:20241105T171025Z
UID:10002839-1755676800-1755691200@www.oasispickleballclub.com
SUMMARY:Open Play (All Levels) - Wednesday
DESCRIPTION:
URL:https://www.oasispickleballclub.com/calendar/open-play-all-levels-3/2025-08-20/
LOCATION:Oasis Pickleball Club\, 5757 SH-205\, Rockwall\, TX\, 75032\, United States
ORGANIZER;CN="Oasis Pickleball Club":MAILTO:director@oasispickleballclub.com
END:VEVENT
BEGIN:VEVENT
DTSTART;TZID=America/Chicago:20250821T080000
DTEND;TZID=America/Chicago:20250821T120000
DTSTAMP:20260419T180348
CREATED:20241105T161348Z
LAST-MODIFIED:20241105T171051Z
UID:10003099-1755763200-1755777600@www.oasispickleballclub.com
SUMMARY:Open Play (All Levels) - Thursday
DESCRIPTION:
URL:https://www.oasispickleballclub.com/calendar/open-play-all-levels-thursdays/2025-08-21/
LOCATION:Oasis Pickleball Club\, 5757 SH-205\, Rockwall\, TX\, 75032\, United States
ORGANIZER;CN="Oasis Pickleball Club":MAILTO:director@oasispickleballclub.com
END:VEVENT
BEGIN:VEVENT
DTSTART;TZID=America/Chicago:20250821T183000
DTEND;TZID=America/Chicago:20250821T210000
DTSTAMP:20260419T180348
CREATED:20241105T170951Z
LAST-MODIFIED:20241105T170951Z
UID:10004401-1755801000-1755810000@www.oasispickleballclub.com
SUMMARY:Advanced Night
DESCRIPTION:
URL:https://www.oasispickleballclub.com/calendar/advanced-night/2025-08-21/
LOCATION:Oasis Pickleball Club\, 5757 SH-205\, Rockwall\, TX\, 75032\, United States
ORGANIZER;CN="Oasis Pickleball Club":MAILTO:director@oasispickleballclub.com
END:VEVENT
BEGIN:VEVENT
DTSTART;TZID=America/Chicago:20250823T080000
DTEND;TZID=America/Chicago:20250823T200000
DTSTAMP:20260419T180348
CREATED:20241105T171457Z
LAST-MODIFIED:20251229T165047Z
UID:10004929-1755936000-1755979200@www.oasispickleballclub.com
SUMMARY:Open Play (All Levels) - Saturday
DESCRIPTION:
URL:https://www.oasispickleballclub.com/calendar/open-play-all-levels-4/2025-08-23/
LOCATION:Oasis Pickleball Club\, 5757 SH-205\, Rockwall\, TX\, 75032\, United States
ORGANIZER;CN="Oasis Pickleball Club":MAILTO:director@oasispickleballclub.com
END:VEVENT
BEGIN:VEVENT
DTSTART;TZID=America/Chicago:20250824T110000
DTEND;TZID=America/Chicago:20250824T190000
DTSTAMP:20260419T180348
CREATED:20241105T171813Z
LAST-MODIFIED:20251229T165035Z
UID:10005191-1756033200-1756062000@www.oasispickleballclub.com
SUMMARY:Open Play (All Levels) - Sunday
DESCRIPTION:
URL:https://www.oasispickleballclub.com/calendar/open-play-all-levels-5/2025-08-24/
LOCATION:Oasis Pickleball Club\, 5757 SH-205\, Rockwall\, TX\, 75032\, United States
ORGANIZER;CN="Oasis Pickleball Club":MAILTO:director@oasispickleballclub.com
END:VEVENT
BEGIN:VEVENT
DTSTART;TZID=America/Chicago:20250825T080000
DTEND;TZID=America/Chicago:20250825T120000
DTSTAMP:20260419T180348
CREATED:20241105T160654Z
LAST-MODIFIED:20241105T161655Z
UID:10000868-1756108800-1756123200@www.oasispickleballclub.com
SUMMARY:Open Play (All Levels) - Monday
DESCRIPTION:
URL:https://www.oasispickleballclub.com/calendar/open-play-all-levels/2025-08-25/
LOCATION:Oasis Pickleball Club\, 5757 SH-205\, Rockwall\, TX\, 75032\, United States
ORGANIZER;CN="Oasis Pickleball Club":MAILTO:director@oasispickleballclub.com
END:VEVENT
BEGIN:VEVENT
DTSTART;TZID=America/Chicago:20250825T183000
DTEND;TZID=America/Chicago:20250825T210000
DTSTAMP:20260419T180348
CREATED:20241105T162353Z
LAST-MODIFIED:20241105T162353Z
UID:10003360-1756146600-1756155600@www.oasispickleballclub.com
SUMMARY:Drills with Coach
DESCRIPTION:
URL:https://www.oasispickleballclub.com/calendar/drills-with-coach/2025-08-25/
LOCATION:Oasis Pickleball Club\, 5757 SH-205\, Rockwall\, TX\, 75032\, United States
ORGANIZER;CN="Oasis Pickleball Club":MAILTO:director@oasispickleballclub.com
END:VEVENT
END:VCALENDAR