BEGIN:VCALENDAR
VERSION:2.0
PRODID:-//Oasis Pickleball Club - ECPv6.15.13//NONSGML v1.0//EN
CALSCALE:GREGORIAN
METHOD:PUBLISH
X-ORIGINAL-URL:https://www.oasispickleballclub.com
X-WR-CALDESC:Events for Oasis Pickleball Club
REFRESH-INTERVAL;VALUE=DURATION:PT1H
X-Robots-Tag:noindex
X-PUBLISHED-TTL:PT1H
BEGIN:VTIMEZONE
TZID:America/Chicago
BEGIN:DAYLIGHT
TZOFFSETFROM:-0600
TZOFFSETTO:-0500
TZNAME:CDT
DTSTART:20240310T080000
END:DAYLIGHT
BEGIN:STANDARD
TZOFFSETFROM:-0500
TZOFFSETTO:-0600
TZNAME:CST
DTSTART:20241103T070000
END:STANDARD
BEGIN:DAYLIGHT
TZOFFSETFROM:-0600
TZOFFSETTO:-0500
TZNAME:CDT
DTSTART:20250309T080000
END:DAYLIGHT
BEGIN:STANDARD
TZOFFSETFROM:-0500
TZOFFSETTO:-0600
TZNAME:CST
DTSTART:20251102T070000
END:STANDARD
BEGIN:DAYLIGHT
TZOFFSETFROM:-0600
TZOFFSETTO:-0500
TZNAME:CDT
DTSTART:20260308T080000
END:DAYLIGHT
BEGIN:STANDARD
TZOFFSETFROM:-0500
TZOFFSETTO:-0600
TZNAME:CST
DTSTART:20261101T070000
END:STANDARD
END:VTIMEZONE
BEGIN:VEVENT
DTSTART;TZID=America/Chicago:20250908T183000
DTEND;TZID=America/Chicago:20250908T210000
DTSTAMP:20260420T030107
CREATED:20241105T162353Z
LAST-MODIFIED:20241105T162353Z
UID:10003362-1757356200-1757365200@www.oasispickleballclub.com
SUMMARY:Drills with Coach
DESCRIPTION:
URL:https://www.oasispickleballclub.com/calendar/drills-with-coach/2025-09-08/
LOCATION:Oasis Pickleball Club\, 5757 SH-205\, Rockwall\, TX\, 75032\, United States
ORGANIZER;CN="Oasis Pickleball Club":MAILTO:director@oasispickleballclub.com
END:VEVENT
BEGIN:VEVENT
DTSTART;TZID=America/Chicago:20250909T080000
DTEND;TZID=America/Chicago:20250909T120000
DTSTAMP:20260420T030107
CREATED:20241105T161042Z
LAST-MODIFIED:20241105T171229Z
UID:10002322-1757404800-1757419200@www.oasispickleballclub.com
SUMMARY:Open Play (All Levels) - Tuesday
DESCRIPTION:
URL:https://www.oasispickleballclub.com/calendar/open-play-all-levels-2/2025-09-09/
LOCATION:Oasis Pickleball Club\, 5757 SH-205\, Rockwall\, TX\, 75032\, United States
ORGANIZER;CN="Oasis Pickleball Club":MAILTO:director@oasispickleballclub.com
END:VEVENT
BEGIN:VEVENT
DTSTART;TZID=America/Chicago:20250909T180000
DTEND;TZID=America/Chicago:20250909T210000
DTSTAMP:20260420T030107
CREATED:20241105T170352Z
LAST-MODIFIED:20251229T172349Z
UID:10003623-1757440800-1757451600@www.oasispickleballclub.com
SUMMARY:Beginner Night
DESCRIPTION:
URL:https://www.oasispickleballclub.com/calendar/beginner-night/2025-09-09/
LOCATION:Oasis Pickleball Club\, 5757 SH-205\, Rockwall\, TX\, 75032\, United States
ORGANIZER;CN="Oasis Pickleball Club":MAILTO:director@oasispickleballclub.com
END:VEVENT
BEGIN:VEVENT
DTSTART;TZID=America/Chicago:20250909T190000
DTEND;TZID=America/Chicago:20250909T210000
DTSTAMP:20260420T030107
CREATED:20241105T170541Z
LAST-MODIFIED:20241105T171148Z
UID:10003883-1757444400-1757451600@www.oasispickleballclub.com
SUMMARY:Intro & Level 1 Class
DESCRIPTION:
URL:https://www.oasispickleballclub.com/calendar/intro-level-1-class/2025-09-09/
LOCATION:Oasis Pickleball Club\, 5757 SH-205\, Rockwall\, TX\, 75032\, United States
ORGANIZER;CN="Oasis Pickleball Club":MAILTO:director@oasispickleballclub.com
END:VEVENT
BEGIN:VEVENT
DTSTART;TZID=America/Chicago:20250909T190000
DTEND;TZID=America/Chicago:20250909T210000
DTSTAMP:20260420T030107
CREATED:20241105T170636Z
LAST-MODIFIED:20241105T171123Z
UID:10004143-1757444400-1757451600@www.oasispickleballclub.com
SUMMARY:Round Robin
DESCRIPTION:
URL:https://www.oasispickleballclub.com/calendar/round-robin/2025-09-09/
LOCATION:Oasis Pickleball Club\, 5757 SH-205\, Rockwall\, TX\, 75032\, United States
ORGANIZER;CN="Oasis Pickleball Club":MAILTO:director@oasispickleballclub.com
END:VEVENT
BEGIN:VEVENT
DTSTART;TZID=America/Chicago:20250910T080000
DTEND;TZID=America/Chicago:20250910T120000
DTSTAMP:20260420T030107
CREATED:20241105T161206Z
LAST-MODIFIED:20241105T171025Z
UID:10002842-1757491200-1757505600@www.oasispickleballclub.com
SUMMARY:Open Play (All Levels) - Wednesday
DESCRIPTION:
URL:https://www.oasispickleballclub.com/calendar/open-play-all-levels-3/2025-09-10/
LOCATION:Oasis Pickleball Club\, 5757 SH-205\, Rockwall\, TX\, 75032\, United States
ORGANIZER;CN="Oasis Pickleball Club":MAILTO:director@oasispickleballclub.com
END:VEVENT
BEGIN:VEVENT
DTSTART;TZID=America/Chicago:20250911T080000
DTEND;TZID=America/Chicago:20250911T120000
DTSTAMP:20260420T030107
CREATED:20241105T161348Z
LAST-MODIFIED:20241105T171051Z
UID:10003102-1757577600-1757592000@www.oasispickleballclub.com
SUMMARY:Open Play (All Levels) - Thursday
DESCRIPTION:
URL:https://www.oasispickleballclub.com/calendar/open-play-all-levels-thursdays/2025-09-11/
LOCATION:Oasis Pickleball Club\, 5757 SH-205\, Rockwall\, TX\, 75032\, United States
ORGANIZER;CN="Oasis Pickleball Club":MAILTO:director@oasispickleballclub.com
END:VEVENT
BEGIN:VEVENT
DTSTART;TZID=America/Chicago:20250911T183000
DTEND;TZID=America/Chicago:20250911T210000
DTSTAMP:20260420T030107
CREATED:20241105T170951Z
LAST-MODIFIED:20241105T170951Z
UID:10004404-1757615400-1757624400@www.oasispickleballclub.com
SUMMARY:Advanced Night
DESCRIPTION:
URL:https://www.oasispickleballclub.com/calendar/advanced-night/2025-09-11/
LOCATION:Oasis Pickleball Club\, 5757 SH-205\, Rockwall\, TX\, 75032\, United States
ORGANIZER;CN="Oasis Pickleball Club":MAILTO:director@oasispickleballclub.com
END:VEVENT
BEGIN:VEVENT
DTSTART;TZID=America/Chicago:20250913T080000
DTEND;TZID=America/Chicago:20250913T200000
DTSTAMP:20260420T030107
CREATED:20241105T171457Z
LAST-MODIFIED:20251229T165047Z
UID:10004932-1757750400-1757793600@www.oasispickleballclub.com
SUMMARY:Open Play (All Levels) - Saturday
DESCRIPTION:
URL:https://www.oasispickleballclub.com/calendar/open-play-all-levels-4/2025-09-13/
LOCATION:Oasis Pickleball Club\, 5757 SH-205\, Rockwall\, TX\, 75032\, United States
ORGANIZER;CN="Oasis Pickleball Club":MAILTO:director@oasispickleballclub.com
END:VEVENT
BEGIN:VEVENT
DTSTART;TZID=America/Chicago:20250914T110000
DTEND;TZID=America/Chicago:20250914T190000
DTSTAMP:20260420T030107
CREATED:20241105T171813Z
LAST-MODIFIED:20251229T165035Z
UID:10005194-1757847600-1757876400@www.oasispickleballclub.com
SUMMARY:Open Play (All Levels) - Sunday
DESCRIPTION:
URL:https://www.oasispickleballclub.com/calendar/open-play-all-levels-5/2025-09-14/
LOCATION:Oasis Pickleball Club\, 5757 SH-205\, Rockwall\, TX\, 75032\, United States
ORGANIZER;CN="Oasis Pickleball Club":MAILTO:director@oasispickleballclub.com
END:VEVENT
BEGIN:VEVENT
DTSTART;TZID=America/Chicago:20250915T080000
DTEND;TZID=America/Chicago:20250915T120000
DTSTAMP:20260420T030107
CREATED:20241105T160654Z
LAST-MODIFIED:20241105T161655Z
UID:10000046-1757923200-1757937600@www.oasispickleballclub.com
SUMMARY:Open Play (All Levels) - Monday
DESCRIPTION:
URL:https://www.oasispickleballclub.com/calendar/open-play-all-levels/2025-09-15/
LOCATION:Oasis Pickleball Club\, 5757 SH-205\, Rockwall\, TX\, 75032\, United States
ORGANIZER;CN="Oasis Pickleball Club":MAILTO:director@oasispickleballclub.com
END:VEVENT
BEGIN:VEVENT
DTSTART;TZID=America/Chicago:20250915T183000
DTEND;TZID=America/Chicago:20250915T210000
DTSTAMP:20260420T030107
CREATED:20241105T162353Z
LAST-MODIFIED:20241105T162353Z
UID:10003363-1757961000-1757970000@www.oasispickleballclub.com
SUMMARY:Drills with Coach
DESCRIPTION:
URL:https://www.oasispickleballclub.com/calendar/drills-with-coach/2025-09-15/
LOCATION:Oasis Pickleball Club\, 5757 SH-205\, Rockwall\, TX\, 75032\, United States
ORGANIZER;CN="Oasis Pickleball Club":MAILTO:director@oasispickleballclub.com
END:VEVENT
BEGIN:VEVENT
DTSTART;TZID=America/Chicago:20250916T080000
DTEND;TZID=America/Chicago:20250916T120000
DTSTAMP:20260420T030107
CREATED:20241105T161042Z
LAST-MODIFIED:20241105T171229Z
UID:10002323-1758009600-1758024000@www.oasispickleballclub.com
SUMMARY:Open Play (All Levels) - Tuesday
DESCRIPTION:
URL:https://www.oasispickleballclub.com/calendar/open-play-all-levels-2/2025-09-16/
LOCATION:Oasis Pickleball Club\, 5757 SH-205\, Rockwall\, TX\, 75032\, United States
ORGANIZER;CN="Oasis Pickleball Club":MAILTO:director@oasispickleballclub.com
END:VEVENT
BEGIN:VEVENT
DTSTART;TZID=America/Chicago:20250916T180000
DTEND;TZID=America/Chicago:20250916T210000
DTSTAMP:20260420T030107
CREATED:20241105T170352Z
LAST-MODIFIED:20251229T172349Z
UID:10003624-1758045600-1758056400@www.oasispickleballclub.com
SUMMARY:Beginner Night
DESCRIPTION:
URL:https://www.oasispickleballclub.com/calendar/beginner-night/2025-09-16/
LOCATION:Oasis Pickleball Club\, 5757 SH-205\, Rockwall\, TX\, 75032\, United States
ORGANIZER;CN="Oasis Pickleball Club":MAILTO:director@oasispickleballclub.com
END:VEVENT
BEGIN:VEVENT
DTSTART;TZID=America/Chicago:20250916T190000
DTEND;TZID=America/Chicago:20250916T210000
DTSTAMP:20260420T030107
CREATED:20241105T170541Z
LAST-MODIFIED:20241105T171148Z
UID:10003884-1758049200-1758056400@www.oasispickleballclub.com
SUMMARY:Intro & Level 1 Class
DESCRIPTION:
URL:https://www.oasispickleballclub.com/calendar/intro-level-1-class/2025-09-16/
LOCATION:Oasis Pickleball Club\, 5757 SH-205\, Rockwall\, TX\, 75032\, United States
ORGANIZER;CN="Oasis Pickleball Club":MAILTO:director@oasispickleballclub.com
END:VEVENT
BEGIN:VEVENT
DTSTART;TZID=America/Chicago:20250916T190000
DTEND;TZID=America/Chicago:20250916T210000
DTSTAMP:20260420T030107
CREATED:20241105T170636Z
LAST-MODIFIED:20241105T171123Z
UID:10004144-1758049200-1758056400@www.oasispickleballclub.com
SUMMARY:Round Robin
DESCRIPTION:
URL:https://www.oasispickleballclub.com/calendar/round-robin/2025-09-16/
LOCATION:Oasis Pickleball Club\, 5757 SH-205\, Rockwall\, TX\, 75032\, United States
ORGANIZER;CN="Oasis Pickleball Club":MAILTO:director@oasispickleballclub.com
END:VEVENT
BEGIN:VEVENT
DTSTART;TZID=America/Chicago:20250917T080000
DTEND;TZID=America/Chicago:20250917T120000
DTSTAMP:20260420T030107
CREATED:20241105T161206Z
LAST-MODIFIED:20241105T171025Z
UID:10002843-1758096000-1758110400@www.oasispickleballclub.com
SUMMARY:Open Play (All Levels) - Wednesday
DESCRIPTION:
URL:https://www.oasispickleballclub.com/calendar/open-play-all-levels-3/2025-09-17/
LOCATION:Oasis Pickleball Club\, 5757 SH-205\, Rockwall\, TX\, 75032\, United States
ORGANIZER;CN="Oasis Pickleball Club":MAILTO:director@oasispickleballclub.com
END:VEVENT
BEGIN:VEVENT
DTSTART;TZID=America/Chicago:20250918T080000
DTEND;TZID=America/Chicago:20250918T120000
DTSTAMP:20260420T030107
CREATED:20241105T161348Z
LAST-MODIFIED:20241105T171051Z
UID:10003103-1758182400-1758196800@www.oasispickleballclub.com
SUMMARY:Open Play (All Levels) - Thursday
DESCRIPTION:
URL:https://www.oasispickleballclub.com/calendar/open-play-all-levels-thursdays/2025-09-18/
LOCATION:Oasis Pickleball Club\, 5757 SH-205\, Rockwall\, TX\, 75032\, United States
ORGANIZER;CN="Oasis Pickleball Club":MAILTO:director@oasispickleballclub.com
END:VEVENT
BEGIN:VEVENT
DTSTART;TZID=America/Chicago:20250918T183000
DTEND;TZID=America/Chicago:20250918T210000
DTSTAMP:20260420T030107
CREATED:20241105T170951Z
LAST-MODIFIED:20241105T170951Z
UID:10004405-1758220200-1758229200@www.oasispickleballclub.com
SUMMARY:Advanced Night
DESCRIPTION:
URL:https://www.oasispickleballclub.com/calendar/advanced-night/2025-09-18/
LOCATION:Oasis Pickleball Club\, 5757 SH-205\, Rockwall\, TX\, 75032\, United States
ORGANIZER;CN="Oasis Pickleball Club":MAILTO:director@oasispickleballclub.com
END:VEVENT
BEGIN:VEVENT
DTSTART;TZID=America/Chicago:20250919T080000
DTEND;TZID=America/Chicago:20250921T170000
DTSTAMP:20260420T030107
CREATED:20250406T154836Z
LAST-MODIFIED:20250406T154836Z
UID:10005434-1758268800-1758474000@www.oasispickleballclub.com
SUMMARY:2025 USSP South Regional Championship
DESCRIPTION:
URL:https://www.oasispickleballclub.com/calendar/2025-ussp-south-regional-championship/
LOCATION:Oasis Pickleball Club\, 5757 SH-205\, Rockwall\, TX\, 75032\, United States
ORGANIZER;CN="Oasis Pickleball Club":MAILTO:director@oasispickleballclub.com
END:VEVENT
BEGIN:VEVENT
DTSTART;TZID=America/Chicago:20250920T080000
DTEND;TZID=America/Chicago:20250920T200000
DTSTAMP:20260420T030107
CREATED:20241105T171457Z
LAST-MODIFIED:20251229T165047Z
UID:10004933-1758355200-1758398400@www.oasispickleballclub.com
SUMMARY:Open Play (All Levels) - Saturday
DESCRIPTION:
URL:https://www.oasispickleballclub.com/calendar/open-play-all-levels-4/2025-09-20/
LOCATION:Oasis Pickleball Club\, 5757 SH-205\, Rockwall\, TX\, 75032\, United States
ORGANIZER;CN="Oasis Pickleball Club":MAILTO:director@oasispickleballclub.com
END:VEVENT
BEGIN:VEVENT
DTSTART;TZID=America/Chicago:20250921T110000
DTEND;TZID=America/Chicago:20250921T190000
DTSTAMP:20260420T030107
CREATED:20241105T171813Z
LAST-MODIFIED:20251229T165035Z
UID:10005195-1758452400-1758481200@www.oasispickleballclub.com
SUMMARY:Open Play (All Levels) - Sunday
DESCRIPTION:
URL:https://www.oasispickleballclub.com/calendar/open-play-all-levels-5/2025-09-21/
LOCATION:Oasis Pickleball Club\, 5757 SH-205\, Rockwall\, TX\, 75032\, United States
ORGANIZER;CN="Oasis Pickleball Club":MAILTO:director@oasispickleballclub.com
END:VEVENT
BEGIN:VEVENT
DTSTART;TZID=America/Chicago:20250922T080000
DTEND;TZID=America/Chicago:20250922T120000
DTSTAMP:20260420T030107
CREATED:20241105T160654Z
LAST-MODIFIED:20241105T161655Z
UID:10000889-1758528000-1758542400@www.oasispickleballclub.com
SUMMARY:Open Play (All Levels) - Monday
DESCRIPTION:
URL:https://www.oasispickleballclub.com/calendar/open-play-all-levels/2025-09-22/
LOCATION:Oasis Pickleball Club\, 5757 SH-205\, Rockwall\, TX\, 75032\, United States
ORGANIZER;CN="Oasis Pickleball Club":MAILTO:director@oasispickleballclub.com
END:VEVENT
BEGIN:VEVENT
DTSTART;TZID=America/Chicago:20250922T183000
DTEND;TZID=America/Chicago:20250922T210000
DTSTAMP:20260420T030107
CREATED:20241105T162353Z
LAST-MODIFIED:20241105T162353Z
UID:10003364-1758565800-1758574800@www.oasispickleballclub.com
SUMMARY:Drills with Coach
DESCRIPTION:
URL:https://www.oasispickleballclub.com/calendar/drills-with-coach/2025-09-22/
LOCATION:Oasis Pickleball Club\, 5757 SH-205\, Rockwall\, TX\, 75032\, United States
ORGANIZER;CN="Oasis Pickleball Club":MAILTO:director@oasispickleballclub.com
END:VEVENT
BEGIN:VEVENT
DTSTART;TZID=America/Chicago:20250923T080000
DTEND;TZID=America/Chicago:20250923T120000
DTSTAMP:20260420T030107
CREATED:20241105T161042Z
LAST-MODIFIED:20241105T171229Z
UID:10002324-1758614400-1758628800@www.oasispickleballclub.com
SUMMARY:Open Play (All Levels) - Tuesday
DESCRIPTION:
URL:https://www.oasispickleballclub.com/calendar/open-play-all-levels-2/2025-09-23/
LOCATION:Oasis Pickleball Club\, 5757 SH-205\, Rockwall\, TX\, 75032\, United States
ORGANIZER;CN="Oasis Pickleball Club":MAILTO:director@oasispickleballclub.com
END:VEVENT
BEGIN:VEVENT
DTSTART;TZID=America/Chicago:20250923T180000
DTEND;TZID=America/Chicago:20250923T210000
DTSTAMP:20260420T030107
CREATED:20241105T170352Z
LAST-MODIFIED:20251229T172349Z
UID:10003625-1758650400-1758661200@www.oasispickleballclub.com
SUMMARY:Beginner Night
DESCRIPTION:
URL:https://www.oasispickleballclub.com/calendar/beginner-night/2025-09-23/
LOCATION:Oasis Pickleball Club\, 5757 SH-205\, Rockwall\, TX\, 75032\, United States
ORGANIZER;CN="Oasis Pickleball Club":MAILTO:director@oasispickleballclub.com
END:VEVENT
BEGIN:VEVENT
DTSTART;TZID=America/Chicago:20250923T190000
DTEND;TZID=America/Chicago:20250923T210000
DTSTAMP:20260420T030107
CREATED:20241105T170541Z
LAST-MODIFIED:20241105T171148Z
UID:10003885-1758654000-1758661200@www.oasispickleballclub.com
SUMMARY:Intro & Level 1 Class
DESCRIPTION:
URL:https://www.oasispickleballclub.com/calendar/intro-level-1-class/2025-09-23/
LOCATION:Oasis Pickleball Club\, 5757 SH-205\, Rockwall\, TX\, 75032\, United States
ORGANIZER;CN="Oasis Pickleball Club":MAILTO:director@oasispickleballclub.com
END:VEVENT
BEGIN:VEVENT
DTSTART;TZID=America/Chicago:20250923T190000
DTEND;TZID=America/Chicago:20250923T210000
DTSTAMP:20260420T030107
CREATED:20241105T170636Z
LAST-MODIFIED:20241105T171123Z
UID:10004145-1758654000-1758661200@www.oasispickleballclub.com
SUMMARY:Round Robin
DESCRIPTION:
URL:https://www.oasispickleballclub.com/calendar/round-robin/2025-09-23/
LOCATION:Oasis Pickleball Club\, 5757 SH-205\, Rockwall\, TX\, 75032\, United States
ORGANIZER;CN="Oasis Pickleball Club":MAILTO:director@oasispickleballclub.com
END:VEVENT
BEGIN:VEVENT
DTSTART;TZID=America/Chicago:20250924T080000
DTEND;TZID=America/Chicago:20250924T120000
DTSTAMP:20260420T030107
CREATED:20241105T161206Z
LAST-MODIFIED:20241105T171025Z
UID:10002844-1758700800-1758715200@www.oasispickleballclub.com
SUMMARY:Open Play (All Levels) - Wednesday
DESCRIPTION:
URL:https://www.oasispickleballclub.com/calendar/open-play-all-levels-3/2025-09-24/
LOCATION:Oasis Pickleball Club\, 5757 SH-205\, Rockwall\, TX\, 75032\, United States
ORGANIZER;CN="Oasis Pickleball Club":MAILTO:director@oasispickleballclub.com
END:VEVENT
BEGIN:VEVENT
DTSTART;TZID=America/Chicago:20250925T080000
DTEND;TZID=America/Chicago:20250925T120000
DTSTAMP:20260420T030107
CREATED:20241105T161348Z
LAST-MODIFIED:20241105T171051Z
UID:10003104-1758787200-1758801600@www.oasispickleballclub.com
SUMMARY:Open Play (All Levels) - Thursday
DESCRIPTION:
URL:https://www.oasispickleballclub.com/calendar/open-play-all-levels-thursdays/2025-09-25/
LOCATION:Oasis Pickleball Club\, 5757 SH-205\, Rockwall\, TX\, 75032\, United States
ORGANIZER;CN="Oasis Pickleball Club":MAILTO:director@oasispickleballclub.com
END:VEVENT
END:VCALENDAR