BEGIN:VCALENDAR
VERSION:2.0
PRODID:-//Oasis Pickleball Club - ECPv6.15.13//NONSGML v1.0//EN
CALSCALE:GREGORIAN
METHOD:PUBLISH
X-WR-CALNAME:Oasis Pickleball Club
X-ORIGINAL-URL:https://www.oasispickleballclub.com
X-WR-CALDESC:Events for Oasis Pickleball Club
REFRESH-INTERVAL;VALUE=DURATION:PT1H
X-Robots-Tag:noindex
X-PUBLISHED-TTL:PT1H
BEGIN:VTIMEZONE
TZID:America/Chicago
BEGIN:DAYLIGHT
TZOFFSETFROM:-0600
TZOFFSETTO:-0500
TZNAME:CDT
DTSTART:20240310T080000
END:DAYLIGHT
BEGIN:STANDARD
TZOFFSETFROM:-0500
TZOFFSETTO:-0600
TZNAME:CST
DTSTART:20241103T070000
END:STANDARD
BEGIN:DAYLIGHT
TZOFFSETFROM:-0600
TZOFFSETTO:-0500
TZNAME:CDT
DTSTART:20250309T080000
END:DAYLIGHT
BEGIN:STANDARD
TZOFFSETFROM:-0500
TZOFFSETTO:-0600
TZNAME:CST
DTSTART:20251102T070000
END:STANDARD
BEGIN:DAYLIGHT
TZOFFSETFROM:-0600
TZOFFSETTO:-0500
TZNAME:CDT
DTSTART:20260308T080000
END:DAYLIGHT
BEGIN:STANDARD
TZOFFSETFROM:-0500
TZOFFSETTO:-0600
TZNAME:CST
DTSTART:20261101T070000
END:STANDARD
END:VTIMEZONE
BEGIN:VEVENT
DTSTART;TZID=America/Chicago:20251106T080000
DTEND;TZID=America/Chicago:20251106T120000
DTSTAMP:20260420T203204
CREATED:20241105T161348Z
LAST-MODIFIED:20241105T171051Z
UID:10003110-1762416000-1762430400@www.oasispickleballclub.com
SUMMARY:Open Play (All Levels) - Thursday
DESCRIPTION:
URL:https://www.oasispickleballclub.com/calendar/open-play-all-levels-thursdays/2025-11-06/
LOCATION:Oasis Pickleball Club\, 5757 SH-205\, Rockwall\, TX\, 75032\, United States
ORGANIZER;CN="Oasis Pickleball Club":MAILTO:director@oasispickleballclub.com
END:VEVENT
BEGIN:VEVENT
DTSTART;TZID=America/Chicago:20251106T183000
DTEND;TZID=America/Chicago:20251106T210000
DTSTAMP:20260420T203204
CREATED:20241105T170951Z
LAST-MODIFIED:20241105T170951Z
UID:10004412-1762453800-1762462800@www.oasispickleballclub.com
SUMMARY:Advanced Night
DESCRIPTION:
URL:https://www.oasispickleballclub.com/calendar/advanced-night/2025-11-06/
LOCATION:Oasis Pickleball Club\, 5757 SH-205\, Rockwall\, TX\, 75032\, United States
ORGANIZER;CN="Oasis Pickleball Club":MAILTO:director@oasispickleballclub.com
END:VEVENT
BEGIN:VEVENT
DTSTART;TZID=America/Chicago:20251108T080000
DTEND;TZID=America/Chicago:20251108T200000
DTSTAMP:20260420T203204
CREATED:20241105T171457Z
LAST-MODIFIED:20251229T165047Z
UID:10004940-1762588800-1762632000@www.oasispickleballclub.com
SUMMARY:Open Play (All Levels) - Saturday
DESCRIPTION:
URL:https://www.oasispickleballclub.com/calendar/open-play-all-levels-4/2025-11-08/
LOCATION:Oasis Pickleball Club\, 5757 SH-205\, Rockwall\, TX\, 75032\, United States
ORGANIZER;CN="Oasis Pickleball Club":MAILTO:director@oasispickleballclub.com
END:VEVENT
BEGIN:VEVENT
DTSTART;TZID=America/Chicago:20251109T110000
DTEND;TZID=America/Chicago:20251109T190000
DTSTAMP:20260420T203204
CREATED:20241105T171813Z
LAST-MODIFIED:20251229T165035Z
UID:10005202-1762686000-1762714800@www.oasispickleballclub.com
SUMMARY:Open Play (All Levels) - Sunday
DESCRIPTION:
URL:https://www.oasispickleballclub.com/calendar/open-play-all-levels-5/2025-11-09/
LOCATION:Oasis Pickleball Club\, 5757 SH-205\, Rockwall\, TX\, 75032\, United States
ORGANIZER;CN="Oasis Pickleball Club":MAILTO:director@oasispickleballclub.com
END:VEVENT
BEGIN:VEVENT
DTSTART;TZID=America/Chicago:20251110T080000
DTEND;TZID=America/Chicago:20251110T120000
DTSTAMP:20260420T203204
CREATED:20241105T160654Z
LAST-MODIFIED:20241105T161655Z
UID:10000054-1762761600-1762776000@www.oasispickleballclub.com
SUMMARY:Open Play (All Levels) - Monday
DESCRIPTION:
URL:https://www.oasispickleballclub.com/calendar/open-play-all-levels/2025-11-10/
LOCATION:Oasis Pickleball Club\, 5757 SH-205\, Rockwall\, TX\, 75032\, United States
ORGANIZER;CN="Oasis Pickleball Club":MAILTO:director@oasispickleballclub.com
END:VEVENT
BEGIN:VEVENT
DTSTART;TZID=America/Chicago:20251110T080000
DTEND;TZID=America/Chicago:20251111T170000
DTSTAMP:20260420T203204
CREATED:20250312T134117Z
LAST-MODIFIED:20250312T134117Z
UID:10005428-1762761600-1762880400@www.oasispickleballclub.com
SUMMARY:Tyson McGuffin Camp
DESCRIPTION:
URL:https://www.oasispickleballclub.com/calendar/tyson-mcguffin-camp-2/
LOCATION:Oasis Pickleball Club\, 5757 SH-205\, Rockwall\, TX\, 75032\, United States
ORGANIZER;CN="Oasis Pickleball Club":MAILTO:director@oasispickleballclub.com
END:VEVENT
BEGIN:VEVENT
DTSTART;TZID=America/Chicago:20251110T183000
DTEND;TZID=America/Chicago:20251110T210000
DTSTAMP:20260420T203204
CREATED:20241105T162353Z
LAST-MODIFIED:20241105T162353Z
UID:10003371-1762799400-1762808400@www.oasispickleballclub.com
SUMMARY:Drills with Coach
DESCRIPTION:
URL:https://www.oasispickleballclub.com/calendar/drills-with-coach/2025-11-10/
LOCATION:Oasis Pickleball Club\, 5757 SH-205\, Rockwall\, TX\, 75032\, United States
ORGANIZER;CN="Oasis Pickleball Club":MAILTO:director@oasispickleballclub.com
END:VEVENT
BEGIN:VEVENT
DTSTART;TZID=America/Chicago:20251111T080000
DTEND;TZID=America/Chicago:20251111T120000
DTSTAMP:20260420T203204
CREATED:20241105T161042Z
LAST-MODIFIED:20241105T171229Z
UID:10002331-1762848000-1762862400@www.oasispickleballclub.com
SUMMARY:Open Play (All Levels) - Tuesday
DESCRIPTION:
URL:https://www.oasispickleballclub.com/calendar/open-play-all-levels-2/2025-11-11/
LOCATION:Oasis Pickleball Club\, 5757 SH-205\, Rockwall\, TX\, 75032\, United States
ORGANIZER;CN="Oasis Pickleball Club":MAILTO:director@oasispickleballclub.com
END:VEVENT
BEGIN:VEVENT
DTSTART;TZID=America/Chicago:20251111T180000
DTEND;TZID=America/Chicago:20251111T210000
DTSTAMP:20260420T203204
CREATED:20241105T170352Z
LAST-MODIFIED:20251229T172349Z
UID:10003632-1762884000-1762894800@www.oasispickleballclub.com
SUMMARY:Beginner Night
DESCRIPTION:
URL:https://www.oasispickleballclub.com/calendar/beginner-night/2025-11-11/
LOCATION:Oasis Pickleball Club\, 5757 SH-205\, Rockwall\, TX\, 75032\, United States
ORGANIZER;CN="Oasis Pickleball Club":MAILTO:director@oasispickleballclub.com
END:VEVENT
BEGIN:VEVENT
DTSTART;TZID=America/Chicago:20251111T190000
DTEND;TZID=America/Chicago:20251111T210000
DTSTAMP:20260420T203204
CREATED:20241105T170541Z
LAST-MODIFIED:20241105T171148Z
UID:10003892-1762887600-1762894800@www.oasispickleballclub.com
SUMMARY:Intro & Level 1 Class
DESCRIPTION:
URL:https://www.oasispickleballclub.com/calendar/intro-level-1-class/2025-11-11/
LOCATION:Oasis Pickleball Club\, 5757 SH-205\, Rockwall\, TX\, 75032\, United States
ORGANIZER;CN="Oasis Pickleball Club":MAILTO:director@oasispickleballclub.com
END:VEVENT
BEGIN:VEVENT
DTSTART;TZID=America/Chicago:20251111T190000
DTEND;TZID=America/Chicago:20251111T210000
DTSTAMP:20260420T203204
CREATED:20241105T170636Z
LAST-MODIFIED:20241105T171123Z
UID:10004152-1762887600-1762894800@www.oasispickleballclub.com
SUMMARY:Round Robin
DESCRIPTION:
URL:https://www.oasispickleballclub.com/calendar/round-robin/2025-11-11/
LOCATION:Oasis Pickleball Club\, 5757 SH-205\, Rockwall\, TX\, 75032\, United States
ORGANIZER;CN="Oasis Pickleball Club":MAILTO:director@oasispickleballclub.com
END:VEVENT
BEGIN:VEVENT
DTSTART;TZID=America/Chicago:20251112T080000
DTEND;TZID=America/Chicago:20251112T120000
DTSTAMP:20260420T203204
CREATED:20241105T161206Z
LAST-MODIFIED:20241105T171025Z
UID:10002851-1762934400-1762948800@www.oasispickleballclub.com
SUMMARY:Open Play (All Levels) - Wednesday
DESCRIPTION:
URL:https://www.oasispickleballclub.com/calendar/open-play-all-levels-3/2025-11-12/
LOCATION:Oasis Pickleball Club\, 5757 SH-205\, Rockwall\, TX\, 75032\, United States
ORGANIZER;CN="Oasis Pickleball Club":MAILTO:director@oasispickleballclub.com
END:VEVENT
BEGIN:VEVENT
DTSTART;TZID=America/Chicago:20251113T080000
DTEND;TZID=America/Chicago:20251113T120000
DTSTAMP:20260420T203204
CREATED:20241105T161348Z
LAST-MODIFIED:20241105T171051Z
UID:10003111-1763020800-1763035200@www.oasispickleballclub.com
SUMMARY:Open Play (All Levels) - Thursday
DESCRIPTION:
URL:https://www.oasispickleballclub.com/calendar/open-play-all-levels-thursdays/2025-11-13/
LOCATION:Oasis Pickleball Club\, 5757 SH-205\, Rockwall\, TX\, 75032\, United States
ORGANIZER;CN="Oasis Pickleball Club":MAILTO:director@oasispickleballclub.com
END:VEVENT
BEGIN:VEVENT
DTSTART;TZID=America/Chicago:20251113T183000
DTEND;TZID=America/Chicago:20251113T210000
DTSTAMP:20260420T203204
CREATED:20241105T170951Z
LAST-MODIFIED:20241105T170951Z
UID:10004413-1763058600-1763067600@www.oasispickleballclub.com
SUMMARY:Advanced Night
DESCRIPTION:
URL:https://www.oasispickleballclub.com/calendar/advanced-night/2025-11-13/
LOCATION:Oasis Pickleball Club\, 5757 SH-205\, Rockwall\, TX\, 75032\, United States
ORGANIZER;CN="Oasis Pickleball Club":MAILTO:director@oasispickleballclub.com
END:VEVENT
BEGIN:VEVENT
DTSTART;TZID=America/Chicago:20251114T080000
DTEND;TZID=America/Chicago:20251116T170000
DTSTAMP:20260420T203204
CREATED:20250707T150239Z
LAST-MODIFIED:20250707T150239Z
UID:10005439-1763107200-1763312400@www.oasispickleballclub.com
SUMMARY:2025 Oasis Versix Open by PIG
DESCRIPTION:
URL:https://www.oasispickleballclub.com/calendar/2025-oasis-versix-open-by-pig/
LOCATION:Oasis Pickleball Club\, 5757 SH-205\, Rockwall\, TX\, 75032\, United States
END:VEVENT
BEGIN:VEVENT
DTSTART;TZID=America/Chicago:20251114T080000
DTEND;TZID=America/Chicago:20251116T170000
DTSTAMP:20260420T203204
CREATED:20251028T191624Z
LAST-MODIFIED:20251028T191624Z
UID:10005483-1763107200-1763312400@www.oasispickleballclub.com
SUMMARY:2025 Oasis Versix Open by PIG
DESCRIPTION:
URL:https://www.oasispickleballclub.com/calendar/2025-oasis-versix-open-by-pig-2/
LOCATION:Oasis Pickleball Club\, 5757 SH-205\, Rockwall\, TX\, 75032\, United States
END:VEVENT
BEGIN:VEVENT
DTSTART;TZID=America/Chicago:20251115T080000
DTEND;TZID=America/Chicago:20251115T200000
DTSTAMP:20260420T203204
CREATED:20241105T171457Z
LAST-MODIFIED:20251229T165047Z
UID:10004941-1763193600-1763236800@www.oasispickleballclub.com
SUMMARY:Open Play (All Levels) - Saturday
DESCRIPTION:
URL:https://www.oasispickleballclub.com/calendar/open-play-all-levels-4/2025-11-15/
LOCATION:Oasis Pickleball Club\, 5757 SH-205\, Rockwall\, TX\, 75032\, United States
ORGANIZER;CN="Oasis Pickleball Club":MAILTO:director@oasispickleballclub.com
END:VEVENT
BEGIN:VEVENT
DTSTART;TZID=America/Chicago:20251116T110000
DTEND;TZID=America/Chicago:20251116T190000
DTSTAMP:20260420T203204
CREATED:20241105T171813Z
LAST-MODIFIED:20251229T165035Z
UID:10005203-1763290800-1763319600@www.oasispickleballclub.com
SUMMARY:Open Play (All Levels) - Sunday
DESCRIPTION:
URL:https://www.oasispickleballclub.com/calendar/open-play-all-levels-5/2025-11-16/
LOCATION:Oasis Pickleball Club\, 5757 SH-205\, Rockwall\, TX\, 75032\, United States
ORGANIZER;CN="Oasis Pickleball Club":MAILTO:director@oasispickleballclub.com
END:VEVENT
BEGIN:VEVENT
DTSTART;TZID=America/Chicago:20251117T080000
DTEND;TZID=America/Chicago:20251117T120000
DTSTAMP:20260420T203204
CREATED:20241105T160654Z
LAST-MODIFIED:20241105T161655Z
UID:10000931-1763366400-1763380800@www.oasispickleballclub.com
SUMMARY:Open Play (All Levels) - Monday
DESCRIPTION:
URL:https://www.oasispickleballclub.com/calendar/open-play-all-levels/2025-11-17/
LOCATION:Oasis Pickleball Club\, 5757 SH-205\, Rockwall\, TX\, 75032\, United States
ORGANIZER;CN="Oasis Pickleball Club":MAILTO:director@oasispickleballclub.com
END:VEVENT
BEGIN:VEVENT
DTSTART;TZID=America/Chicago:20251117T183000
DTEND;TZID=America/Chicago:20251117T210000
DTSTAMP:20260420T203204
CREATED:20241105T162353Z
LAST-MODIFIED:20241105T162353Z
UID:10003372-1763404200-1763413200@www.oasispickleballclub.com
SUMMARY:Drills with Coach
DESCRIPTION:
URL:https://www.oasispickleballclub.com/calendar/drills-with-coach/2025-11-17/
LOCATION:Oasis Pickleball Club\, 5757 SH-205\, Rockwall\, TX\, 75032\, United States
ORGANIZER;CN="Oasis Pickleball Club":MAILTO:director@oasispickleballclub.com
END:VEVENT
BEGIN:VEVENT
DTSTART;TZID=America/Chicago:20251118T080000
DTEND;TZID=America/Chicago:20251118T120000
DTSTAMP:20260420T203204
CREATED:20241105T161042Z
LAST-MODIFIED:20241105T171229Z
UID:10002332-1763452800-1763467200@www.oasispickleballclub.com
SUMMARY:Open Play (All Levels) - Tuesday
DESCRIPTION:
URL:https://www.oasispickleballclub.com/calendar/open-play-all-levels-2/2025-11-18/
LOCATION:Oasis Pickleball Club\, 5757 SH-205\, Rockwall\, TX\, 75032\, United States
ORGANIZER;CN="Oasis Pickleball Club":MAILTO:director@oasispickleballclub.com
END:VEVENT
BEGIN:VEVENT
DTSTART;TZID=America/Chicago:20251118T180000
DTEND;TZID=America/Chicago:20251118T210000
DTSTAMP:20260420T203204
CREATED:20241105T170352Z
LAST-MODIFIED:20251229T172349Z
UID:10003633-1763488800-1763499600@www.oasispickleballclub.com
SUMMARY:Beginner Night
DESCRIPTION:
URL:https://www.oasispickleballclub.com/calendar/beginner-night/2025-11-18/
LOCATION:Oasis Pickleball Club\, 5757 SH-205\, Rockwall\, TX\, 75032\, United States
ORGANIZER;CN="Oasis Pickleball Club":MAILTO:director@oasispickleballclub.com
END:VEVENT
BEGIN:VEVENT
DTSTART;TZID=America/Chicago:20251118T190000
DTEND;TZID=America/Chicago:20251118T210000
DTSTAMP:20260420T203204
CREATED:20241105T170541Z
LAST-MODIFIED:20241105T171148Z
UID:10003893-1763492400-1763499600@www.oasispickleballclub.com
SUMMARY:Intro & Level 1 Class
DESCRIPTION:
URL:https://www.oasispickleballclub.com/calendar/intro-level-1-class/2025-11-18/
LOCATION:Oasis Pickleball Club\, 5757 SH-205\, Rockwall\, TX\, 75032\, United States
ORGANIZER;CN="Oasis Pickleball Club":MAILTO:director@oasispickleballclub.com
END:VEVENT
BEGIN:VEVENT
DTSTART;TZID=America/Chicago:20251118T190000
DTEND;TZID=America/Chicago:20251118T210000
DTSTAMP:20260420T203204
CREATED:20241105T170636Z
LAST-MODIFIED:20241105T171123Z
UID:10004153-1763492400-1763499600@www.oasispickleballclub.com
SUMMARY:Round Robin
DESCRIPTION:
URL:https://www.oasispickleballclub.com/calendar/round-robin/2025-11-18/
LOCATION:Oasis Pickleball Club\, 5757 SH-205\, Rockwall\, TX\, 75032\, United States
ORGANIZER;CN="Oasis Pickleball Club":MAILTO:director@oasispickleballclub.com
END:VEVENT
BEGIN:VEVENT
DTSTART;TZID=America/Chicago:20251119T080000
DTEND;TZID=America/Chicago:20251119T120000
DTSTAMP:20260420T203204
CREATED:20241105T161206Z
LAST-MODIFIED:20241105T171025Z
UID:10002852-1763539200-1763553600@www.oasispickleballclub.com
SUMMARY:Open Play (All Levels) - Wednesday
DESCRIPTION:
URL:https://www.oasispickleballclub.com/calendar/open-play-all-levels-3/2025-11-19/
LOCATION:Oasis Pickleball Club\, 5757 SH-205\, Rockwall\, TX\, 75032\, United States
ORGANIZER;CN="Oasis Pickleball Club":MAILTO:director@oasispickleballclub.com
END:VEVENT
BEGIN:VEVENT
DTSTART;TZID=America/Chicago:20251120T080000
DTEND;TZID=America/Chicago:20251120T120000
DTSTAMP:20260420T203204
CREATED:20241105T161348Z
LAST-MODIFIED:20241105T171051Z
UID:10003112-1763625600-1763640000@www.oasispickleballclub.com
SUMMARY:Open Play (All Levels) - Thursday
DESCRIPTION:
URL:https://www.oasispickleballclub.com/calendar/open-play-all-levels-thursdays/2025-11-20/
LOCATION:Oasis Pickleball Club\, 5757 SH-205\, Rockwall\, TX\, 75032\, United States
ORGANIZER;CN="Oasis Pickleball Club":MAILTO:director@oasispickleballclub.com
END:VEVENT
BEGIN:VEVENT
DTSTART;TZID=America/Chicago:20251120T183000
DTEND;TZID=America/Chicago:20251120T210000
DTSTAMP:20260420T203204
CREATED:20241105T170951Z
LAST-MODIFIED:20241105T170951Z
UID:10004414-1763663400-1763672400@www.oasispickleballclub.com
SUMMARY:Advanced Night
DESCRIPTION:
URL:https://www.oasispickleballclub.com/calendar/advanced-night/2025-11-20/
LOCATION:Oasis Pickleball Club\, 5757 SH-205\, Rockwall\, TX\, 75032\, United States
ORGANIZER;CN="Oasis Pickleball Club":MAILTO:director@oasispickleballclub.com
END:VEVENT
BEGIN:VEVENT
DTSTART;TZID=America/Chicago:20251122T080000
DTEND;TZID=America/Chicago:20251122T200000
DTSTAMP:20260420T203204
CREATED:20241105T171457Z
LAST-MODIFIED:20251229T165047Z
UID:10004942-1763798400-1763841600@www.oasispickleballclub.com
SUMMARY:Open Play (All Levels) - Saturday
DESCRIPTION:
URL:https://www.oasispickleballclub.com/calendar/open-play-all-levels-4/2025-11-22/
LOCATION:Oasis Pickleball Club\, 5757 SH-205\, Rockwall\, TX\, 75032\, United States
ORGANIZER;CN="Oasis Pickleball Club":MAILTO:director@oasispickleballclub.com
END:VEVENT
BEGIN:VEVENT
DTSTART;TZID=America/Chicago:20251123T110000
DTEND;TZID=America/Chicago:20251123T190000
DTSTAMP:20260420T203204
CREATED:20241105T171813Z
LAST-MODIFIED:20251229T165035Z
UID:10005204-1763895600-1763924400@www.oasispickleballclub.com
SUMMARY:Open Play (All Levels) - Sunday
DESCRIPTION:
URL:https://www.oasispickleballclub.com/calendar/open-play-all-levels-5/2025-11-23/
LOCATION:Oasis Pickleball Club\, 5757 SH-205\, Rockwall\, TX\, 75032\, United States
ORGANIZER;CN="Oasis Pickleball Club":MAILTO:director@oasispickleballclub.com
END:VEVENT
BEGIN:VEVENT
DTSTART;TZID=America/Chicago:20251124T080000
DTEND;TZID=America/Chicago:20251124T120000
DTSTAMP:20260420T203204
CREATED:20241105T160654Z
LAST-MODIFIED:20241105T161655Z
UID:10000936-1763971200-1763985600@www.oasispickleballclub.com
SUMMARY:Open Play (All Levels) - Monday
DESCRIPTION:
URL:https://www.oasispickleballclub.com/calendar/open-play-all-levels/2025-11-24/
LOCATION:Oasis Pickleball Club\, 5757 SH-205\, Rockwall\, TX\, 75032\, United States
ORGANIZER;CN="Oasis Pickleball Club":MAILTO:director@oasispickleballclub.com
END:VEVENT
END:VCALENDAR