BEGIN:VCALENDAR
VERSION:2.0
PRODID:-//Oasis Pickleball Club - ECPv6.15.13//NONSGML v1.0//EN
CALSCALE:GREGORIAN
METHOD:PUBLISH
X-WR-CALNAME:Oasis Pickleball Club
X-ORIGINAL-URL:https://www.oasispickleballclub.com
X-WR-CALDESC:Events for Oasis Pickleball Club
REFRESH-INTERVAL;VALUE=DURATION:PT1H
X-Robots-Tag:noindex
X-PUBLISHED-TTL:PT1H
BEGIN:VTIMEZONE
TZID:America/Chicago
BEGIN:DAYLIGHT
TZOFFSETFROM:-0600
TZOFFSETTO:-0500
TZNAME:CDT
DTSTART:20240310T080000
END:DAYLIGHT
BEGIN:STANDARD
TZOFFSETFROM:-0500
TZOFFSETTO:-0600
TZNAME:CST
DTSTART:20241103T070000
END:STANDARD
BEGIN:DAYLIGHT
TZOFFSETFROM:-0600
TZOFFSETTO:-0500
TZNAME:CDT
DTSTART:20250309T080000
END:DAYLIGHT
BEGIN:STANDARD
TZOFFSETFROM:-0500
TZOFFSETTO:-0600
TZNAME:CST
DTSTART:20251102T070000
END:STANDARD
BEGIN:DAYLIGHT
TZOFFSETFROM:-0600
TZOFFSETTO:-0500
TZNAME:CDT
DTSTART:20260308T080000
END:DAYLIGHT
BEGIN:STANDARD
TZOFFSETFROM:-0500
TZOFFSETTO:-0600
TZNAME:CST
DTSTART:20261101T070000
END:STANDARD
END:VTIMEZONE
BEGIN:VEVENT
DTSTART;TZID=America/Chicago:20251125T190000
DTEND;TZID=America/Chicago:20251125T210000
DTSTAMP:20260420T162408
CREATED:20241105T170541Z
LAST-MODIFIED:20241105T171148Z
UID:10003894-1764097200-1764104400@www.oasispickleballclub.com
SUMMARY:Intro & Level 1 Class
DESCRIPTION:
URL:https://www.oasispickleballclub.com/calendar/intro-level-1-class/2025-11-25/
LOCATION:Oasis Pickleball Club\, 5757 SH-205\, Rockwall\, TX\, 75032\, United States
ORGANIZER;CN="Oasis Pickleball Club":MAILTO:director@oasispickleballclub.com
END:VEVENT
BEGIN:VEVENT
DTSTART;TZID=America/Chicago:20251125T190000
DTEND;TZID=America/Chicago:20251125T210000
DTSTAMP:20260420T162408
CREATED:20241105T170636Z
LAST-MODIFIED:20241105T171123Z
UID:10004154-1764097200-1764104400@www.oasispickleballclub.com
SUMMARY:Round Robin
DESCRIPTION:
URL:https://www.oasispickleballclub.com/calendar/round-robin/2025-11-25/
LOCATION:Oasis Pickleball Club\, 5757 SH-205\, Rockwall\, TX\, 75032\, United States
ORGANIZER;CN="Oasis Pickleball Club":MAILTO:director@oasispickleballclub.com
END:VEVENT
BEGIN:VEVENT
DTSTART;TZID=America/Chicago:20251126T080000
DTEND;TZID=America/Chicago:20251126T120000
DTSTAMP:20260420T162408
CREATED:20241105T161206Z
LAST-MODIFIED:20241105T171025Z
UID:10002853-1764144000-1764158400@www.oasispickleballclub.com
SUMMARY:Open Play (All Levels) - Wednesday
DESCRIPTION:
URL:https://www.oasispickleballclub.com/calendar/open-play-all-levels-3/2025-11-26/
LOCATION:Oasis Pickleball Club\, 5757 SH-205\, Rockwall\, TX\, 75032\, United States
ORGANIZER;CN="Oasis Pickleball Club":MAILTO:director@oasispickleballclub.com
END:VEVENT
BEGIN:VEVENT
DTSTART;TZID=America/Chicago:20251127T080000
DTEND;TZID=America/Chicago:20251127T120000
DTSTAMP:20260420T162408
CREATED:20241105T161348Z
LAST-MODIFIED:20241105T171051Z
UID:10003113-1764230400-1764244800@www.oasispickleballclub.com
SUMMARY:Open Play (All Levels) - Thursday
DESCRIPTION:
URL:https://www.oasispickleballclub.com/calendar/open-play-all-levels-thursdays/2025-11-27/
LOCATION:Oasis Pickleball Club\, 5757 SH-205\, Rockwall\, TX\, 75032\, United States
ORGANIZER;CN="Oasis Pickleball Club":MAILTO:director@oasispickleballclub.com
END:VEVENT
BEGIN:VEVENT
DTSTART;TZID=America/Chicago:20251127T183000
DTEND;TZID=America/Chicago:20251127T210000
DTSTAMP:20260420T162408
CREATED:20241105T170951Z
LAST-MODIFIED:20241105T170951Z
UID:10004415-1764268200-1764277200@www.oasispickleballclub.com
SUMMARY:Advanced Night
DESCRIPTION:
URL:https://www.oasispickleballclub.com/calendar/advanced-night/2025-11-27/
LOCATION:Oasis Pickleball Club\, 5757 SH-205\, Rockwall\, TX\, 75032\, United States
ORGANIZER;CN="Oasis Pickleball Club":MAILTO:director@oasispickleballclub.com
END:VEVENT
BEGIN:VEVENT
DTSTART;TZID=America/Chicago:20251129T080000
DTEND;TZID=America/Chicago:20251129T200000
DTSTAMP:20260420T162408
CREATED:20241105T171457Z
LAST-MODIFIED:20251229T165047Z
UID:10004943-1764403200-1764446400@www.oasispickleballclub.com
SUMMARY:Open Play (All Levels) - Saturday
DESCRIPTION:
URL:https://www.oasispickleballclub.com/calendar/open-play-all-levels-4/2025-11-29/
LOCATION:Oasis Pickleball Club\, 5757 SH-205\, Rockwall\, TX\, 75032\, United States
ORGANIZER;CN="Oasis Pickleball Club":MAILTO:director@oasispickleballclub.com
END:VEVENT
BEGIN:VEVENT
DTSTART;TZID=America/Chicago:20251130T110000
DTEND;TZID=America/Chicago:20251130T190000
DTSTAMP:20260420T162408
CREATED:20241105T171813Z
LAST-MODIFIED:20251229T165035Z
UID:10005205-1764500400-1764529200@www.oasispickleballclub.com
SUMMARY:Open Play (All Levels) - Sunday
DESCRIPTION:
URL:https://www.oasispickleballclub.com/calendar/open-play-all-levels-5/2025-11-30/
LOCATION:Oasis Pickleball Club\, 5757 SH-205\, Rockwall\, TX\, 75032\, United States
ORGANIZER;CN="Oasis Pickleball Club":MAILTO:director@oasispickleballclub.com
END:VEVENT
BEGIN:VEVENT
DTSTART;TZID=America/Chicago:20251201T080000
DTEND;TZID=America/Chicago:20251201T120000
DTSTAMP:20260420T162408
CREATED:20241105T160654Z
LAST-MODIFIED:20241105T161655Z
UID:10000941-1764576000-1764590400@www.oasispickleballclub.com
SUMMARY:Open Play (All Levels) - Monday
DESCRIPTION:
URL:https://www.oasispickleballclub.com/calendar/open-play-all-levels/2025-12-01/
LOCATION:Oasis Pickleball Club\, 5757 SH-205\, Rockwall\, TX\, 75032\, United States
ORGANIZER;CN="Oasis Pickleball Club":MAILTO:director@oasispickleballclub.com
END:VEVENT
BEGIN:VEVENT
DTSTART;TZID=America/Chicago:20251201T183000
DTEND;TZID=America/Chicago:20251201T210000
DTSTAMP:20260420T162408
CREATED:20241105T162353Z
LAST-MODIFIED:20241105T162353Z
UID:10003374-1764613800-1764622800@www.oasispickleballclub.com
SUMMARY:Drills with Coach
DESCRIPTION:
URL:https://www.oasispickleballclub.com/calendar/drills-with-coach/2025-12-01/
LOCATION:Oasis Pickleball Club\, 5757 SH-205\, Rockwall\, TX\, 75032\, United States
ORGANIZER;CN="Oasis Pickleball Club":MAILTO:director@oasispickleballclub.com
END:VEVENT
BEGIN:VEVENT
DTSTART;TZID=America/Chicago:20251202T080000
DTEND;TZID=America/Chicago:20251202T120000
DTSTAMP:20260420T162408
CREATED:20241105T161042Z
LAST-MODIFIED:20241105T171229Z
UID:10002334-1764662400-1764676800@www.oasispickleballclub.com
SUMMARY:Open Play (All Levels) - Tuesday
DESCRIPTION:
URL:https://www.oasispickleballclub.com/calendar/open-play-all-levels-2/2025-12-02/
LOCATION:Oasis Pickleball Club\, 5757 SH-205\, Rockwall\, TX\, 75032\, United States
ORGANIZER;CN="Oasis Pickleball Club":MAILTO:director@oasispickleballclub.com
END:VEVENT
BEGIN:VEVENT
DTSTART;TZID=America/Chicago:20251202T180000
DTEND;TZID=America/Chicago:20251202T210000
DTSTAMP:20260420T162408
CREATED:20241105T170352Z
LAST-MODIFIED:20251229T172349Z
UID:10003635-1764698400-1764709200@www.oasispickleballclub.com
SUMMARY:Beginner Night
DESCRIPTION:
URL:https://www.oasispickleballclub.com/calendar/beginner-night/2025-12-02/
LOCATION:Oasis Pickleball Club\, 5757 SH-205\, Rockwall\, TX\, 75032\, United States
ORGANIZER;CN="Oasis Pickleball Club":MAILTO:director@oasispickleballclub.com
END:VEVENT
BEGIN:VEVENT
DTSTART;TZID=America/Chicago:20251202T190000
DTEND;TZID=America/Chicago:20251202T210000
DTSTAMP:20260420T162408
CREATED:20241105T170541Z
LAST-MODIFIED:20241105T171148Z
UID:10003895-1764702000-1764709200@www.oasispickleballclub.com
SUMMARY:Intro & Level 1 Class
DESCRIPTION:
URL:https://www.oasispickleballclub.com/calendar/intro-level-1-class/2025-12-02/
LOCATION:Oasis Pickleball Club\, 5757 SH-205\, Rockwall\, TX\, 75032\, United States
ORGANIZER;CN="Oasis Pickleball Club":MAILTO:director@oasispickleballclub.com
END:VEVENT
BEGIN:VEVENT
DTSTART;TZID=America/Chicago:20251202T190000
DTEND;TZID=America/Chicago:20251202T210000
DTSTAMP:20260420T162408
CREATED:20241105T170636Z
LAST-MODIFIED:20241105T171123Z
UID:10004155-1764702000-1764709200@www.oasispickleballclub.com
SUMMARY:Round Robin
DESCRIPTION:
URL:https://www.oasispickleballclub.com/calendar/round-robin/2025-12-02/
LOCATION:Oasis Pickleball Club\, 5757 SH-205\, Rockwall\, TX\, 75032\, United States
ORGANIZER;CN="Oasis Pickleball Club":MAILTO:director@oasispickleballclub.com
END:VEVENT
BEGIN:VEVENT
DTSTART;TZID=America/Chicago:20251203T080000
DTEND;TZID=America/Chicago:20251203T120000
DTSTAMP:20260420T162408
CREATED:20241105T161206Z
LAST-MODIFIED:20241105T171025Z
UID:10002854-1764748800-1764763200@www.oasispickleballclub.com
SUMMARY:Open Play (All Levels) - Wednesday
DESCRIPTION:
URL:https://www.oasispickleballclub.com/calendar/open-play-all-levels-3/2025-12-03/
LOCATION:Oasis Pickleball Club\, 5757 SH-205\, Rockwall\, TX\, 75032\, United States
ORGANIZER;CN="Oasis Pickleball Club":MAILTO:director@oasispickleballclub.com
END:VEVENT
BEGIN:VEVENT
DTSTART;TZID=America/Chicago:20251204T080000
DTEND;TZID=America/Chicago:20251204T120000
DTSTAMP:20260420T162408
CREATED:20241105T161348Z
LAST-MODIFIED:20241105T171051Z
UID:10003114-1764835200-1764849600@www.oasispickleballclub.com
SUMMARY:Open Play (All Levels) - Thursday
DESCRIPTION:
URL:https://www.oasispickleballclub.com/calendar/open-play-all-levels-thursdays/2025-12-04/
LOCATION:Oasis Pickleball Club\, 5757 SH-205\, Rockwall\, TX\, 75032\, United States
ORGANIZER;CN="Oasis Pickleball Club":MAILTO:director@oasispickleballclub.com
END:VEVENT
BEGIN:VEVENT
DTSTART;TZID=America/Chicago:20251204T183000
DTEND;TZID=America/Chicago:20251204T210000
DTSTAMP:20260420T162408
CREATED:20241105T170951Z
LAST-MODIFIED:20241105T170951Z
UID:10004416-1764873000-1764882000@www.oasispickleballclub.com
SUMMARY:Advanced Night
DESCRIPTION:
URL:https://www.oasispickleballclub.com/calendar/advanced-night/2025-12-04/
LOCATION:Oasis Pickleball Club\, 5757 SH-205\, Rockwall\, TX\, 75032\, United States
ORGANIZER;CN="Oasis Pickleball Club":MAILTO:director@oasispickleballclub.com
END:VEVENT
BEGIN:VEVENT
DTSTART;TZID=America/Chicago:20251206T080000
DTEND;TZID=America/Chicago:20251206T200000
DTSTAMP:20260420T162408
CREATED:20241105T171457Z
LAST-MODIFIED:20251229T165047Z
UID:10004944-1765008000-1765051200@www.oasispickleballclub.com
SUMMARY:Open Play (All Levels) - Saturday
DESCRIPTION:
URL:https://www.oasispickleballclub.com/calendar/open-play-all-levels-4/2025-12-06/
LOCATION:Oasis Pickleball Club\, 5757 SH-205\, Rockwall\, TX\, 75032\, United States
ORGANIZER;CN="Oasis Pickleball Club":MAILTO:director@oasispickleballclub.com
END:VEVENT
BEGIN:VEVENT
DTSTART;TZID=America/Chicago:20251207T110000
DTEND;TZID=America/Chicago:20251207T190000
DTSTAMP:20260420T162408
CREATED:20241105T171813Z
LAST-MODIFIED:20251229T165035Z
UID:10005206-1765105200-1765134000@www.oasispickleballclub.com
SUMMARY:Open Play (All Levels) - Sunday
DESCRIPTION:
URL:https://www.oasispickleballclub.com/calendar/open-play-all-levels-5/2025-12-07/
LOCATION:Oasis Pickleball Club\, 5757 SH-205\, Rockwall\, TX\, 75032\, United States
ORGANIZER;CN="Oasis Pickleball Club":MAILTO:director@oasispickleballclub.com
END:VEVENT
BEGIN:VEVENT
DTSTART;TZID=America/Chicago:20251208T080000
DTEND;TZID=America/Chicago:20251208T120000
DTSTAMP:20260420T162408
CREATED:20241105T160654Z
LAST-MODIFIED:20241105T161655Z
UID:10000058-1765180800-1765195200@www.oasispickleballclub.com
SUMMARY:Open Play (All Levels) - Monday
DESCRIPTION:
URL:https://www.oasispickleballclub.com/calendar/open-play-all-levels/2025-12-08/
LOCATION:Oasis Pickleball Club\, 5757 SH-205\, Rockwall\, TX\, 75032\, United States
ORGANIZER;CN="Oasis Pickleball Club":MAILTO:director@oasispickleballclub.com
END:VEVENT
BEGIN:VEVENT
DTSTART;TZID=America/Chicago:20251208T183000
DTEND;TZID=America/Chicago:20251208T210000
DTSTAMP:20260420T162408
CREATED:20241105T162353Z
LAST-MODIFIED:20241105T162353Z
UID:10003375-1765218600-1765227600@www.oasispickleballclub.com
SUMMARY:Drills with Coach
DESCRIPTION:
URL:https://www.oasispickleballclub.com/calendar/drills-with-coach/2025-12-08/
LOCATION:Oasis Pickleball Club\, 5757 SH-205\, Rockwall\, TX\, 75032\, United States
ORGANIZER;CN="Oasis Pickleball Club":MAILTO:director@oasispickleballclub.com
END:VEVENT
BEGIN:VEVENT
DTSTART;TZID=America/Chicago:20251209T080000
DTEND;TZID=America/Chicago:20251209T120000
DTSTAMP:20260420T162408
CREATED:20241105T161042Z
LAST-MODIFIED:20241105T171229Z
UID:10002335-1765267200-1765281600@www.oasispickleballclub.com
SUMMARY:Open Play (All Levels) - Tuesday
DESCRIPTION:
URL:https://www.oasispickleballclub.com/calendar/open-play-all-levels-2/2025-12-09/
LOCATION:Oasis Pickleball Club\, 5757 SH-205\, Rockwall\, TX\, 75032\, United States
ORGANIZER;CN="Oasis Pickleball Club":MAILTO:director@oasispickleballclub.com
END:VEVENT
BEGIN:VEVENT
DTSTART;TZID=America/Chicago:20251209T180000
DTEND;TZID=America/Chicago:20251209T210000
DTSTAMP:20260420T162408
CREATED:20241105T170352Z
LAST-MODIFIED:20251229T172349Z
UID:10003636-1765303200-1765314000@www.oasispickleballclub.com
SUMMARY:Beginner Night
DESCRIPTION:
URL:https://www.oasispickleballclub.com/calendar/beginner-night/2025-12-09/
LOCATION:Oasis Pickleball Club\, 5757 SH-205\, Rockwall\, TX\, 75032\, United States
ORGANIZER;CN="Oasis Pickleball Club":MAILTO:director@oasispickleballclub.com
END:VEVENT
BEGIN:VEVENT
DTSTART;TZID=America/Chicago:20251209T190000
DTEND;TZID=America/Chicago:20251209T210000
DTSTAMP:20260420T162408
CREATED:20241105T170541Z
LAST-MODIFIED:20241105T171148Z
UID:10003896-1765306800-1765314000@www.oasispickleballclub.com
SUMMARY:Intro & Level 1 Class
DESCRIPTION:
URL:https://www.oasispickleballclub.com/calendar/intro-level-1-class/2025-12-09/
LOCATION:Oasis Pickleball Club\, 5757 SH-205\, Rockwall\, TX\, 75032\, United States
ORGANIZER;CN="Oasis Pickleball Club":MAILTO:director@oasispickleballclub.com
END:VEVENT
BEGIN:VEVENT
DTSTART;TZID=America/Chicago:20251209T190000
DTEND;TZID=America/Chicago:20251209T210000
DTSTAMP:20260420T162408
CREATED:20241105T170636Z
LAST-MODIFIED:20241105T171123Z
UID:10004156-1765306800-1765314000@www.oasispickleballclub.com
SUMMARY:Round Robin
DESCRIPTION:
URL:https://www.oasispickleballclub.com/calendar/round-robin/2025-12-09/
LOCATION:Oasis Pickleball Club\, 5757 SH-205\, Rockwall\, TX\, 75032\, United States
ORGANIZER;CN="Oasis Pickleball Club":MAILTO:director@oasispickleballclub.com
END:VEVENT
BEGIN:VEVENT
DTSTART;TZID=America/Chicago:20251210T080000
DTEND;TZID=America/Chicago:20251210T120000
DTSTAMP:20260420T162408
CREATED:20241105T161206Z
LAST-MODIFIED:20241105T171025Z
UID:10002855-1765353600-1765368000@www.oasispickleballclub.com
SUMMARY:Open Play (All Levels) - Wednesday
DESCRIPTION:
URL:https://www.oasispickleballclub.com/calendar/open-play-all-levels-3/2025-12-10/
LOCATION:Oasis Pickleball Club\, 5757 SH-205\, Rockwall\, TX\, 75032\, United States
ORGANIZER;CN="Oasis Pickleball Club":MAILTO:director@oasispickleballclub.com
END:VEVENT
BEGIN:VEVENT
DTSTART;TZID=America/Chicago:20251211T080000
DTEND;TZID=America/Chicago:20251211T120000
DTSTAMP:20260420T162408
CREATED:20241105T161348Z
LAST-MODIFIED:20241105T171051Z
UID:10003115-1765440000-1765454400@www.oasispickleballclub.com
SUMMARY:Open Play (All Levels) - Thursday
DESCRIPTION:
URL:https://www.oasispickleballclub.com/calendar/open-play-all-levels-thursdays/2025-12-11/
LOCATION:Oasis Pickleball Club\, 5757 SH-205\, Rockwall\, TX\, 75032\, United States
ORGANIZER;CN="Oasis Pickleball Club":MAILTO:director@oasispickleballclub.com
END:VEVENT
BEGIN:VEVENT
DTSTART;TZID=America/Chicago:20251211T183000
DTEND;TZID=America/Chicago:20251211T210000
DTSTAMP:20260420T162408
CREATED:20241105T170951Z
LAST-MODIFIED:20241105T170951Z
UID:10004417-1765477800-1765486800@www.oasispickleballclub.com
SUMMARY:Advanced Night
DESCRIPTION:
URL:https://www.oasispickleballclub.com/calendar/advanced-night/2025-12-11/
LOCATION:Oasis Pickleball Club\, 5757 SH-205\, Rockwall\, TX\, 75032\, United States
ORGANIZER;CN="Oasis Pickleball Club":MAILTO:director@oasispickleballclub.com
END:VEVENT
BEGIN:VEVENT
DTSTART;TZID=America/Chicago:20251213T080000
DTEND;TZID=America/Chicago:20251213T200000
DTSTAMP:20260420T162408
CREATED:20241105T171457Z
LAST-MODIFIED:20251229T165047Z
UID:10004945-1765612800-1765656000@www.oasispickleballclub.com
SUMMARY:Open Play (All Levels) - Saturday
DESCRIPTION:
URL:https://www.oasispickleballclub.com/calendar/open-play-all-levels-4/2025-12-13/
LOCATION:Oasis Pickleball Club\, 5757 SH-205\, Rockwall\, TX\, 75032\, United States
ORGANIZER;CN="Oasis Pickleball Club":MAILTO:director@oasispickleballclub.com
END:VEVENT
BEGIN:VEVENT
DTSTART;TZID=America/Chicago:20251214T110000
DTEND;TZID=America/Chicago:20251214T190000
DTSTAMP:20260420T162408
CREATED:20241105T171813Z
LAST-MODIFIED:20251229T165035Z
UID:10005207-1765710000-1765738800@www.oasispickleballclub.com
SUMMARY:Open Play (All Levels) - Sunday
DESCRIPTION:
URL:https://www.oasispickleballclub.com/calendar/open-play-all-levels-5/2025-12-14/
LOCATION:Oasis Pickleball Club\, 5757 SH-205\, Rockwall\, TX\, 75032\, United States
ORGANIZER;CN="Oasis Pickleball Club":MAILTO:director@oasispickleballclub.com
END:VEVENT
BEGIN:VEVENT
DTSTART;TZID=America/Chicago:20251215T080000
DTEND;TZID=America/Chicago:20251215T120000
DTSTAMP:20260420T162408
CREATED:20241105T160654Z
LAST-MODIFIED:20241105T161655Z
UID:10000952-1765785600-1765800000@www.oasispickleballclub.com
SUMMARY:Open Play (All Levels) - Monday
DESCRIPTION:
URL:https://www.oasispickleballclub.com/calendar/open-play-all-levels/2025-12-15/
LOCATION:Oasis Pickleball Club\, 5757 SH-205\, Rockwall\, TX\, 75032\, United States
ORGANIZER;CN="Oasis Pickleball Club":MAILTO:director@oasispickleballclub.com
END:VEVENT
END:VCALENDAR