BEGIN:VCALENDAR
VERSION:2.0
PRODID:-//Oasis Pickleball Club - ECPv6.15.13//NONSGML v1.0//EN
CALSCALE:GREGORIAN
METHOD:PUBLISH
X-ORIGINAL-URL:https://www.oasispickleballclub.com
X-WR-CALDESC:Events for Oasis Pickleball Club
REFRESH-INTERVAL;VALUE=DURATION:PT1H
X-Robots-Tag:noindex
X-PUBLISHED-TTL:PT1H
BEGIN:VTIMEZONE
TZID:America/Chicago
BEGIN:DAYLIGHT
TZOFFSETFROM:-0600
TZOFFSETTO:-0500
TZNAME:CDT
DTSTART:20250309T080000
END:DAYLIGHT
BEGIN:STANDARD
TZOFFSETFROM:-0500
TZOFFSETTO:-0600
TZNAME:CST
DTSTART:20251102T070000
END:STANDARD
BEGIN:DAYLIGHT
TZOFFSETFROM:-0600
TZOFFSETTO:-0500
TZNAME:CDT
DTSTART:20260308T080000
END:DAYLIGHT
BEGIN:STANDARD
TZOFFSETFROM:-0500
TZOFFSETTO:-0600
TZNAME:CST
DTSTART:20261101T070000
END:STANDARD
BEGIN:DAYLIGHT
TZOFFSETFROM:-0600
TZOFFSETTO:-0500
TZNAME:CDT
DTSTART:20270314T080000
END:DAYLIGHT
BEGIN:STANDARD
TZOFFSETFROM:-0500
TZOFFSETTO:-0600
TZNAME:CST
DTSTART:20271107T070000
END:STANDARD
END:VTIMEZONE
BEGIN:VEVENT
DTSTART;TZID=America/Chicago:20261210T080000
DTEND;TZID=America/Chicago:20261210T210000
DTSTAMP:20260420T215603
CREATED:20251229T165336Z
LAST-MODIFIED:20251229T165337Z
UID:10003167-1796889600-1796936400@www.oasispickleballclub.com
SUMMARY:Open Play (All Levels) - Thursday
DESCRIPTION:
URL:https://www.oasispickleballclub.com/calendar/open-play-all-levels-thursdays-2/2026-12-10/
LOCATION:Oasis Pickleball Club\, 5757 SH-205\, Rockwall\, TX\, 75032\, United States
ORGANIZER;CN="Oasis Pickleball Club":MAILTO:director@oasispickleballclub.com
END:VEVENT
BEGIN:VEVENT
DTSTART;TZID=America/Chicago:20261210T180000
DTEND;TZID=America/Chicago:20261210T210000
DTSTAMP:20260420T215603
CREATED:20251229T170903Z
LAST-MODIFIED:20251229T170903Z
UID:10007401-1796925600-1796936400@www.oasispickleballclub.com
SUMMARY:Pickleball & Pizza
DESCRIPTION:
URL:https://www.oasispickleballclub.com/calendar/pickleball-pizza/2026-12-10/
END:VEVENT
BEGIN:VEVENT
DTSTART;TZID=America/Chicago:20261211T080000
DTEND;TZID=America/Chicago:20261211T200000
DTSTAMP:20260420T215603
CREATED:20251229T165446Z
LAST-MODIFIED:20251229T165446Z
UID:10006103-1796976000-1797019200@www.oasispickleballclub.com
SUMMARY:Open Play (All Levels) - Friday
DESCRIPTION:
URL:https://www.oasispickleballclub.com/calendar/open-play-all-levels-friday/2026-12-11/
LOCATION:Oasis Pickleball Club\, 5757 SH-205\, Rockwall\, TX\, 75032\, United States
ORGANIZER;CN="Oasis Pickleball Club":MAILTO:director@oasispickleballclub.com
END:VEVENT
BEGIN:VEVENT
DTSTART;TZID=America/Chicago:20261212T080000
DTEND;TZID=America/Chicago:20261212T200000
DTSTAMP:20260420T215603
CREATED:20241105T171457Z
LAST-MODIFIED:20251229T165047Z
UID:10004997-1797062400-1797105600@www.oasispickleballclub.com
SUMMARY:Open Play (All Levels) - Saturday
DESCRIPTION:
URL:https://www.oasispickleballclub.com/calendar/open-play-all-levels-4/2026-12-12/
LOCATION:Oasis Pickleball Club\, 5757 SH-205\, Rockwall\, TX\, 75032\, United States
ORGANIZER;CN="Oasis Pickleball Club":MAILTO:director@oasispickleballclub.com
END:VEVENT
BEGIN:VEVENT
DTSTART;TZID=America/Chicago:20261212T080000
DTEND;TZID=America/Chicago:20261213T170000
DTSTAMP:20260420T215603
CREATED:20251118T144501Z
LAST-MODIFIED:20251118T144501Z
UID:10005493-1797062400-1797181200@www.oasispickleballclub.com
SUMMARY:Match Point Tournament
DESCRIPTION:
URL:https://www.oasispickleballclub.com/calendar/match-point-tournament-3/
END:VEVENT
BEGIN:VEVENT
DTSTART;TZID=America/Chicago:20261212T090000
DTEND;TZID=America/Chicago:20261212T110000
DTSTAMP:20260420T215603
CREATED:20251229T171059Z
LAST-MODIFIED:20251229T171059Z
UID:10007663-1797066000-1797073200@www.oasispickleballclub.com
SUMMARY:Round Robin (Saturdays)
DESCRIPTION:
URL:https://www.oasispickleballclub.com/calendar/round-robin-saturdays/2026-12-12/
END:VEVENT
BEGIN:VEVENT
DTSTART;TZID=America/Chicago:20261213T110000
DTEND;TZID=America/Chicago:20261213T190000
DTSTAMP:20260420T215603
CREATED:20241105T171813Z
LAST-MODIFIED:20251229T165035Z
UID:10005259-1797159600-1797188400@www.oasispickleballclub.com
SUMMARY:Open Play (All Levels) - Sunday
DESCRIPTION:
URL:https://www.oasispickleballclub.com/calendar/open-play-all-levels-5/2026-12-13/
LOCATION:Oasis Pickleball Club\, 5757 SH-205\, Rockwall\, TX\, 75032\, United States
ORGANIZER;CN="Oasis Pickleball Club":MAILTO:director@oasispickleballclub.com
END:VEVENT
BEGIN:VEVENT
DTSTART;TZID=America/Chicago:20261214T080000
DTEND;TZID=America/Chicago:20261214T210000
DTSTAMP:20260420T215603
CREATED:20251229T165305Z
LAST-MODIFIED:20251229T165307Z
UID:10001225-1797235200-1797282000@www.oasispickleballclub.com
SUMMARY:Open Play (All Levels) - Monday
DESCRIPTION:
URL:https://www.oasispickleballclub.com/calendar/open-play-all-levels-6/2026-12-14/
LOCATION:Oasis Pickleball Club\, 5757 SH-205\, Rockwall\, TX\, 75032\, United States
ORGANIZER;CN="Oasis Pickleball Club":MAILTO:director@oasispickleballclub.com
END:VEVENT
BEGIN:VEVENT
DTSTART;TZID=America/Chicago:20261214T190000
DTEND;TZID=America/Chicago:20261214T200000
DTSTAMP:20260420T215603
CREATED:20251229T165758Z
LAST-MODIFIED:20251229T165912Z
UID:10006363-1797274800-1797278400@www.oasispickleballclub.com
SUMMARY:Intro to Pickleball
DESCRIPTION:
URL:https://www.oasispickleballclub.com/calendar/intro-level-1-class-2/2026-12-14/
LOCATION:Oasis Pickleball Club\, 5757 SH-205\, Rockwall\, TX\, 75032\, United States
ORGANIZER;CN="Oasis Pickleball Club":MAILTO:director@oasispickleballclub.com
END:VEVENT
BEGIN:VEVENT
DTSTART;TZID=America/Chicago:20261214T200000
DTEND;TZID=America/Chicago:20261214T210000
DTSTAMP:20260420T215603
CREATED:20251229T170134Z
LAST-MODIFIED:20251229T170138Z
UID:10006623-1797278400-1797282000@www.oasispickleballclub.com
SUMMARY:Drills with Tom
DESCRIPTION:Price is $20 for members\, $30 for non-members.
URL:https://www.oasispickleballclub.com/calendar/drills-with-coach-2/2026-12-14/
LOCATION:Oasis Pickleball Club\, 5757 SH-205\, Rockwall\, TX\, 75032\, United States
ORGANIZER;CN="Oasis Pickleball Club":MAILTO:director@oasispickleballclub.com
END:VEVENT
BEGIN:VEVENT
DTSTART;TZID=America/Chicago:20261215T080000
DTEND;TZID=America/Chicago:20261215T210000
DTSTAMP:20260420T215603
CREATED:20251229T165315Z
LAST-MODIFIED:20251229T165317Z
UID:10002388-1797321600-1797368400@www.oasispickleballclub.com
SUMMARY:Open Play (All Levels) - Tuesday
DESCRIPTION:
URL:https://www.oasispickleballclub.com/calendar/open-play-all-levels-2-2/2026-12-15/
LOCATION:Oasis Pickleball Club\, 5757 SH-205\, Rockwall\, TX\, 75032\, United States
ORGANIZER;CN="Oasis Pickleball Club":MAILTO:director@oasispickleballclub.com
END:VEVENT
BEGIN:VEVENT
DTSTART;TZID=America/Chicago:20261215T185903
DTEND;TZID=America/Chicago:20261215T205903
DTSTAMP:20260420T215603
CREATED:20251229T170346Z
LAST-MODIFIED:20251229T172712Z
UID:10008046-1797361143-1797368343@www.oasispickleballclub.com
SUMMARY:Round Robin (Tuesdays)
DESCRIPTION:
URL:https://www.oasispickleballclub.com/calendar/round-robin-2-2/2026-12-15/
LOCATION:Oasis Pickleball Club\, 5757 SH-205\, Rockwall\, TX\, 75032\, United States
ORGANIZER;CN="Oasis Pickleball Club":MAILTO:director@oasispickleballclub.com
END:VEVENT
BEGIN:VEVENT
DTSTART;TZID=America/Chicago:20261216T080000
DTEND;TZID=America/Chicago:20261216T210000
DTSTAMP:20260420T215603
CREATED:20251229T165324Z
LAST-MODIFIED:20251229T165326Z
UID:10002908-1797408000-1797454800@www.oasispickleballclub.com
SUMMARY:Open Play (All Levels) - Wednesday
DESCRIPTION:
URL:https://www.oasispickleballclub.com/calendar/open-play-all-levels-3-2/2026-12-16/
LOCATION:Oasis Pickleball Club\, 5757 SH-205\, Rockwall\, TX\, 75032\, United States
ORGANIZER;CN="Oasis Pickleball Club":MAILTO:director@oasispickleballclub.com
END:VEVENT
BEGIN:VEVENT
DTSTART;TZID=America/Chicago:20261216T190000
DTEND;TZID=America/Chicago:20261216T210000
DTSTAMP:20260420T215603
CREATED:20251229T170806Z
LAST-MODIFIED:20251229T170806Z
UID:10007142-1797447600-1797454800@www.oasispickleballclub.com
SUMMARY:Chill Pickles
DESCRIPTION:Rockwall residents enjoy half off
URL:https://www.oasispickleballclub.com/calendar/chill-pickles/2026-12-16/
END:VEVENT
BEGIN:VEVENT
DTSTART;TZID=America/Chicago:20261217T080000
DTEND;TZID=America/Chicago:20261217T210000
DTSTAMP:20260420T215603
CREATED:20251229T165336Z
LAST-MODIFIED:20251229T165337Z
UID:10003168-1797494400-1797541200@www.oasispickleballclub.com
SUMMARY:Open Play (All Levels) - Thursday
DESCRIPTION:
URL:https://www.oasispickleballclub.com/calendar/open-play-all-levels-thursdays-2/2026-12-17/
LOCATION:Oasis Pickleball Club\, 5757 SH-205\, Rockwall\, TX\, 75032\, United States
ORGANIZER;CN="Oasis Pickleball Club":MAILTO:director@oasispickleballclub.com
END:VEVENT
BEGIN:VEVENT
DTSTART;TZID=America/Chicago:20261217T180000
DTEND;TZID=America/Chicago:20261217T210000
DTSTAMP:20260420T215603
CREATED:20251229T170903Z
LAST-MODIFIED:20251229T170903Z
UID:10007402-1797530400-1797541200@www.oasispickleballclub.com
SUMMARY:Pickleball & Pizza
DESCRIPTION:
URL:https://www.oasispickleballclub.com/calendar/pickleball-pizza/2026-12-17/
END:VEVENT
BEGIN:VEVENT
DTSTART;TZID=America/Chicago:20261218T080000
DTEND;TZID=America/Chicago:20261218T200000
DTSTAMP:20260420T215603
CREATED:20251229T165446Z
LAST-MODIFIED:20251229T165446Z
UID:10006104-1797580800-1797624000@www.oasispickleballclub.com
SUMMARY:Open Play (All Levels) - Friday
DESCRIPTION:
URL:https://www.oasispickleballclub.com/calendar/open-play-all-levels-friday/2026-12-18/
LOCATION:Oasis Pickleball Club\, 5757 SH-205\, Rockwall\, TX\, 75032\, United States
ORGANIZER;CN="Oasis Pickleball Club":MAILTO:director@oasispickleballclub.com
END:VEVENT
BEGIN:VEVENT
DTSTART;TZID=America/Chicago:20261219T080000
DTEND;TZID=America/Chicago:20261219T200000
DTSTAMP:20260420T215603
CREATED:20241105T171457Z
LAST-MODIFIED:20251229T165047Z
UID:10004998-1797667200-1797710400@www.oasispickleballclub.com
SUMMARY:Open Play (All Levels) - Saturday
DESCRIPTION:
URL:https://www.oasispickleballclub.com/calendar/open-play-all-levels-4/2026-12-19/
LOCATION:Oasis Pickleball Club\, 5757 SH-205\, Rockwall\, TX\, 75032\, United States
ORGANIZER;CN="Oasis Pickleball Club":MAILTO:director@oasispickleballclub.com
END:VEVENT
BEGIN:VEVENT
DTSTART;TZID=America/Chicago:20261219T090000
DTEND;TZID=America/Chicago:20261219T110000
DTSTAMP:20260420T215603
CREATED:20251229T171059Z
LAST-MODIFIED:20251229T171059Z
UID:10007664-1797670800-1797678000@www.oasispickleballclub.com
SUMMARY:Round Robin (Saturdays)
DESCRIPTION:
URL:https://www.oasispickleballclub.com/calendar/round-robin-saturdays/2026-12-19/
END:VEVENT
BEGIN:VEVENT
DTSTART;TZID=America/Chicago:20261220T110000
DTEND;TZID=America/Chicago:20261220T190000
DTSTAMP:20260420T215603
CREATED:20241105T171813Z
LAST-MODIFIED:20251229T165035Z
UID:10005260-1797764400-1797793200@www.oasispickleballclub.com
SUMMARY:Open Play (All Levels) - Sunday
DESCRIPTION:
URL:https://www.oasispickleballclub.com/calendar/open-play-all-levels-5/2026-12-20/
LOCATION:Oasis Pickleball Club\, 5757 SH-205\, Rockwall\, TX\, 75032\, United States
ORGANIZER;CN="Oasis Pickleball Club":MAILTO:director@oasispickleballclub.com
END:VEVENT
BEGIN:VEVENT
DTSTART;TZID=America/Chicago:20261221T080000
DTEND;TZID=America/Chicago:20261221T210000
DTSTAMP:20260420T215603
CREATED:20251229T165305Z
LAST-MODIFIED:20251229T165307Z
UID:10001230-1797840000-1797886800@www.oasispickleballclub.com
SUMMARY:Open Play (All Levels) - Monday
DESCRIPTION:
URL:https://www.oasispickleballclub.com/calendar/open-play-all-levels-6/2026-12-21/
LOCATION:Oasis Pickleball Club\, 5757 SH-205\, Rockwall\, TX\, 75032\, United States
ORGANIZER;CN="Oasis Pickleball Club":MAILTO:director@oasispickleballclub.com
END:VEVENT
BEGIN:VEVENT
DTSTART;TZID=America/Chicago:20261221T190000
DTEND;TZID=America/Chicago:20261221T200000
DTSTAMP:20260420T215603
CREATED:20251229T165758Z
LAST-MODIFIED:20251229T165912Z
UID:10006364-1797879600-1797883200@www.oasispickleballclub.com
SUMMARY:Intro to Pickleball
DESCRIPTION:
URL:https://www.oasispickleballclub.com/calendar/intro-level-1-class-2/2026-12-21/
LOCATION:Oasis Pickleball Club\, 5757 SH-205\, Rockwall\, TX\, 75032\, United States
ORGANIZER;CN="Oasis Pickleball Club":MAILTO:director@oasispickleballclub.com
END:VEVENT
BEGIN:VEVENT
DTSTART;TZID=America/Chicago:20261221T200000
DTEND;TZID=America/Chicago:20261221T210000
DTSTAMP:20260420T215603
CREATED:20251229T170134Z
LAST-MODIFIED:20251229T170138Z
UID:10006624-1797883200-1797886800@www.oasispickleballclub.com
SUMMARY:Drills with Tom
DESCRIPTION:Price is $20 for members\, $30 for non-members.
URL:https://www.oasispickleballclub.com/calendar/drills-with-coach-2/2026-12-21/
LOCATION:Oasis Pickleball Club\, 5757 SH-205\, Rockwall\, TX\, 75032\, United States
ORGANIZER;CN="Oasis Pickleball Club":MAILTO:director@oasispickleballclub.com
END:VEVENT
BEGIN:VEVENT
DTSTART;TZID=America/Chicago:20261222T080000
DTEND;TZID=America/Chicago:20261222T210000
DTSTAMP:20260420T215603
CREATED:20251229T165315Z
LAST-MODIFIED:20251229T165317Z
UID:10002389-1797926400-1797973200@www.oasispickleballclub.com
SUMMARY:Open Play (All Levels) - Tuesday
DESCRIPTION:
URL:https://www.oasispickleballclub.com/calendar/open-play-all-levels-2-2/2026-12-22/
LOCATION:Oasis Pickleball Club\, 5757 SH-205\, Rockwall\, TX\, 75032\, United States
ORGANIZER;CN="Oasis Pickleball Club":MAILTO:director@oasispickleballclub.com
END:VEVENT
BEGIN:VEVENT
DTSTART;TZID=America/Chicago:20261222T185903
DTEND;TZID=America/Chicago:20261222T205903
DTSTAMP:20260420T215603
CREATED:20251229T170346Z
LAST-MODIFIED:20251229T172712Z
UID:10008047-1797965943-1797973143@www.oasispickleballclub.com
SUMMARY:Round Robin (Tuesdays)
DESCRIPTION:
URL:https://www.oasispickleballclub.com/calendar/round-robin-2-2/2026-12-22/
LOCATION:Oasis Pickleball Club\, 5757 SH-205\, Rockwall\, TX\, 75032\, United States
ORGANIZER;CN="Oasis Pickleball Club":MAILTO:director@oasispickleballclub.com
END:VEVENT
BEGIN:VEVENT
DTSTART;TZID=America/Chicago:20261223T080000
DTEND;TZID=America/Chicago:20261223T210000
DTSTAMP:20260420T215603
CREATED:20251229T165324Z
LAST-MODIFIED:20251229T165326Z
UID:10002909-1798012800-1798059600@www.oasispickleballclub.com
SUMMARY:Open Play (All Levels) - Wednesday
DESCRIPTION:
URL:https://www.oasispickleballclub.com/calendar/open-play-all-levels-3-2/2026-12-23/
LOCATION:Oasis Pickleball Club\, 5757 SH-205\, Rockwall\, TX\, 75032\, United States
ORGANIZER;CN="Oasis Pickleball Club":MAILTO:director@oasispickleballclub.com
END:VEVENT
BEGIN:VEVENT
DTSTART;TZID=America/Chicago:20261223T190000
DTEND;TZID=America/Chicago:20261223T210000
DTSTAMP:20260420T215603
CREATED:20251229T170806Z
LAST-MODIFIED:20251229T170806Z
UID:10007143-1798052400-1798059600@www.oasispickleballclub.com
SUMMARY:Chill Pickles
DESCRIPTION:Rockwall residents enjoy half off
URL:https://www.oasispickleballclub.com/calendar/chill-pickles/2026-12-23/
END:VEVENT
BEGIN:VEVENT
DTSTART;TZID=America/Chicago:20261224T080000
DTEND;TZID=America/Chicago:20261224T210000
DTSTAMP:20260420T215603
CREATED:20251229T165336Z
LAST-MODIFIED:20251229T165337Z
UID:10003169-1798099200-1798146000@www.oasispickleballclub.com
SUMMARY:Open Play (All Levels) - Thursday
DESCRIPTION:
URL:https://www.oasispickleballclub.com/calendar/open-play-all-levels-thursdays-2/2026-12-24/
LOCATION:Oasis Pickleball Club\, 5757 SH-205\, Rockwall\, TX\, 75032\, United States
ORGANIZER;CN="Oasis Pickleball Club":MAILTO:director@oasispickleballclub.com
END:VEVENT
BEGIN:VEVENT
DTSTART;TZID=America/Chicago:20261224T180000
DTEND;TZID=America/Chicago:20261224T210000
DTSTAMP:20260420T215603
CREATED:20251229T170903Z
LAST-MODIFIED:20251229T170903Z
UID:10007403-1798135200-1798146000@www.oasispickleballclub.com
SUMMARY:Pickleball & Pizza
DESCRIPTION:
URL:https://www.oasispickleballclub.com/calendar/pickleball-pizza/2026-12-24/
END:VEVENT
BEGIN:VEVENT
DTSTART;TZID=America/Chicago:20261225T080000
DTEND;TZID=America/Chicago:20261225T200000
DTSTAMP:20260420T215603
CREATED:20251229T165446Z
LAST-MODIFIED:20251229T165446Z
UID:10006105-1798185600-1798228800@www.oasispickleballclub.com
SUMMARY:Open Play (All Levels) - Friday
DESCRIPTION:
URL:https://www.oasispickleballclub.com/calendar/open-play-all-levels-friday/2026-12-25/
LOCATION:Oasis Pickleball Club\, 5757 SH-205\, Rockwall\, TX\, 75032\, United States
ORGANIZER;CN="Oasis Pickleball Club":MAILTO:director@oasispickleballclub.com
END:VEVENT
END:VCALENDAR