BEGIN:VCALENDAR
VERSION:2.0
PRODID:-//Oasis Pickleball Club - ECPv6.15.13//NONSGML v1.0//EN
CALSCALE:GREGORIAN
METHOD:PUBLISH
X-WR-CALNAME:Oasis Pickleball Club
X-ORIGINAL-URL:https://www.oasispickleballclub.com
X-WR-CALDESC:Events for Oasis Pickleball Club
REFRESH-INTERVAL;VALUE=DURATION:PT1H
X-Robots-Tag:noindex
X-PUBLISHED-TTL:PT1H
BEGIN:VTIMEZONE
TZID:America/Chicago
BEGIN:DAYLIGHT
TZOFFSETFROM:-0600
TZOFFSETTO:-0500
TZNAME:CDT
DTSTART:20250309T080000
END:DAYLIGHT
BEGIN:STANDARD
TZOFFSETFROM:-0500
TZOFFSETTO:-0600
TZNAME:CST
DTSTART:20251102T070000
END:STANDARD
BEGIN:DAYLIGHT
TZOFFSETFROM:-0600
TZOFFSETTO:-0500
TZNAME:CDT
DTSTART:20260308T080000
END:DAYLIGHT
BEGIN:STANDARD
TZOFFSETFROM:-0500
TZOFFSETTO:-0600
TZNAME:CST
DTSTART:20261101T070000
END:STANDARD
BEGIN:DAYLIGHT
TZOFFSETFROM:-0600
TZOFFSETTO:-0500
TZNAME:CDT
DTSTART:20270314T080000
END:DAYLIGHT
BEGIN:STANDARD
TZOFFSETFROM:-0500
TZOFFSETTO:-0600
TZNAME:CST
DTSTART:20271107T070000
END:STANDARD
BEGIN:DAYLIGHT
TZOFFSETFROM:-0600
TZOFFSETTO:-0500
TZNAME:CDT
DTSTART:20280312T080000
END:DAYLIGHT
BEGIN:STANDARD
TZOFFSETFROM:-0500
TZOFFSETTO:-0600
TZNAME:CST
DTSTART:20281105T070000
END:STANDARD
END:VTIMEZONE
BEGIN:VEVENT
DTSTART;TZID=America/Chicago:20261226T080000
DTEND;TZID=America/Chicago:20261226T200000
DTSTAMP:20260421T033914
CREATED:20241105T171457Z
LAST-MODIFIED:20251229T165047Z
UID:10004999-1798272000-1798315200@www.oasispickleballclub.com
SUMMARY:Open Play (All Levels) - Saturday
DESCRIPTION:
URL:https://www.oasispickleballclub.com/calendar/open-play-all-levels-4/2026-12-26/
LOCATION:Oasis Pickleball Club\, 5757 SH-205\, Rockwall\, TX\, 75032\, United States
ORGANIZER;CN="Oasis Pickleball Club":MAILTO:director@oasispickleballclub.com
END:VEVENT
BEGIN:VEVENT
DTSTART;TZID=America/Chicago:20261226T090000
DTEND;TZID=America/Chicago:20261226T110000
DTSTAMP:20260421T033914
CREATED:20251229T171059Z
LAST-MODIFIED:20251229T171059Z
UID:10007665-1798275600-1798282800@www.oasispickleballclub.com
SUMMARY:Round Robin (Saturdays)
DESCRIPTION:
URL:https://www.oasispickleballclub.com/calendar/round-robin-saturdays/2026-12-26/
END:VEVENT
BEGIN:VEVENT
DTSTART;TZID=America/Chicago:20261227T110000
DTEND;TZID=America/Chicago:20261227T190000
DTSTAMP:20260421T033914
CREATED:20241105T171813Z
LAST-MODIFIED:20251229T165035Z
UID:10005261-1798369200-1798398000@www.oasispickleballclub.com
SUMMARY:Open Play (All Levels) - Sunday
DESCRIPTION:
URL:https://www.oasispickleballclub.com/calendar/open-play-all-levels-5/2026-12-27/
LOCATION:Oasis Pickleball Club\, 5757 SH-205\, Rockwall\, TX\, 75032\, United States
ORGANIZER;CN="Oasis Pickleball Club":MAILTO:director@oasispickleballclub.com
END:VEVENT
BEGIN:VEVENT
DTSTART;TZID=America/Chicago:20261228T080000
DTEND;TZID=America/Chicago:20261228T210000
DTSTAMP:20260421T033914
CREATED:20251229T165305Z
LAST-MODIFIED:20251229T165307Z
UID:10001235-1798444800-1798491600@www.oasispickleballclub.com
SUMMARY:Open Play (All Levels) - Monday
DESCRIPTION:
URL:https://www.oasispickleballclub.com/calendar/open-play-all-levels-6/2026-12-28/
LOCATION:Oasis Pickleball Club\, 5757 SH-205\, Rockwall\, TX\, 75032\, United States
ORGANIZER;CN="Oasis Pickleball Club":MAILTO:director@oasispickleballclub.com
END:VEVENT
BEGIN:VEVENT
DTSTART;TZID=America/Chicago:20261228T190000
DTEND;TZID=America/Chicago:20261228T200000
DTSTAMP:20260421T033914
CREATED:20251229T165758Z
LAST-MODIFIED:20251229T165912Z
UID:10006365-1798484400-1798488000@www.oasispickleballclub.com
SUMMARY:Intro to Pickleball
DESCRIPTION:
URL:https://www.oasispickleballclub.com/calendar/intro-level-1-class-2/2026-12-28/
LOCATION:Oasis Pickleball Club\, 5757 SH-205\, Rockwall\, TX\, 75032\, United States
ORGANIZER;CN="Oasis Pickleball Club":MAILTO:director@oasispickleballclub.com
END:VEVENT
BEGIN:VEVENT
DTSTART;TZID=America/Chicago:20261228T200000
DTEND;TZID=America/Chicago:20261228T210000
DTSTAMP:20260421T033914
CREATED:20251229T170134Z
LAST-MODIFIED:20251229T170138Z
UID:10006625-1798488000-1798491600@www.oasispickleballclub.com
SUMMARY:Drills with Tom
DESCRIPTION:Price is $20 for members\, $30 for non-members.
URL:https://www.oasispickleballclub.com/calendar/drills-with-coach-2/2026-12-28/
LOCATION:Oasis Pickleball Club\, 5757 SH-205\, Rockwall\, TX\, 75032\, United States
ORGANIZER;CN="Oasis Pickleball Club":MAILTO:director@oasispickleballclub.com
END:VEVENT
BEGIN:VEVENT
DTSTART;TZID=America/Chicago:20261229T080000
DTEND;TZID=America/Chicago:20261229T210000
DTSTAMP:20260421T033914
CREATED:20251229T165315Z
LAST-MODIFIED:20251229T165317Z
UID:10002390-1798531200-1798578000@www.oasispickleballclub.com
SUMMARY:Open Play (All Levels) - Tuesday
DESCRIPTION:
URL:https://www.oasispickleballclub.com/calendar/open-play-all-levels-2-2/2026-12-29/
LOCATION:Oasis Pickleball Club\, 5757 SH-205\, Rockwall\, TX\, 75032\, United States
ORGANIZER;CN="Oasis Pickleball Club":MAILTO:director@oasispickleballclub.com
END:VEVENT
BEGIN:VEVENT
DTSTART;TZID=America/Chicago:20261229T185903
DTEND;TZID=America/Chicago:20261229T205903
DTSTAMP:20260421T033914
CREATED:20251229T170346Z
LAST-MODIFIED:20251229T172712Z
UID:10008048-1798570743-1798577943@www.oasispickleballclub.com
SUMMARY:Round Robin (Tuesdays)
DESCRIPTION:
URL:https://www.oasispickleballclub.com/calendar/round-robin-2-2/2026-12-29/
LOCATION:Oasis Pickleball Club\, 5757 SH-205\, Rockwall\, TX\, 75032\, United States
ORGANIZER;CN="Oasis Pickleball Club":MAILTO:director@oasispickleballclub.com
END:VEVENT
BEGIN:VEVENT
DTSTART;TZID=America/Chicago:20261230T080000
DTEND;TZID=America/Chicago:20261230T210000
DTSTAMP:20260421T033914
CREATED:20251229T165324Z
LAST-MODIFIED:20251229T165326Z
UID:10002910-1798617600-1798664400@www.oasispickleballclub.com
SUMMARY:Open Play (All Levels) - Wednesday
DESCRIPTION:
URL:https://www.oasispickleballclub.com/calendar/open-play-all-levels-3-2/2026-12-30/
LOCATION:Oasis Pickleball Club\, 5757 SH-205\, Rockwall\, TX\, 75032\, United States
ORGANIZER;CN="Oasis Pickleball Club":MAILTO:director@oasispickleballclub.com
END:VEVENT
BEGIN:VEVENT
DTSTART;TZID=America/Chicago:20261230T190000
DTEND;TZID=America/Chicago:20261230T210000
DTSTAMP:20260421T033914
CREATED:20251229T170806Z
LAST-MODIFIED:20251229T170806Z
UID:10007144-1798657200-1798664400@www.oasispickleballclub.com
SUMMARY:Chill Pickles
DESCRIPTION:Rockwall residents enjoy half off
URL:https://www.oasispickleballclub.com/calendar/chill-pickles/2026-12-30/
END:VEVENT
BEGIN:VEVENT
DTSTART;TZID=America/Chicago:20261231T080000
DTEND;TZID=America/Chicago:20261231T210000
DTSTAMP:20260421T033914
CREATED:20251229T165336Z
LAST-MODIFIED:20251229T165337Z
UID:10003170-1798704000-1798750800@www.oasispickleballclub.com
SUMMARY:Open Play (All Levels) - Thursday
DESCRIPTION:
URL:https://www.oasispickleballclub.com/calendar/open-play-all-levels-thursdays-2/2026-12-31/
LOCATION:Oasis Pickleball Club\, 5757 SH-205\, Rockwall\, TX\, 75032\, United States
ORGANIZER;CN="Oasis Pickleball Club":MAILTO:director@oasispickleballclub.com
END:VEVENT
BEGIN:VEVENT
DTSTART;TZID=America/Chicago:20261231T180000
DTEND;TZID=America/Chicago:20261231T210000
DTSTAMP:20260421T033914
CREATED:20251229T170903Z
LAST-MODIFIED:20251229T170903Z
UID:10007404-1798740000-1798750800@www.oasispickleballclub.com
SUMMARY:Pickleball & Pizza
DESCRIPTION:
URL:https://www.oasispickleballclub.com/calendar/pickleball-pizza/2026-12-31/
END:VEVENT
BEGIN:VEVENT
DTSTART;TZID=America/Chicago:20270101T080000
DTEND;TZID=America/Chicago:20270101T200000
DTSTAMP:20260421T033914
CREATED:20251229T165446Z
LAST-MODIFIED:20251229T165446Z
UID:10006106-1798790400-1798833600@www.oasispickleballclub.com
SUMMARY:Open Play (All Levels) - Friday
DESCRIPTION:
URL:https://www.oasispickleballclub.com/calendar/open-play-all-levels-friday/2027-01-01/
LOCATION:Oasis Pickleball Club\, 5757 SH-205\, Rockwall\, TX\, 75032\, United States
ORGANIZER;CN="Oasis Pickleball Club":MAILTO:director@oasispickleballclub.com
END:VEVENT
BEGIN:VEVENT
DTSTART;TZID=America/Chicago:20270102T080000
DTEND;TZID=America/Chicago:20270102T200000
DTSTAMP:20260421T033914
CREATED:20241105T171457Z
LAST-MODIFIED:20251229T165047Z
UID:10005000-1798876800-1798920000@www.oasispickleballclub.com
SUMMARY:Open Play (All Levels) - Saturday
DESCRIPTION:
URL:https://www.oasispickleballclub.com/calendar/open-play-all-levels-4/2027-01-02/
LOCATION:Oasis Pickleball Club\, 5757 SH-205\, Rockwall\, TX\, 75032\, United States
ORGANIZER;CN="Oasis Pickleball Club":MAILTO:director@oasispickleballclub.com
END:VEVENT
BEGIN:VEVENT
DTSTART;TZID=America/Chicago:20270102T090000
DTEND;TZID=America/Chicago:20270102T110000
DTSTAMP:20260421T033914
CREATED:20251229T171059Z
LAST-MODIFIED:20251229T171059Z
UID:10007666-1798880400-1798887600@www.oasispickleballclub.com
SUMMARY:Round Robin (Saturdays)
DESCRIPTION:
URL:https://www.oasispickleballclub.com/calendar/round-robin-saturdays/2027-01-02/
END:VEVENT
BEGIN:VEVENT
DTSTART;TZID=America/Chicago:20270103T110000
DTEND;TZID=America/Chicago:20270103T190000
DTSTAMP:20260421T033914
CREATED:20241105T171813Z
LAST-MODIFIED:20251229T165035Z
UID:10005262-1798974000-1799002800@www.oasispickleballclub.com
SUMMARY:Open Play (All Levels) - Sunday
DESCRIPTION:
URL:https://www.oasispickleballclub.com/calendar/open-play-all-levels-5/2027-01-03/
LOCATION:Oasis Pickleball Club\, 5757 SH-205\, Rockwall\, TX\, 75032\, United States
ORGANIZER;CN="Oasis Pickleball Club":MAILTO:director@oasispickleballclub.com
END:VEVENT
BEGIN:VEVENT
DTSTART;TZID=America/Chicago:20270104T080000
DTEND;TZID=America/Chicago:20270104T210000
DTSTAMP:20260421T033914
CREATED:20251229T165305Z
LAST-MODIFIED:20251229T165307Z
UID:10000114-1799049600-1799096400@www.oasispickleballclub.com
SUMMARY:Open Play (All Levels) - Monday
DESCRIPTION:
URL:https://www.oasispickleballclub.com/calendar/open-play-all-levels-6/2027-01-04/
LOCATION:Oasis Pickleball Club\, 5757 SH-205\, Rockwall\, TX\, 75032\, United States
ORGANIZER;CN="Oasis Pickleball Club":MAILTO:director@oasispickleballclub.com
END:VEVENT
BEGIN:VEVENT
DTSTART;TZID=America/Chicago:20270104T190000
DTEND;TZID=America/Chicago:20270104T200000
DTSTAMP:20260421T033914
CREATED:20251229T165758Z
LAST-MODIFIED:20251229T165912Z
UID:10006366-1799089200-1799092800@www.oasispickleballclub.com
SUMMARY:Intro to Pickleball
DESCRIPTION:
URL:https://www.oasispickleballclub.com/calendar/intro-level-1-class-2/2027-01-04/
LOCATION:Oasis Pickleball Club\, 5757 SH-205\, Rockwall\, TX\, 75032\, United States
ORGANIZER;CN="Oasis Pickleball Club":MAILTO:director@oasispickleballclub.com
END:VEVENT
BEGIN:VEVENT
DTSTART;TZID=America/Chicago:20270104T200000
DTEND;TZID=America/Chicago:20270104T210000
DTSTAMP:20260421T033914
CREATED:20251229T170134Z
LAST-MODIFIED:20251229T170138Z
UID:10006626-1799092800-1799096400@www.oasispickleballclub.com
SUMMARY:Drills with Tom
DESCRIPTION:Price is $20 for members\, $30 for non-members.
URL:https://www.oasispickleballclub.com/calendar/drills-with-coach-2/2027-01-04/
LOCATION:Oasis Pickleball Club\, 5757 SH-205\, Rockwall\, TX\, 75032\, United States
ORGANIZER;CN="Oasis Pickleball Club":MAILTO:director@oasispickleballclub.com
END:VEVENT
BEGIN:VEVENT
DTSTART;TZID=America/Chicago:20270105T080000
DTEND;TZID=America/Chicago:20270105T210000
DTSTAMP:20260421T033914
CREATED:20251229T165315Z
LAST-MODIFIED:20251229T165317Z
UID:10002391-1799136000-1799182800@www.oasispickleballclub.com
SUMMARY:Open Play (All Levels) - Tuesday
DESCRIPTION:
URL:https://www.oasispickleballclub.com/calendar/open-play-all-levels-2-2/2027-01-05/
LOCATION:Oasis Pickleball Club\, 5757 SH-205\, Rockwall\, TX\, 75032\, United States
ORGANIZER;CN="Oasis Pickleball Club":MAILTO:director@oasispickleballclub.com
END:VEVENT
BEGIN:VEVENT
DTSTART;TZID=America/Chicago:20270105T185903
DTEND;TZID=America/Chicago:20270105T205903
DTSTAMP:20260421T033914
CREATED:20251229T170346Z
LAST-MODIFIED:20251229T172712Z
UID:10008049-1799175543-1799182743@www.oasispickleballclub.com
SUMMARY:Round Robin (Tuesdays)
DESCRIPTION:
URL:https://www.oasispickleballclub.com/calendar/round-robin-2-2/2027-01-05/
LOCATION:Oasis Pickleball Club\, 5757 SH-205\, Rockwall\, TX\, 75032\, United States
ORGANIZER;CN="Oasis Pickleball Club":MAILTO:director@oasispickleballclub.com
END:VEVENT
BEGIN:VEVENT
DTSTART;TZID=America/Chicago:20270106T080000
DTEND;TZID=America/Chicago:20270106T210000
DTSTAMP:20260421T033914
CREATED:20251229T165324Z
LAST-MODIFIED:20251229T165326Z
UID:10002911-1799222400-1799269200@www.oasispickleballclub.com
SUMMARY:Open Play (All Levels) - Wednesday
DESCRIPTION:
URL:https://www.oasispickleballclub.com/calendar/open-play-all-levels-3-2/2027-01-06/
LOCATION:Oasis Pickleball Club\, 5757 SH-205\, Rockwall\, TX\, 75032\, United States
ORGANIZER;CN="Oasis Pickleball Club":MAILTO:director@oasispickleballclub.com
END:VEVENT
BEGIN:VEVENT
DTSTART;TZID=America/Chicago:20270106T190000
DTEND;TZID=America/Chicago:20270106T210000
DTSTAMP:20260421T033914
CREATED:20251229T170806Z
LAST-MODIFIED:20251229T170806Z
UID:10007145-1799262000-1799269200@www.oasispickleballclub.com
SUMMARY:Chill Pickles
DESCRIPTION:Rockwall residents enjoy half off
URL:https://www.oasispickleballclub.com/calendar/chill-pickles/2027-01-06/
END:VEVENT
BEGIN:VEVENT
DTSTART;TZID=America/Chicago:20270107T080000
DTEND;TZID=America/Chicago:20270107T210000
DTSTAMP:20260421T033914
CREATED:20251229T165336Z
LAST-MODIFIED:20251229T165337Z
UID:10003171-1799308800-1799355600@www.oasispickleballclub.com
SUMMARY:Open Play (All Levels) - Thursday
DESCRIPTION:
URL:https://www.oasispickleballclub.com/calendar/open-play-all-levels-thursdays-2/2027-01-07/
LOCATION:Oasis Pickleball Club\, 5757 SH-205\, Rockwall\, TX\, 75032\, United States
ORGANIZER;CN="Oasis Pickleball Club":MAILTO:director@oasispickleballclub.com
END:VEVENT
BEGIN:VEVENT
DTSTART;TZID=America/Chicago:20270107T180000
DTEND;TZID=America/Chicago:20270107T210000
DTSTAMP:20260421T033914
CREATED:20251229T170903Z
LAST-MODIFIED:20251229T170903Z
UID:10007405-1799344800-1799355600@www.oasispickleballclub.com
SUMMARY:Pickleball & Pizza
DESCRIPTION:
URL:https://www.oasispickleballclub.com/calendar/pickleball-pizza/2027-01-07/
END:VEVENT
BEGIN:VEVENT
DTSTART;TZID=America/Chicago:20270108T080000
DTEND;TZID=America/Chicago:20270108T200000
DTSTAMP:20260421T033914
CREATED:20251229T165446Z
LAST-MODIFIED:20251229T165446Z
UID:10006107-1799395200-1799438400@www.oasispickleballclub.com
SUMMARY:Open Play (All Levels) - Friday
DESCRIPTION:
URL:https://www.oasispickleballclub.com/calendar/open-play-all-levels-friday/2027-01-08/
LOCATION:Oasis Pickleball Club\, 5757 SH-205\, Rockwall\, TX\, 75032\, United States
ORGANIZER;CN="Oasis Pickleball Club":MAILTO:director@oasispickleballclub.com
END:VEVENT
BEGIN:VEVENT
DTSTART;TZID=America/Chicago:20270109T080000
DTEND;TZID=America/Chicago:20270109T200000
DTSTAMP:20260421T033914
CREATED:20241105T171457Z
LAST-MODIFIED:20251229T165047Z
UID:10005001-1799481600-1799524800@www.oasispickleballclub.com
SUMMARY:Open Play (All Levels) - Saturday
DESCRIPTION:
URL:https://www.oasispickleballclub.com/calendar/open-play-all-levels-4/2027-01-09/
LOCATION:Oasis Pickleball Club\, 5757 SH-205\, Rockwall\, TX\, 75032\, United States
ORGANIZER;CN="Oasis Pickleball Club":MAILTO:director@oasispickleballclub.com
END:VEVENT
BEGIN:VEVENT
DTSTART;TZID=America/Chicago:20270109T090000
DTEND;TZID=America/Chicago:20270109T110000
DTSTAMP:20260421T033914
CREATED:20251229T171059Z
LAST-MODIFIED:20251229T171059Z
UID:10007667-1799485200-1799492400@www.oasispickleballclub.com
SUMMARY:Round Robin (Saturdays)
DESCRIPTION:
URL:https://www.oasispickleballclub.com/calendar/round-robin-saturdays/2027-01-09/
END:VEVENT
BEGIN:VEVENT
DTSTART;TZID=America/Chicago:20270110T110000
DTEND;TZID=America/Chicago:20270110T190000
DTSTAMP:20260421T033914
CREATED:20241105T171813Z
LAST-MODIFIED:20251229T165035Z
UID:10005263-1799578800-1799607600@www.oasispickleballclub.com
SUMMARY:Open Play (All Levels) - Sunday
DESCRIPTION:
URL:https://www.oasispickleballclub.com/calendar/open-play-all-levels-5/2027-01-10/
LOCATION:Oasis Pickleball Club\, 5757 SH-205\, Rockwall\, TX\, 75032\, United States
ORGANIZER;CN="Oasis Pickleball Club":MAILTO:director@oasispickleballclub.com
END:VEVENT
BEGIN:VEVENT
DTSTART;TZID=America/Chicago:20270111T080000
DTEND;TZID=America/Chicago:20270111T210000
DTSTAMP:20260421T033914
CREATED:20251229T165305Z
LAST-MODIFIED:20251229T165307Z
UID:10001246-1799654400-1799701200@www.oasispickleballclub.com
SUMMARY:Open Play (All Levels) - Monday
DESCRIPTION:
URL:https://www.oasispickleballclub.com/calendar/open-play-all-levels-6/2027-01-11/
LOCATION:Oasis Pickleball Club\, 5757 SH-205\, Rockwall\, TX\, 75032\, United States
ORGANIZER;CN="Oasis Pickleball Club":MAILTO:director@oasispickleballclub.com
END:VEVENT
END:VCALENDAR