BEGIN:VCALENDAR
VERSION:2.0
PRODID:-//Oasis Pickleball Club - ECPv6.15.13//NONSGML v1.0//EN
CALSCALE:GREGORIAN
METHOD:PUBLISH
X-WR-CALNAME:Oasis Pickleball Club
X-ORIGINAL-URL:https://www.oasispickleballclub.com
X-WR-CALDESC:Events for Oasis Pickleball Club
REFRESH-INTERVAL;VALUE=DURATION:PT1H
X-Robots-Tag:noindex
X-PUBLISHED-TTL:PT1H
BEGIN:VTIMEZONE
TZID:America/Chicago
BEGIN:DAYLIGHT
TZOFFSETFROM:-0600
TZOFFSETTO:-0500
TZNAME:CDT
DTSTART:20250309T080000
END:DAYLIGHT
BEGIN:STANDARD
TZOFFSETFROM:-0500
TZOFFSETTO:-0600
TZNAME:CST
DTSTART:20251102T070000
END:STANDARD
BEGIN:DAYLIGHT
TZOFFSETFROM:-0600
TZOFFSETTO:-0500
TZNAME:CDT
DTSTART:20260308T080000
END:DAYLIGHT
BEGIN:STANDARD
TZOFFSETFROM:-0500
TZOFFSETTO:-0600
TZNAME:CST
DTSTART:20261101T070000
END:STANDARD
BEGIN:DAYLIGHT
TZOFFSETFROM:-0600
TZOFFSETTO:-0500
TZNAME:CDT
DTSTART:20270314T080000
END:DAYLIGHT
BEGIN:STANDARD
TZOFFSETFROM:-0500
TZOFFSETTO:-0600
TZNAME:CST
DTSTART:20271107T070000
END:STANDARD
END:VTIMEZONE
BEGIN:VEVENT
DTSTART;TZID=America/Chicago:20260314T090000
DTEND;TZID=America/Chicago:20260314T110000
DTSTAMP:20260422T170125
CREATED:20251229T171059Z
LAST-MODIFIED:20251229T171059Z
UID:10007624-1773478800-1773486000@www.oasispickleballclub.com
SUMMARY:Round Robin (Saturdays)
DESCRIPTION:
URL:https://www.oasispickleballclub.com/calendar/round-robin-saturdays/2026-03-14/
END:VEVENT
BEGIN:VEVENT
DTSTART;TZID=America/Chicago:20260315T110000
DTEND;TZID=America/Chicago:20260315T190000
DTSTAMP:20260422T170125
CREATED:20241105T171813Z
LAST-MODIFIED:20251229T165035Z
UID:10005220-1773572400-1773601200@www.oasispickleballclub.com
SUMMARY:Open Play (All Levels) - Sunday
DESCRIPTION:
URL:https://www.oasispickleballclub.com/calendar/open-play-all-levels-5/2026-03-15/
LOCATION:Oasis Pickleball Club\, 5757 SH-205\, Rockwall\, TX\, 75032\, United States
ORGANIZER;CN="Oasis Pickleball Club":MAILTO:director@oasispickleballclub.com
END:VEVENT
BEGIN:VEVENT
DTSTART;TZID=America/Chicago:20260316T080000
DTEND;TZID=America/Chicago:20260316T210000
DTSTAMP:20260422T170125
CREATED:20251229T165305Z
LAST-MODIFIED:20251229T165307Z
UID:10001020-1773648000-1773694800@www.oasispickleballclub.com
SUMMARY:Open Play (All Levels) - Monday
DESCRIPTION:
URL:https://www.oasispickleballclub.com/calendar/open-play-all-levels-6/2026-03-16/
LOCATION:Oasis Pickleball Club\, 5757 SH-205\, Rockwall\, TX\, 75032\, United States
ORGANIZER;CN="Oasis Pickleball Club":MAILTO:director@oasispickleballclub.com
END:VEVENT
BEGIN:VEVENT
DTSTART;TZID=America/Chicago:20260316T190000
DTEND;TZID=America/Chicago:20260316T200000
DTSTAMP:20260422T170125
CREATED:20251229T165758Z
LAST-MODIFIED:20251229T165912Z
UID:10006324-1773687600-1773691200@www.oasispickleballclub.com
SUMMARY:Intro to Pickleball
DESCRIPTION:
URL:https://www.oasispickleballclub.com/calendar/intro-level-1-class-2/2026-03-16/
LOCATION:Oasis Pickleball Club\, 5757 SH-205\, Rockwall\, TX\, 75032\, United States
ORGANIZER;CN="Oasis Pickleball Club":MAILTO:director@oasispickleballclub.com
END:VEVENT
BEGIN:VEVENT
DTSTART;TZID=America/Chicago:20260316T200000
DTEND;TZID=America/Chicago:20260316T210000
DTSTAMP:20260422T170125
CREATED:20251229T170134Z
LAST-MODIFIED:20251229T170138Z
UID:10006584-1773691200-1773694800@www.oasispickleballclub.com
SUMMARY:Drills with Tom
DESCRIPTION:Price is $20 for members\, $30 for non-members.
URL:https://www.oasispickleballclub.com/calendar/drills-with-coach-2/2026-03-16/
LOCATION:Oasis Pickleball Club\, 5757 SH-205\, Rockwall\, TX\, 75032\, United States
ORGANIZER;CN="Oasis Pickleball Club":MAILTO:director@oasispickleballclub.com
END:VEVENT
BEGIN:VEVENT
DTSTART;TZID=America/Chicago:20260317T080000
DTEND;TZID=America/Chicago:20260317T210000
DTSTAMP:20260422T170125
CREATED:20251229T165315Z
LAST-MODIFIED:20251229T165317Z
UID:10002349-1773734400-1773781200@www.oasispickleballclub.com
SUMMARY:Open Play (All Levels) - Tuesday
DESCRIPTION:
URL:https://www.oasispickleballclub.com/calendar/open-play-all-levels-2-2/2026-03-17/
LOCATION:Oasis Pickleball Club\, 5757 SH-205\, Rockwall\, TX\, 75032\, United States
ORGANIZER;CN="Oasis Pickleball Club":MAILTO:director@oasispickleballclub.com
END:VEVENT
BEGIN:VEVENT
DTSTART;TZID=America/Chicago:20260317T185903
DTEND;TZID=America/Chicago:20260317T205903
DTSTAMP:20260422T170125
CREATED:20251229T170346Z
LAST-MODIFIED:20251229T172712Z
UID:10008007-1773773943-1773781143@www.oasispickleballclub.com
SUMMARY:Round Robin (Tuesdays)
DESCRIPTION:
URL:https://www.oasispickleballclub.com/calendar/round-robin-2-2/2026-03-17/
LOCATION:Oasis Pickleball Club\, 5757 SH-205\, Rockwall\, TX\, 75032\, United States
ORGANIZER;CN="Oasis Pickleball Club":MAILTO:director@oasispickleballclub.com
END:VEVENT
BEGIN:VEVENT
DTSTART;TZID=America/Chicago:20260318T080000
DTEND;TZID=America/Chicago:20260318T210000
DTSTAMP:20260422T170125
CREATED:20251229T165324Z
LAST-MODIFIED:20251229T165326Z
UID:10002869-1773820800-1773867600@www.oasispickleballclub.com
SUMMARY:Open Play (All Levels) - Wednesday
DESCRIPTION:
URL:https://www.oasispickleballclub.com/calendar/open-play-all-levels-3-2/2026-03-18/
LOCATION:Oasis Pickleball Club\, 5757 SH-205\, Rockwall\, TX\, 75032\, United States
ORGANIZER;CN="Oasis Pickleball Club":MAILTO:director@oasispickleballclub.com
END:VEVENT
BEGIN:VEVENT
DTSTART;TZID=America/Chicago:20260318T190000
DTEND;TZID=America/Chicago:20260318T210000
DTSTAMP:20260422T170125
CREATED:20251229T170806Z
LAST-MODIFIED:20251229T170806Z
UID:10007103-1773860400-1773867600@www.oasispickleballclub.com
SUMMARY:Chill Pickles
DESCRIPTION:Rockwall residents enjoy half off
URL:https://www.oasispickleballclub.com/calendar/chill-pickles/2026-03-18/
END:VEVENT
BEGIN:VEVENT
DTSTART;TZID=America/Chicago:20260319T080000
DTEND;TZID=America/Chicago:20260319T210000
DTSTAMP:20260422T170125
CREATED:20251229T165336Z
LAST-MODIFIED:20251229T165337Z
UID:10003129-1773907200-1773954000@www.oasispickleballclub.com
SUMMARY:Open Play (All Levels) - Thursday
DESCRIPTION:
URL:https://www.oasispickleballclub.com/calendar/open-play-all-levels-thursdays-2/2026-03-19/
LOCATION:Oasis Pickleball Club\, 5757 SH-205\, Rockwall\, TX\, 75032\, United States
ORGANIZER;CN="Oasis Pickleball Club":MAILTO:director@oasispickleballclub.com
END:VEVENT
BEGIN:VEVENT
DTSTART;TZID=America/Chicago:20260319T180000
DTEND;TZID=America/Chicago:20260319T210000
DTSTAMP:20260422T170125
CREATED:20251229T170903Z
LAST-MODIFIED:20251229T170903Z
UID:10007363-1773943200-1773954000@www.oasispickleballclub.com
SUMMARY:Pickleball & Pizza
DESCRIPTION:
URL:https://www.oasispickleballclub.com/calendar/pickleball-pizza/2026-03-19/
END:VEVENT
BEGIN:VEVENT
DTSTART;TZID=America/Chicago:20260320T080000
DTEND;TZID=America/Chicago:20260320T200000
DTSTAMP:20260422T170125
CREATED:20251229T165446Z
LAST-MODIFIED:20251229T165446Z
UID:10006065-1773993600-1774036800@www.oasispickleballclub.com
SUMMARY:Open Play (All Levels) - Friday
DESCRIPTION:
URL:https://www.oasispickleballclub.com/calendar/open-play-all-levels-friday/2026-03-20/
LOCATION:Oasis Pickleball Club\, 5757 SH-205\, Rockwall\, TX\, 75032\, United States
ORGANIZER;CN="Oasis Pickleball Club":MAILTO:director@oasispickleballclub.com
END:VEVENT
BEGIN:VEVENT
DTSTART;TZID=America/Chicago:20260321T080000
DTEND;TZID=America/Chicago:20260321T200000
DTSTAMP:20260422T170125
CREATED:20241105T171457Z
LAST-MODIFIED:20251229T165047Z
UID:10004959-1774080000-1774123200@www.oasispickleballclub.com
SUMMARY:Open Play (All Levels) - Saturday
DESCRIPTION:
URL:https://www.oasispickleballclub.com/calendar/open-play-all-levels-4/2026-03-21/
LOCATION:Oasis Pickleball Club\, 5757 SH-205\, Rockwall\, TX\, 75032\, United States
ORGANIZER;CN="Oasis Pickleball Club":MAILTO:director@oasispickleballclub.com
END:VEVENT
BEGIN:VEVENT
DTSTART;TZID=America/Chicago:20260321T080000
DTEND;TZID=America/Chicago:20260322T170000
DTSTAMP:20260422T170125
CREATED:20251118T143821Z
LAST-MODIFIED:20251118T143821Z
UID:10005485-1774080000-1774198800@www.oasispickleballclub.com
SUMMARY:Level Up Pickleball Camps
DESCRIPTION:
URL:https://www.oasispickleballclub.com/calendar/level-up-pickleball-camps/
END:VEVENT
BEGIN:VEVENT
DTSTART;TZID=America/Chicago:20260321T090000
DTEND;TZID=America/Chicago:20260321T110000
DTSTAMP:20260422T170125
CREATED:20251229T171059Z
LAST-MODIFIED:20251229T171059Z
UID:10007625-1774083600-1774090800@www.oasispickleballclub.com
SUMMARY:Round Robin (Saturdays)
DESCRIPTION:
URL:https://www.oasispickleballclub.com/calendar/round-robin-saturdays/2026-03-21/
END:VEVENT
BEGIN:VEVENT
DTSTART;TZID=America/Chicago:20260322T110000
DTEND;TZID=America/Chicago:20260322T190000
DTSTAMP:20260422T170125
CREATED:20241105T171813Z
LAST-MODIFIED:20251229T165035Z
UID:10005221-1774177200-1774206000@www.oasispickleballclub.com
SUMMARY:Open Play (All Levels) - Sunday
DESCRIPTION:
URL:https://www.oasispickleballclub.com/calendar/open-play-all-levels-5/2026-03-22/
LOCATION:Oasis Pickleball Club\, 5757 SH-205\, Rockwall\, TX\, 75032\, United States
ORGANIZER;CN="Oasis Pickleball Club":MAILTO:director@oasispickleballclub.com
END:VEVENT
BEGIN:VEVENT
DTSTART;TZID=America/Chicago:20260323T080000
DTEND;TZID=America/Chicago:20260323T210000
DTSTAMP:20260422T170125
CREATED:20251229T165305Z
LAST-MODIFIED:20251229T165307Z
UID:10001025-1774252800-1774299600@www.oasispickleballclub.com
SUMMARY:Open Play (All Levels) - Monday
DESCRIPTION:
URL:https://www.oasispickleballclub.com/calendar/open-play-all-levels-6/2026-03-23/
LOCATION:Oasis Pickleball Club\, 5757 SH-205\, Rockwall\, TX\, 75032\, United States
ORGANIZER;CN="Oasis Pickleball Club":MAILTO:director@oasispickleballclub.com
END:VEVENT
BEGIN:VEVENT
DTSTART;TZID=America/Chicago:20260323T190000
DTEND;TZID=America/Chicago:20260323T200000
DTSTAMP:20260422T170125
CREATED:20251229T165758Z
LAST-MODIFIED:20251229T165912Z
UID:10006325-1774292400-1774296000@www.oasispickleballclub.com
SUMMARY:Intro to Pickleball
DESCRIPTION:
URL:https://www.oasispickleballclub.com/calendar/intro-level-1-class-2/2026-03-23/
LOCATION:Oasis Pickleball Club\, 5757 SH-205\, Rockwall\, TX\, 75032\, United States
ORGANIZER;CN="Oasis Pickleball Club":MAILTO:director@oasispickleballclub.com
END:VEVENT
BEGIN:VEVENT
DTSTART;TZID=America/Chicago:20260323T200000
DTEND;TZID=America/Chicago:20260323T210000
DTSTAMP:20260422T170125
CREATED:20251229T170134Z
LAST-MODIFIED:20251229T170138Z
UID:10006585-1774296000-1774299600@www.oasispickleballclub.com
SUMMARY:Drills with Tom
DESCRIPTION:Price is $20 for members\, $30 for non-members.
URL:https://www.oasispickleballclub.com/calendar/drills-with-coach-2/2026-03-23/
LOCATION:Oasis Pickleball Club\, 5757 SH-205\, Rockwall\, TX\, 75032\, United States
ORGANIZER;CN="Oasis Pickleball Club":MAILTO:director@oasispickleballclub.com
END:VEVENT
BEGIN:VEVENT
DTSTART;TZID=America/Chicago:20260324T080000
DTEND;TZID=America/Chicago:20260324T210000
DTSTAMP:20260422T170125
CREATED:20251229T165315Z
LAST-MODIFIED:20251229T165317Z
UID:10002350-1774339200-1774386000@www.oasispickleballclub.com
SUMMARY:Open Play (All Levels) - Tuesday
DESCRIPTION:
URL:https://www.oasispickleballclub.com/calendar/open-play-all-levels-2-2/2026-03-24/
LOCATION:Oasis Pickleball Club\, 5757 SH-205\, Rockwall\, TX\, 75032\, United States
ORGANIZER;CN="Oasis Pickleball Club":MAILTO:director@oasispickleballclub.com
END:VEVENT
BEGIN:VEVENT
DTSTART;TZID=America/Chicago:20260324T185903
DTEND;TZID=America/Chicago:20260324T205903
DTSTAMP:20260422T170125
CREATED:20251229T170346Z
LAST-MODIFIED:20251229T172712Z
UID:10008008-1774378743-1774385943@www.oasispickleballclub.com
SUMMARY:Round Robin (Tuesdays)
DESCRIPTION:
URL:https://www.oasispickleballclub.com/calendar/round-robin-2-2/2026-03-24/
LOCATION:Oasis Pickleball Club\, 5757 SH-205\, Rockwall\, TX\, 75032\, United States
ORGANIZER;CN="Oasis Pickleball Club":MAILTO:director@oasispickleballclub.com
END:VEVENT
BEGIN:VEVENT
DTSTART;TZID=America/Chicago:20260325T080000
DTEND;TZID=America/Chicago:20260325T210000
DTSTAMP:20260422T170125
CREATED:20251229T165324Z
LAST-MODIFIED:20251229T165326Z
UID:10002870-1774425600-1774472400@www.oasispickleballclub.com
SUMMARY:Open Play (All Levels) - Wednesday
DESCRIPTION:
URL:https://www.oasispickleballclub.com/calendar/open-play-all-levels-3-2/2026-03-25/
LOCATION:Oasis Pickleball Club\, 5757 SH-205\, Rockwall\, TX\, 75032\, United States
ORGANIZER;CN="Oasis Pickleball Club":MAILTO:director@oasispickleballclub.com
END:VEVENT
BEGIN:VEVENT
DTSTART;TZID=America/Chicago:20260325T190000
DTEND;TZID=America/Chicago:20260325T210000
DTSTAMP:20260422T170125
CREATED:20251229T170806Z
LAST-MODIFIED:20251229T170806Z
UID:10007104-1774465200-1774472400@www.oasispickleballclub.com
SUMMARY:Chill Pickles
DESCRIPTION:Rockwall residents enjoy half off
URL:https://www.oasispickleballclub.com/calendar/chill-pickles/2026-03-25/
END:VEVENT
BEGIN:VEVENT
DTSTART;TZID=America/Chicago:20260326T080000
DTEND;TZID=America/Chicago:20260326T210000
DTSTAMP:20260422T170125
CREATED:20251229T165336Z
LAST-MODIFIED:20251229T165337Z
UID:10003130-1774512000-1774558800@www.oasispickleballclub.com
SUMMARY:Open Play (All Levels) - Thursday
DESCRIPTION:
URL:https://www.oasispickleballclub.com/calendar/open-play-all-levels-thursdays-2/2026-03-26/
LOCATION:Oasis Pickleball Club\, 5757 SH-205\, Rockwall\, TX\, 75032\, United States
ORGANIZER;CN="Oasis Pickleball Club":MAILTO:director@oasispickleballclub.com
END:VEVENT
BEGIN:VEVENT
DTSTART;TZID=America/Chicago:20260326T180000
DTEND;TZID=America/Chicago:20260326T210000
DTSTAMP:20260422T170125
CREATED:20251229T170903Z
LAST-MODIFIED:20251229T170903Z
UID:10007364-1774548000-1774558800@www.oasispickleballclub.com
SUMMARY:Pickleball & Pizza
DESCRIPTION:
URL:https://www.oasispickleballclub.com/calendar/pickleball-pizza/2026-03-26/
END:VEVENT
BEGIN:VEVENT
DTSTART;TZID=America/Chicago:20260327T080000
DTEND;TZID=America/Chicago:20260327T200000
DTSTAMP:20260422T170125
CREATED:20251229T165446Z
LAST-MODIFIED:20251229T165446Z
UID:10006066-1774598400-1774641600@www.oasispickleballclub.com
SUMMARY:Open Play (All Levels) - Friday
DESCRIPTION:
URL:https://www.oasispickleballclub.com/calendar/open-play-all-levels-friday/2026-03-27/
LOCATION:Oasis Pickleball Club\, 5757 SH-205\, Rockwall\, TX\, 75032\, United States
ORGANIZER;CN="Oasis Pickleball Club":MAILTO:director@oasispickleballclub.com
END:VEVENT
BEGIN:VEVENT
DTSTART;TZID=America/Chicago:20260328T080000
DTEND;TZID=America/Chicago:20260328T200000
DTSTAMP:20260422T170125
CREATED:20241105T171457Z
LAST-MODIFIED:20251229T165047Z
UID:10004960-1774684800-1774728000@www.oasispickleballclub.com
SUMMARY:Open Play (All Levels) - Saturday
DESCRIPTION:
URL:https://www.oasispickleballclub.com/calendar/open-play-all-levels-4/2026-03-28/
LOCATION:Oasis Pickleball Club\, 5757 SH-205\, Rockwall\, TX\, 75032\, United States
ORGANIZER;CN="Oasis Pickleball Club":MAILTO:director@oasispickleballclub.com
END:VEVENT
BEGIN:VEVENT
DTSTART;TZID=America/Chicago:20260328T090000
DTEND;TZID=America/Chicago:20260328T110000
DTSTAMP:20260422T170125
CREATED:20251229T171059Z
LAST-MODIFIED:20251229T171059Z
UID:10007626-1774688400-1774695600@www.oasispickleballclub.com
SUMMARY:Round Robin (Saturdays)
DESCRIPTION:
URL:https://www.oasispickleballclub.com/calendar/round-robin-saturdays/2026-03-28/
END:VEVENT
BEGIN:VEVENT
DTSTART;TZID=America/Chicago:20260329T110000
DTEND;TZID=America/Chicago:20260329T190000
DTSTAMP:20260422T170125
CREATED:20241105T171813Z
LAST-MODIFIED:20251229T165035Z
UID:10005222-1774782000-1774810800@www.oasispickleballclub.com
SUMMARY:Open Play (All Levels) - Sunday
DESCRIPTION:
URL:https://www.oasispickleballclub.com/calendar/open-play-all-levels-5/2026-03-29/
LOCATION:Oasis Pickleball Club\, 5757 SH-205\, Rockwall\, TX\, 75032\, United States
ORGANIZER;CN="Oasis Pickleball Club":MAILTO:director@oasispickleballclub.com
END:VEVENT
BEGIN:VEVENT
DTSTART;TZID=America/Chicago:20260330T080000
DTEND;TZID=America/Chicago:20260330T210000
DTSTAMP:20260422T170125
CREATED:20251229T165305Z
LAST-MODIFIED:20251229T165307Z
UID:10000074-1774857600-1774904400@www.oasispickleballclub.com
SUMMARY:Open Play (All Levels) - Monday
DESCRIPTION:
URL:https://www.oasispickleballclub.com/calendar/open-play-all-levels-6/2026-03-30/
LOCATION:Oasis Pickleball Club\, 5757 SH-205\, Rockwall\, TX\, 75032\, United States
ORGANIZER;CN="Oasis Pickleball Club":MAILTO:director@oasispickleballclub.com
END:VEVENT
END:VCALENDAR