BEGIN:VCALENDAR
VERSION:2.0
PRODID:-//Oasis Pickleball Club - ECPv6.15.13//NONSGML v1.0//EN
CALSCALE:GREGORIAN
METHOD:PUBLISH
X-ORIGINAL-URL:https://www.oasispickleballclub.com
X-WR-CALDESC:Events for Oasis Pickleball Club
REFRESH-INTERVAL;VALUE=DURATION:PT1H
X-Robots-Tag:noindex
X-PUBLISHED-TTL:PT1H
BEGIN:VTIMEZONE
TZID:America/Chicago
BEGIN:DAYLIGHT
TZOFFSETFROM:-0600
TZOFFSETTO:-0500
TZNAME:CDT
DTSTART:20250309T080000
END:DAYLIGHT
BEGIN:STANDARD
TZOFFSETFROM:-0500
TZOFFSETTO:-0600
TZNAME:CST
DTSTART:20251102T070000
END:STANDARD
BEGIN:DAYLIGHT
TZOFFSETFROM:-0600
TZOFFSETTO:-0500
TZNAME:CDT
DTSTART:20260308T080000
END:DAYLIGHT
BEGIN:STANDARD
TZOFFSETFROM:-0500
TZOFFSETTO:-0600
TZNAME:CST
DTSTART:20261101T070000
END:STANDARD
BEGIN:DAYLIGHT
TZOFFSETFROM:-0600
TZOFFSETTO:-0500
TZNAME:CDT
DTSTART:20270314T080000
END:DAYLIGHT
BEGIN:STANDARD
TZOFFSETFROM:-0500
TZOFFSETTO:-0600
TZNAME:CST
DTSTART:20271107T070000
END:STANDARD
END:VTIMEZONE
BEGIN:VEVENT
DTSTART;TZID=America/Chicago:20260226T180000
DTEND;TZID=America/Chicago:20260226T210000
DTSTAMP:20260421T185743
CREATED:20251229T170903Z
LAST-MODIFIED:20251229T170903Z
UID:10007360-1772128800-1772139600@www.oasispickleballclub.com
SUMMARY:Pickleball & Pizza
DESCRIPTION:
URL:https://www.oasispickleballclub.com/calendar/pickleball-pizza/2026-02-26/
END:VEVENT
BEGIN:VEVENT
DTSTART;TZID=America/Chicago:20260227T080000
DTEND;TZID=America/Chicago:20260227T200000
DTSTAMP:20260421T185743
CREATED:20251229T165446Z
LAST-MODIFIED:20251229T165446Z
UID:10006062-1772179200-1772222400@www.oasispickleballclub.com
SUMMARY:Open Play (All Levels) - Friday
DESCRIPTION:
URL:https://www.oasispickleballclub.com/calendar/open-play-all-levels-friday/2026-02-27/
LOCATION:Oasis Pickleball Club\, 5757 SH-205\, Rockwall\, TX\, 75032\, United States
ORGANIZER;CN="Oasis Pickleball Club":MAILTO:director@oasispickleballclub.com
END:VEVENT
BEGIN:VEVENT
DTSTART;TZID=America/Chicago:20260228T080000
DTEND;TZID=America/Chicago:20260228T200000
DTSTAMP:20260421T185743
CREATED:20241105T171457Z
LAST-MODIFIED:20251229T165047Z
UID:10004956-1772265600-1772308800@www.oasispickleballclub.com
SUMMARY:Open Play (All Levels) - Saturday
DESCRIPTION:
URL:https://www.oasispickleballclub.com/calendar/open-play-all-levels-4/2026-02-28/
LOCATION:Oasis Pickleball Club\, 5757 SH-205\, Rockwall\, TX\, 75032\, United States
ORGANIZER;CN="Oasis Pickleball Club":MAILTO:director@oasispickleballclub.com
END:VEVENT
BEGIN:VEVENT
DTSTART;TZID=America/Chicago:20260228T080000
DTEND;TZID=America/Chicago:20260301T170000
DTSTAMP:20260421T185743
CREATED:20251118T143731Z
LAST-MODIFIED:20251118T143731Z
UID:10005484-1772265600-1772384400@www.oasispickleballclub.com
SUMMARY:Amateur Pickleball Association
DESCRIPTION:
URL:https://www.oasispickleballclub.com/calendar/amateur-pickleball-association-2/
END:VEVENT
BEGIN:VEVENT
DTSTART;TZID=America/Chicago:20260228T090000
DTEND;TZID=America/Chicago:20260228T110000
DTSTAMP:20260421T185743
CREATED:20251229T171059Z
LAST-MODIFIED:20251229T171059Z
UID:10007622-1772269200-1772276400@www.oasispickleballclub.com
SUMMARY:Round Robin (Saturdays)
DESCRIPTION:
URL:https://www.oasispickleballclub.com/calendar/round-robin-saturdays/2026-02-28/
END:VEVENT
BEGIN:VEVENT
DTSTART;TZID=America/Chicago:20260301T110000
DTEND;TZID=America/Chicago:20260301T190000
DTSTAMP:20260421T185743
CREATED:20241105T171813Z
LAST-MODIFIED:20251229T165035Z
UID:10005218-1772362800-1772391600@www.oasispickleballclub.com
SUMMARY:Open Play (All Levels) - Sunday
DESCRIPTION:
URL:https://www.oasispickleballclub.com/calendar/open-play-all-levels-5/2026-03-01/
LOCATION:Oasis Pickleball Club\, 5757 SH-205\, Rockwall\, TX\, 75032\, United States
ORGANIZER;CN="Oasis Pickleball Club":MAILTO:director@oasispickleballclub.com
END:VEVENT
BEGIN:VEVENT
DTSTART;TZID=America/Chicago:20260302T080000
DTEND;TZID=America/Chicago:20260302T210000
DTSTAMP:20260421T185743
CREATED:20251229T165305Z
LAST-MODIFIED:20251229T165307Z
UID:10000070-1772438400-1772485200@www.oasispickleballclub.com
SUMMARY:Open Play (All Levels) - Monday
DESCRIPTION:
URL:https://www.oasispickleballclub.com/calendar/open-play-all-levels-6/2026-03-02/
LOCATION:Oasis Pickleball Club\, 5757 SH-205\, Rockwall\, TX\, 75032\, United States
ORGANIZER;CN="Oasis Pickleball Club":MAILTO:director@oasispickleballclub.com
END:VEVENT
BEGIN:VEVENT
DTSTART;TZID=America/Chicago:20260302T190000
DTEND;TZID=America/Chicago:20260302T200000
DTSTAMP:20260421T185743
CREATED:20251229T165758Z
LAST-MODIFIED:20251229T165912Z
UID:10006322-1772478000-1772481600@www.oasispickleballclub.com
SUMMARY:Intro to Pickleball
DESCRIPTION:
URL:https://www.oasispickleballclub.com/calendar/intro-level-1-class-2/2026-03-02/
LOCATION:Oasis Pickleball Club\, 5757 SH-205\, Rockwall\, TX\, 75032\, United States
ORGANIZER;CN="Oasis Pickleball Club":MAILTO:director@oasispickleballclub.com
END:VEVENT
BEGIN:VEVENT
DTSTART;TZID=America/Chicago:20260302T200000
DTEND;TZID=America/Chicago:20260302T210000
DTSTAMP:20260421T185743
CREATED:20251229T170134Z
LAST-MODIFIED:20251229T170138Z
UID:10006582-1772481600-1772485200@www.oasispickleballclub.com
SUMMARY:Drills with Tom
DESCRIPTION:Price is $20 for members\, $30 for non-members.
URL:https://www.oasispickleballclub.com/calendar/drills-with-coach-2/2026-03-02/
LOCATION:Oasis Pickleball Club\, 5757 SH-205\, Rockwall\, TX\, 75032\, United States
ORGANIZER;CN="Oasis Pickleball Club":MAILTO:director@oasispickleballclub.com
END:VEVENT
BEGIN:VEVENT
DTSTART;TZID=America/Chicago:20260303T080000
DTEND;TZID=America/Chicago:20260303T210000
DTSTAMP:20260421T185743
CREATED:20251229T165315Z
LAST-MODIFIED:20251229T165317Z
UID:10002347-1772524800-1772571600@www.oasispickleballclub.com
SUMMARY:Open Play (All Levels) - Tuesday
DESCRIPTION:
URL:https://www.oasispickleballclub.com/calendar/open-play-all-levels-2-2/2026-03-03/
LOCATION:Oasis Pickleball Club\, 5757 SH-205\, Rockwall\, TX\, 75032\, United States
ORGANIZER;CN="Oasis Pickleball Club":MAILTO:director@oasispickleballclub.com
END:VEVENT
BEGIN:VEVENT
DTSTART;TZID=America/Chicago:20260303T185903
DTEND;TZID=America/Chicago:20260303T205903
DTSTAMP:20260421T185743
CREATED:20251229T170346Z
LAST-MODIFIED:20251229T172712Z
UID:10008005-1772564343-1772571543@www.oasispickleballclub.com
SUMMARY:Round Robin (Tuesdays)
DESCRIPTION:
URL:https://www.oasispickleballclub.com/calendar/round-robin-2-2/2026-03-03/
LOCATION:Oasis Pickleball Club\, 5757 SH-205\, Rockwall\, TX\, 75032\, United States
ORGANIZER;CN="Oasis Pickleball Club":MAILTO:director@oasispickleballclub.com
END:VEVENT
BEGIN:VEVENT
DTSTART;TZID=America/Chicago:20260304T080000
DTEND;TZID=America/Chicago:20260304T210000
DTSTAMP:20260421T185743
CREATED:20251229T165324Z
LAST-MODIFIED:20251229T165326Z
UID:10002867-1772611200-1772658000@www.oasispickleballclub.com
SUMMARY:Open Play (All Levels) - Wednesday
DESCRIPTION:
URL:https://www.oasispickleballclub.com/calendar/open-play-all-levels-3-2/2026-03-04/
LOCATION:Oasis Pickleball Club\, 5757 SH-205\, Rockwall\, TX\, 75032\, United States
ORGANIZER;CN="Oasis Pickleball Club":MAILTO:director@oasispickleballclub.com
END:VEVENT
BEGIN:VEVENT
DTSTART;TZID=America/Chicago:20260304T190000
DTEND;TZID=America/Chicago:20260304T210000
DTSTAMP:20260421T185743
CREATED:20251229T170806Z
LAST-MODIFIED:20251229T170806Z
UID:10007101-1772650800-1772658000@www.oasispickleballclub.com
SUMMARY:Chill Pickles
DESCRIPTION:Rockwall residents enjoy half off
URL:https://www.oasispickleballclub.com/calendar/chill-pickles/2026-03-04/
END:VEVENT
BEGIN:VEVENT
DTSTART;TZID=America/Chicago:20260305T080000
DTEND;TZID=America/Chicago:20260305T210000
DTSTAMP:20260421T185743
CREATED:20251229T165336Z
LAST-MODIFIED:20251229T165337Z
UID:10003127-1772697600-1772744400@www.oasispickleballclub.com
SUMMARY:Open Play (All Levels) - Thursday
DESCRIPTION:
URL:https://www.oasispickleballclub.com/calendar/open-play-all-levels-thursdays-2/2026-03-05/
LOCATION:Oasis Pickleball Club\, 5757 SH-205\, Rockwall\, TX\, 75032\, United States
ORGANIZER;CN="Oasis Pickleball Club":MAILTO:director@oasispickleballclub.com
END:VEVENT
BEGIN:VEVENT
DTSTART;TZID=America/Chicago:20260305T180000
DTEND;TZID=America/Chicago:20260305T210000
DTSTAMP:20260421T185743
CREATED:20251229T170903Z
LAST-MODIFIED:20251229T170903Z
UID:10007361-1772733600-1772744400@www.oasispickleballclub.com
SUMMARY:Pickleball & Pizza
DESCRIPTION:
URL:https://www.oasispickleballclub.com/calendar/pickleball-pizza/2026-03-05/
END:VEVENT
BEGIN:VEVENT
DTSTART;TZID=America/Chicago:20260306T080000
DTEND;TZID=America/Chicago:20260306T200000
DTSTAMP:20260421T185743
CREATED:20251229T165446Z
LAST-MODIFIED:20251229T165446Z
UID:10006063-1772784000-1772827200@www.oasispickleballclub.com
SUMMARY:Open Play (All Levels) - Friday
DESCRIPTION:
URL:https://www.oasispickleballclub.com/calendar/open-play-all-levels-friday/2026-03-06/
LOCATION:Oasis Pickleball Club\, 5757 SH-205\, Rockwall\, TX\, 75032\, United States
ORGANIZER;CN="Oasis Pickleball Club":MAILTO:director@oasispickleballclub.com
END:VEVENT
BEGIN:VEVENT
DTSTART;TZID=America/Chicago:20260307T080000
DTEND;TZID=America/Chicago:20260307T200000
DTSTAMP:20260421T185743
CREATED:20241105T171457Z
LAST-MODIFIED:20251229T165047Z
UID:10004957-1772870400-1772913600@www.oasispickleballclub.com
SUMMARY:Open Play (All Levels) - Saturday
DESCRIPTION:
URL:https://www.oasispickleballclub.com/calendar/open-play-all-levels-4/2026-03-07/
LOCATION:Oasis Pickleball Club\, 5757 SH-205\, Rockwall\, TX\, 75032\, United States
ORGANIZER;CN="Oasis Pickleball Club":MAILTO:director@oasispickleballclub.com
END:VEVENT
BEGIN:VEVENT
DTSTART;TZID=America/Chicago:20260307T090000
DTEND;TZID=America/Chicago:20260307T110000
DTSTAMP:20260421T185743
CREATED:20251229T171059Z
LAST-MODIFIED:20251229T171059Z
UID:10007623-1772874000-1772881200@www.oasispickleballclub.com
SUMMARY:Round Robin (Saturdays)
DESCRIPTION:
URL:https://www.oasispickleballclub.com/calendar/round-robin-saturdays/2026-03-07/
END:VEVENT
BEGIN:VEVENT
DTSTART;TZID=America/Chicago:20260308T110000
DTEND;TZID=America/Chicago:20260308T190000
DTSTAMP:20260421T185743
CREATED:20241105T171813Z
LAST-MODIFIED:20251229T165035Z
UID:10005219-1772967600-1772996400@www.oasispickleballclub.com
SUMMARY:Open Play (All Levels) - Sunday
DESCRIPTION:
URL:https://www.oasispickleballclub.com/calendar/open-play-all-levels-5/2026-03-08/
LOCATION:Oasis Pickleball Club\, 5757 SH-205\, Rockwall\, TX\, 75032\, United States
ORGANIZER;CN="Oasis Pickleball Club":MAILTO:director@oasispickleballclub.com
END:VEVENT
BEGIN:VEVENT
DTSTART;TZID=America/Chicago:20260309T080000
DTEND;TZID=America/Chicago:20260309T210000
DTSTAMP:20260421T185743
CREATED:20251229T165305Z
LAST-MODIFIED:20251229T165307Z
UID:10001015-1773043200-1773090000@www.oasispickleballclub.com
SUMMARY:Open Play (All Levels) - Monday
DESCRIPTION:
URL:https://www.oasispickleballclub.com/calendar/open-play-all-levels-6/2026-03-09/
LOCATION:Oasis Pickleball Club\, 5757 SH-205\, Rockwall\, TX\, 75032\, United States
ORGANIZER;CN="Oasis Pickleball Club":MAILTO:director@oasispickleballclub.com
END:VEVENT
BEGIN:VEVENT
DTSTART;TZID=America/Chicago:20260309T190000
DTEND;TZID=America/Chicago:20260309T200000
DTSTAMP:20260421T185743
CREATED:20251229T165758Z
LAST-MODIFIED:20251229T165912Z
UID:10006323-1773082800-1773086400@www.oasispickleballclub.com
SUMMARY:Intro to Pickleball
DESCRIPTION:
URL:https://www.oasispickleballclub.com/calendar/intro-level-1-class-2/2026-03-09/
LOCATION:Oasis Pickleball Club\, 5757 SH-205\, Rockwall\, TX\, 75032\, United States
ORGANIZER;CN="Oasis Pickleball Club":MAILTO:director@oasispickleballclub.com
END:VEVENT
BEGIN:VEVENT
DTSTART;TZID=America/Chicago:20260309T200000
DTEND;TZID=America/Chicago:20260309T210000
DTSTAMP:20260421T185743
CREATED:20251229T170134Z
LAST-MODIFIED:20251229T170138Z
UID:10006583-1773086400-1773090000@www.oasispickleballclub.com
SUMMARY:Drills with Tom
DESCRIPTION:Price is $20 for members\, $30 for non-members.
URL:https://www.oasispickleballclub.com/calendar/drills-with-coach-2/2026-03-09/
LOCATION:Oasis Pickleball Club\, 5757 SH-205\, Rockwall\, TX\, 75032\, United States
ORGANIZER;CN="Oasis Pickleball Club":MAILTO:director@oasispickleballclub.com
END:VEVENT
BEGIN:VEVENT
DTSTART;TZID=America/Chicago:20260310T080000
DTEND;TZID=America/Chicago:20260310T210000
DTSTAMP:20260421T185743
CREATED:20251229T165315Z
LAST-MODIFIED:20251229T165317Z
UID:10002348-1773129600-1773176400@www.oasispickleballclub.com
SUMMARY:Open Play (All Levels) - Tuesday
DESCRIPTION:
URL:https://www.oasispickleballclub.com/calendar/open-play-all-levels-2-2/2026-03-10/
LOCATION:Oasis Pickleball Club\, 5757 SH-205\, Rockwall\, TX\, 75032\, United States
ORGANIZER;CN="Oasis Pickleball Club":MAILTO:director@oasispickleballclub.com
END:VEVENT
BEGIN:VEVENT
DTSTART;TZID=America/Chicago:20260310T185903
DTEND;TZID=America/Chicago:20260310T205903
DTSTAMP:20260421T185743
CREATED:20251229T170346Z
LAST-MODIFIED:20251229T172712Z
UID:10008006-1773169143-1773176343@www.oasispickleballclub.com
SUMMARY:Round Robin (Tuesdays)
DESCRIPTION:
URL:https://www.oasispickleballclub.com/calendar/round-robin-2-2/2026-03-10/
LOCATION:Oasis Pickleball Club\, 5757 SH-205\, Rockwall\, TX\, 75032\, United States
ORGANIZER;CN="Oasis Pickleball Club":MAILTO:director@oasispickleballclub.com
END:VEVENT
BEGIN:VEVENT
DTSTART;TZID=America/Chicago:20260311T080000
DTEND;TZID=America/Chicago:20260311T210000
DTSTAMP:20260421T185743
CREATED:20251229T165324Z
LAST-MODIFIED:20251229T165326Z
UID:10002868-1773216000-1773262800@www.oasispickleballclub.com
SUMMARY:Open Play (All Levels) - Wednesday
DESCRIPTION:
URL:https://www.oasispickleballclub.com/calendar/open-play-all-levels-3-2/2026-03-11/
LOCATION:Oasis Pickleball Club\, 5757 SH-205\, Rockwall\, TX\, 75032\, United States
ORGANIZER;CN="Oasis Pickleball Club":MAILTO:director@oasispickleballclub.com
END:VEVENT
BEGIN:VEVENT
DTSTART;TZID=America/Chicago:20260311T190000
DTEND;TZID=America/Chicago:20260311T210000
DTSTAMP:20260421T185743
CREATED:20251229T170806Z
LAST-MODIFIED:20251229T170806Z
UID:10007102-1773255600-1773262800@www.oasispickleballclub.com
SUMMARY:Chill Pickles
DESCRIPTION:Rockwall residents enjoy half off
URL:https://www.oasispickleballclub.com/calendar/chill-pickles/2026-03-11/
END:VEVENT
BEGIN:VEVENT
DTSTART;TZID=America/Chicago:20260312T080000
DTEND;TZID=America/Chicago:20260312T210000
DTSTAMP:20260421T185743
CREATED:20251229T165336Z
LAST-MODIFIED:20251229T165337Z
UID:10003128-1773302400-1773349200@www.oasispickleballclub.com
SUMMARY:Open Play (All Levels) - Thursday
DESCRIPTION:
URL:https://www.oasispickleballclub.com/calendar/open-play-all-levels-thursdays-2/2026-03-12/
LOCATION:Oasis Pickleball Club\, 5757 SH-205\, Rockwall\, TX\, 75032\, United States
ORGANIZER;CN="Oasis Pickleball Club":MAILTO:director@oasispickleballclub.com
END:VEVENT
BEGIN:VEVENT
DTSTART;TZID=America/Chicago:20260312T180000
DTEND;TZID=America/Chicago:20260312T210000
DTSTAMP:20260421T185743
CREATED:20251229T170903Z
LAST-MODIFIED:20251229T170903Z
UID:10007362-1773338400-1773349200@www.oasispickleballclub.com
SUMMARY:Pickleball & Pizza
DESCRIPTION:
URL:https://www.oasispickleballclub.com/calendar/pickleball-pizza/2026-03-12/
END:VEVENT
BEGIN:VEVENT
DTSTART;TZID=America/Chicago:20260313T080000
DTEND;TZID=America/Chicago:20260313T200000
DTSTAMP:20260421T185743
CREATED:20251229T165446Z
LAST-MODIFIED:20251229T165446Z
UID:10006064-1773388800-1773432000@www.oasispickleballclub.com
SUMMARY:Open Play (All Levels) - Friday
DESCRIPTION:
URL:https://www.oasispickleballclub.com/calendar/open-play-all-levels-friday/2026-03-13/
LOCATION:Oasis Pickleball Club\, 5757 SH-205\, Rockwall\, TX\, 75032\, United States
ORGANIZER;CN="Oasis Pickleball Club":MAILTO:director@oasispickleballclub.com
END:VEVENT
BEGIN:VEVENT
DTSTART;TZID=America/Chicago:20260314T080000
DTEND;TZID=America/Chicago:20260314T200000
DTSTAMP:20260421T185743
CREATED:20241105T171457Z
LAST-MODIFIED:20251229T165047Z
UID:10004958-1773475200-1773518400@www.oasispickleballclub.com
SUMMARY:Open Play (All Levels) - Saturday
DESCRIPTION:
URL:https://www.oasispickleballclub.com/calendar/open-play-all-levels-4/2026-03-14/
LOCATION:Oasis Pickleball Club\, 5757 SH-205\, Rockwall\, TX\, 75032\, United States
ORGANIZER;CN="Oasis Pickleball Club":MAILTO:director@oasispickleballclub.com
END:VEVENT
END:VCALENDAR