BEGIN:VCALENDAR
VERSION:2.0
PRODID:-//Oasis Pickleball Club - ECPv6.15.13//NONSGML v1.0//EN
CALSCALE:GREGORIAN
METHOD:PUBLISH
X-ORIGINAL-URL:https://www.oasispickleballclub.com
X-WR-CALDESC:Events for Oasis Pickleball Club
REFRESH-INTERVAL;VALUE=DURATION:PT1H
X-Robots-Tag:noindex
X-PUBLISHED-TTL:PT1H
BEGIN:VTIMEZONE
TZID:America/Chicago
BEGIN:DAYLIGHT
TZOFFSETFROM:-0600
TZOFFSETTO:-0500
TZNAME:CDT
DTSTART:20250309T080000
END:DAYLIGHT
BEGIN:STANDARD
TZOFFSETFROM:-0500
TZOFFSETTO:-0600
TZNAME:CST
DTSTART:20251102T070000
END:STANDARD
BEGIN:DAYLIGHT
TZOFFSETFROM:-0600
TZOFFSETTO:-0500
TZNAME:CDT
DTSTART:20260308T080000
END:DAYLIGHT
BEGIN:STANDARD
TZOFFSETFROM:-0500
TZOFFSETTO:-0600
TZNAME:CST
DTSTART:20261101T070000
END:STANDARD
BEGIN:DAYLIGHT
TZOFFSETFROM:-0600
TZOFFSETTO:-0500
TZNAME:CDT
DTSTART:20270314T080000
END:DAYLIGHT
BEGIN:STANDARD
TZOFFSETFROM:-0500
TZOFFSETTO:-0600
TZNAME:CST
DTSTART:20271107T070000
END:STANDARD
END:VTIMEZONE
BEGIN:VEVENT
DTSTART;TZID=America/Chicago:20260511T200000
DTEND;TZID=America/Chicago:20260511T210000
DTSTAMP:20260423T062747
CREATED:20251229T170134Z
LAST-MODIFIED:20251229T170138Z
UID:10006592-1778529600-1778533200@www.oasispickleballclub.com
SUMMARY:Drills with Tom
DESCRIPTION:Price is $20 for members\, $30 for non-members.
URL:https://www.oasispickleballclub.com/calendar/drills-with-coach-2/2026-05-11/
LOCATION:Oasis Pickleball Club\, 5757 SH-205\, Rockwall\, TX\, 75032\, United States
ORGANIZER;CN="Oasis Pickleball Club":MAILTO:director@oasispickleballclub.com
END:VEVENT
BEGIN:VEVENT
DTSTART;TZID=America/Chicago:20260512T080000
DTEND;TZID=America/Chicago:20260512T210000
DTSTAMP:20260423T062747
CREATED:20251229T165315Z
LAST-MODIFIED:20251229T165317Z
UID:10002357-1778572800-1778619600@www.oasispickleballclub.com
SUMMARY:Open Play (All Levels) - Tuesday
DESCRIPTION:
URL:https://www.oasispickleballclub.com/calendar/open-play-all-levels-2-2/2026-05-12/
LOCATION:Oasis Pickleball Club\, 5757 SH-205\, Rockwall\, TX\, 75032\, United States
ORGANIZER;CN="Oasis Pickleball Club":MAILTO:director@oasispickleballclub.com
END:VEVENT
BEGIN:VEVENT
DTSTART;TZID=America/Chicago:20260512T185903
DTEND;TZID=America/Chicago:20260512T205903
DTSTAMP:20260423T062747
CREATED:20251229T170346Z
LAST-MODIFIED:20251229T172712Z
UID:10008015-1778612343-1778619543@www.oasispickleballclub.com
SUMMARY:Round Robin (Tuesdays)
DESCRIPTION:
URL:https://www.oasispickleballclub.com/calendar/round-robin-2-2/2026-05-12/
LOCATION:Oasis Pickleball Club\, 5757 SH-205\, Rockwall\, TX\, 75032\, United States
ORGANIZER;CN="Oasis Pickleball Club":MAILTO:director@oasispickleballclub.com
END:VEVENT
BEGIN:VEVENT
DTSTART;TZID=America/Chicago:20260513T080000
DTEND;TZID=America/Chicago:20260513T210000
DTSTAMP:20260423T062747
CREATED:20251229T165324Z
LAST-MODIFIED:20251229T165326Z
UID:10002877-1778659200-1778706000@www.oasispickleballclub.com
SUMMARY:Open Play (All Levels) - Wednesday
DESCRIPTION:
URL:https://www.oasispickleballclub.com/calendar/open-play-all-levels-3-2/2026-05-13/
LOCATION:Oasis Pickleball Club\, 5757 SH-205\, Rockwall\, TX\, 75032\, United States
ORGANIZER;CN="Oasis Pickleball Club":MAILTO:director@oasispickleballclub.com
END:VEVENT
BEGIN:VEVENT
DTSTART;TZID=America/Chicago:20260513T190000
DTEND;TZID=America/Chicago:20260513T210000
DTSTAMP:20260423T062747
CREATED:20251229T170806Z
LAST-MODIFIED:20251229T170806Z
UID:10007111-1778698800-1778706000@www.oasispickleballclub.com
SUMMARY:Chill Pickles
DESCRIPTION:Rockwall residents enjoy half off
URL:https://www.oasispickleballclub.com/calendar/chill-pickles/2026-05-13/
END:VEVENT
BEGIN:VEVENT
DTSTART;TZID=America/Chicago:20260514T080000
DTEND;TZID=America/Chicago:20260514T210000
DTSTAMP:20260423T062747
CREATED:20251229T165336Z
LAST-MODIFIED:20251229T165337Z
UID:10003137-1778745600-1778792400@www.oasispickleballclub.com
SUMMARY:Open Play (All Levels) - Thursday
DESCRIPTION:
URL:https://www.oasispickleballclub.com/calendar/open-play-all-levels-thursdays-2/2026-05-14/
LOCATION:Oasis Pickleball Club\, 5757 SH-205\, Rockwall\, TX\, 75032\, United States
ORGANIZER;CN="Oasis Pickleball Club":MAILTO:director@oasispickleballclub.com
END:VEVENT
BEGIN:VEVENT
DTSTART;TZID=America/Chicago:20260514T180000
DTEND;TZID=America/Chicago:20260514T210000
DTSTAMP:20260423T062747
CREATED:20251229T170903Z
LAST-MODIFIED:20251229T170903Z
UID:10007371-1778781600-1778792400@www.oasispickleballclub.com
SUMMARY:Pickleball & Pizza
DESCRIPTION:
URL:https://www.oasispickleballclub.com/calendar/pickleball-pizza/2026-05-14/
END:VEVENT
BEGIN:VEVENT
DTSTART;TZID=America/Chicago:20260515T080000
DTEND;TZID=America/Chicago:20260515T200000
DTSTAMP:20260423T062747
CREATED:20251229T165446Z
LAST-MODIFIED:20251229T165446Z
UID:10006073-1778832000-1778875200@www.oasispickleballclub.com
SUMMARY:Open Play (All Levels) - Friday
DESCRIPTION:
URL:https://www.oasispickleballclub.com/calendar/open-play-all-levels-friday/2026-05-15/
LOCATION:Oasis Pickleball Club\, 5757 SH-205\, Rockwall\, TX\, 75032\, United States
ORGANIZER;CN="Oasis Pickleball Club":MAILTO:director@oasispickleballclub.com
END:VEVENT
BEGIN:VEVENT
DTSTART;TZID=America/Chicago:20260516T080000
DTEND;TZID=America/Chicago:20260516T200000
DTSTAMP:20260423T062747
CREATED:20241105T171457Z
LAST-MODIFIED:20251229T165047Z
UID:10004967-1778918400-1778961600@www.oasispickleballclub.com
SUMMARY:Open Play (All Levels) - Saturday
DESCRIPTION:
URL:https://www.oasispickleballclub.com/calendar/open-play-all-levels-4/2026-05-16/
LOCATION:Oasis Pickleball Club\, 5757 SH-205\, Rockwall\, TX\, 75032\, United States
ORGANIZER;CN="Oasis Pickleball Club":MAILTO:director@oasispickleballclub.com
END:VEVENT
BEGIN:VEVENT
DTSTART;TZID=America/Chicago:20260516T090000
DTEND;TZID=America/Chicago:20260516T110000
DTSTAMP:20260423T062747
CREATED:20251229T171059Z
LAST-MODIFIED:20251229T171059Z
UID:10007633-1778922000-1778929200@www.oasispickleballclub.com
SUMMARY:Round Robin (Saturdays)
DESCRIPTION:
URL:https://www.oasispickleballclub.com/calendar/round-robin-saturdays/2026-05-16/
END:VEVENT
BEGIN:VEVENT
DTSTART;TZID=America/Chicago:20260517T110000
DTEND;TZID=America/Chicago:20260517T190000
DTSTAMP:20260423T062747
CREATED:20241105T171813Z
LAST-MODIFIED:20251229T165035Z
UID:10005229-1779015600-1779044400@www.oasispickleballclub.com
SUMMARY:Open Play (All Levels) - Sunday
DESCRIPTION:
URL:https://www.oasispickleballclub.com/calendar/open-play-all-levels-5/2026-05-17/
LOCATION:Oasis Pickleball Club\, 5757 SH-205\, Rockwall\, TX\, 75032\, United States
ORGANIZER;CN="Oasis Pickleball Club":MAILTO:director@oasispickleballclub.com
END:VEVENT
BEGIN:VEVENT
DTSTART;TZID=America/Chicago:20260518T080000
DTEND;TZID=America/Chicago:20260518T210000
DTSTAMP:20260423T062747
CREATED:20251229T165305Z
LAST-MODIFIED:20251229T165307Z
UID:10001067-1779091200-1779138000@www.oasispickleballclub.com
SUMMARY:Open Play (All Levels) - Monday
DESCRIPTION:
URL:https://www.oasispickleballclub.com/calendar/open-play-all-levels-6/2026-05-18/
LOCATION:Oasis Pickleball Club\, 5757 SH-205\, Rockwall\, TX\, 75032\, United States
ORGANIZER;CN="Oasis Pickleball Club":MAILTO:director@oasispickleballclub.com
END:VEVENT
BEGIN:VEVENT
DTSTART;TZID=America/Chicago:20260518T190000
DTEND;TZID=America/Chicago:20260518T200000
DTSTAMP:20260423T062747
CREATED:20251229T165758Z
LAST-MODIFIED:20251229T165912Z
UID:10006333-1779130800-1779134400@www.oasispickleballclub.com
SUMMARY:Intro to Pickleball
DESCRIPTION:
URL:https://www.oasispickleballclub.com/calendar/intro-level-1-class-2/2026-05-18/
LOCATION:Oasis Pickleball Club\, 5757 SH-205\, Rockwall\, TX\, 75032\, United States
ORGANIZER;CN="Oasis Pickleball Club":MAILTO:director@oasispickleballclub.com
END:VEVENT
BEGIN:VEVENT
DTSTART;TZID=America/Chicago:20260518T200000
DTEND;TZID=America/Chicago:20260518T210000
DTSTAMP:20260423T062747
CREATED:20251229T170134Z
LAST-MODIFIED:20251229T170138Z
UID:10006593-1779134400-1779138000@www.oasispickleballclub.com
SUMMARY:Drills with Tom
DESCRIPTION:Price is $20 for members\, $30 for non-members.
URL:https://www.oasispickleballclub.com/calendar/drills-with-coach-2/2026-05-18/
LOCATION:Oasis Pickleball Club\, 5757 SH-205\, Rockwall\, TX\, 75032\, United States
ORGANIZER;CN="Oasis Pickleball Club":MAILTO:director@oasispickleballclub.com
END:VEVENT
BEGIN:VEVENT
DTSTART;TZID=America/Chicago:20260519T080000
DTEND;TZID=America/Chicago:20260519T210000
DTSTAMP:20260423T062747
CREATED:20251229T165315Z
LAST-MODIFIED:20251229T165317Z
UID:10002358-1779177600-1779224400@www.oasispickleballclub.com
SUMMARY:Open Play (All Levels) - Tuesday
DESCRIPTION:
URL:https://www.oasispickleballclub.com/calendar/open-play-all-levels-2-2/2026-05-19/
LOCATION:Oasis Pickleball Club\, 5757 SH-205\, Rockwall\, TX\, 75032\, United States
ORGANIZER;CN="Oasis Pickleball Club":MAILTO:director@oasispickleballclub.com
END:VEVENT
BEGIN:VEVENT
DTSTART;TZID=America/Chicago:20260519T185903
DTEND;TZID=America/Chicago:20260519T205903
DTSTAMP:20260423T062747
CREATED:20251229T170346Z
LAST-MODIFIED:20251229T172712Z
UID:10008016-1779217143-1779224343@www.oasispickleballclub.com
SUMMARY:Round Robin (Tuesdays)
DESCRIPTION:
URL:https://www.oasispickleballclub.com/calendar/round-robin-2-2/2026-05-19/
LOCATION:Oasis Pickleball Club\, 5757 SH-205\, Rockwall\, TX\, 75032\, United States
ORGANIZER;CN="Oasis Pickleball Club":MAILTO:director@oasispickleballclub.com
END:VEVENT
BEGIN:VEVENT
DTSTART;TZID=America/Chicago:20260520T080000
DTEND;TZID=America/Chicago:20260520T210000
DTSTAMP:20260423T062747
CREATED:20251229T165324Z
LAST-MODIFIED:20251229T165326Z
UID:10002878-1779264000-1779310800@www.oasispickleballclub.com
SUMMARY:Open Play (All Levels) - Wednesday
DESCRIPTION:
URL:https://www.oasispickleballclub.com/calendar/open-play-all-levels-3-2/2026-05-20/
LOCATION:Oasis Pickleball Club\, 5757 SH-205\, Rockwall\, TX\, 75032\, United States
ORGANIZER;CN="Oasis Pickleball Club":MAILTO:director@oasispickleballclub.com
END:VEVENT
BEGIN:VEVENT
DTSTART;TZID=America/Chicago:20260520T190000
DTEND;TZID=America/Chicago:20260520T210000
DTSTAMP:20260423T062747
CREATED:20251229T170806Z
LAST-MODIFIED:20251229T170806Z
UID:10007112-1779303600-1779310800@www.oasispickleballclub.com
SUMMARY:Chill Pickles
DESCRIPTION:Rockwall residents enjoy half off
URL:https://www.oasispickleballclub.com/calendar/chill-pickles/2026-05-20/
END:VEVENT
BEGIN:VEVENT
DTSTART;TZID=America/Chicago:20260521T080000
DTEND;TZID=America/Chicago:20260521T210000
DTSTAMP:20260423T062747
CREATED:20251229T165336Z
LAST-MODIFIED:20251229T165337Z
UID:10003138-1779350400-1779397200@www.oasispickleballclub.com
SUMMARY:Open Play (All Levels) - Thursday
DESCRIPTION:
URL:https://www.oasispickleballclub.com/calendar/open-play-all-levels-thursdays-2/2026-05-21/
LOCATION:Oasis Pickleball Club\, 5757 SH-205\, Rockwall\, TX\, 75032\, United States
ORGANIZER;CN="Oasis Pickleball Club":MAILTO:director@oasispickleballclub.com
END:VEVENT
BEGIN:VEVENT
DTSTART;TZID=America/Chicago:20260521T180000
DTEND;TZID=America/Chicago:20260521T210000
DTSTAMP:20260423T062747
CREATED:20251229T170903Z
LAST-MODIFIED:20251229T170903Z
UID:10007372-1779386400-1779397200@www.oasispickleballclub.com
SUMMARY:Pickleball & Pizza
DESCRIPTION:
URL:https://www.oasispickleballclub.com/calendar/pickleball-pizza/2026-05-21/
END:VEVENT
BEGIN:VEVENT
DTSTART;TZID=America/Chicago:20260522T080000
DTEND;TZID=America/Chicago:20260522T200000
DTSTAMP:20260423T062747
CREATED:20251229T165446Z
LAST-MODIFIED:20251229T165446Z
UID:10006074-1779436800-1779480000@www.oasispickleballclub.com
SUMMARY:Open Play (All Levels) - Friday
DESCRIPTION:
URL:https://www.oasispickleballclub.com/calendar/open-play-all-levels-friday/2026-05-22/
LOCATION:Oasis Pickleball Club\, 5757 SH-205\, Rockwall\, TX\, 75032\, United States
ORGANIZER;CN="Oasis Pickleball Club":MAILTO:director@oasispickleballclub.com
END:VEVENT
BEGIN:VEVENT
DTSTART;TZID=America/Chicago:20260523T080000
DTEND;TZID=America/Chicago:20260523T200000
DTSTAMP:20260423T062747
CREATED:20241105T171457Z
LAST-MODIFIED:20251229T165047Z
UID:10004968-1779523200-1779566400@www.oasispickleballclub.com
SUMMARY:Open Play (All Levels) - Saturday
DESCRIPTION:
URL:https://www.oasispickleballclub.com/calendar/open-play-all-levels-4/2026-05-23/
LOCATION:Oasis Pickleball Club\, 5757 SH-205\, Rockwall\, TX\, 75032\, United States
ORGANIZER;CN="Oasis Pickleball Club":MAILTO:director@oasispickleballclub.com
END:VEVENT
BEGIN:VEVENT
DTSTART;TZID=America/Chicago:20260523T090000
DTEND;TZID=America/Chicago:20260523T110000
DTSTAMP:20260423T062747
CREATED:20251229T171059Z
LAST-MODIFIED:20251229T171059Z
UID:10007634-1779526800-1779534000@www.oasispickleballclub.com
SUMMARY:Round Robin (Saturdays)
DESCRIPTION:
URL:https://www.oasispickleballclub.com/calendar/round-robin-saturdays/2026-05-23/
END:VEVENT
BEGIN:VEVENT
DTSTART;TZID=America/Chicago:20260524T110000
DTEND;TZID=America/Chicago:20260524T190000
DTSTAMP:20260423T062747
CREATED:20241105T171813Z
LAST-MODIFIED:20251229T165035Z
UID:10005230-1779620400-1779649200@www.oasispickleballclub.com
SUMMARY:Open Play (All Levels) - Sunday
DESCRIPTION:
URL:https://www.oasispickleballclub.com/calendar/open-play-all-levels-5/2026-05-24/
LOCATION:Oasis Pickleball Club\, 5757 SH-205\, Rockwall\, TX\, 75032\, United States
ORGANIZER;CN="Oasis Pickleball Club":MAILTO:director@oasispickleballclub.com
END:VEVENT
BEGIN:VEVENT
DTSTART;TZID=America/Chicago:20260525T080000
DTEND;TZID=America/Chicago:20260525T210000
DTSTAMP:20260423T062747
CREATED:20251229T165305Z
LAST-MODIFIED:20251229T165307Z
UID:10000082-1779696000-1779742800@www.oasispickleballclub.com
SUMMARY:Open Play (All Levels) - Monday
DESCRIPTION:
URL:https://www.oasispickleballclub.com/calendar/open-play-all-levels-6/2026-05-25/
LOCATION:Oasis Pickleball Club\, 5757 SH-205\, Rockwall\, TX\, 75032\, United States
ORGANIZER;CN="Oasis Pickleball Club":MAILTO:director@oasispickleballclub.com
END:VEVENT
BEGIN:VEVENT
DTSTART;TZID=America/Chicago:20260525T190000
DTEND;TZID=America/Chicago:20260525T200000
DTSTAMP:20260423T062747
CREATED:20251229T165758Z
LAST-MODIFIED:20251229T165912Z
UID:10006334-1779735600-1779739200@www.oasispickleballclub.com
SUMMARY:Intro to Pickleball
DESCRIPTION:
URL:https://www.oasispickleballclub.com/calendar/intro-level-1-class-2/2026-05-25/
LOCATION:Oasis Pickleball Club\, 5757 SH-205\, Rockwall\, TX\, 75032\, United States
ORGANIZER;CN="Oasis Pickleball Club":MAILTO:director@oasispickleballclub.com
END:VEVENT
BEGIN:VEVENT
DTSTART;TZID=America/Chicago:20260525T200000
DTEND;TZID=America/Chicago:20260525T210000
DTSTAMP:20260423T062747
CREATED:20251229T170134Z
LAST-MODIFIED:20251229T170138Z
UID:10006594-1779739200-1779742800@www.oasispickleballclub.com
SUMMARY:Drills with Tom
DESCRIPTION:Price is $20 for members\, $30 for non-members.
URL:https://www.oasispickleballclub.com/calendar/drills-with-coach-2/2026-05-25/
LOCATION:Oasis Pickleball Club\, 5757 SH-205\, Rockwall\, TX\, 75032\, United States
ORGANIZER;CN="Oasis Pickleball Club":MAILTO:director@oasispickleballclub.com
END:VEVENT
BEGIN:VEVENT
DTSTART;TZID=America/Chicago:20260526T080000
DTEND;TZID=America/Chicago:20260526T210000
DTSTAMP:20260423T062747
CREATED:20251229T165315Z
LAST-MODIFIED:20251229T165317Z
UID:10002359-1779782400-1779829200@www.oasispickleballclub.com
SUMMARY:Open Play (All Levels) - Tuesday
DESCRIPTION:
URL:https://www.oasispickleballclub.com/calendar/open-play-all-levels-2-2/2026-05-26/
LOCATION:Oasis Pickleball Club\, 5757 SH-205\, Rockwall\, TX\, 75032\, United States
ORGANIZER;CN="Oasis Pickleball Club":MAILTO:director@oasispickleballclub.com
END:VEVENT
BEGIN:VEVENT
DTSTART;TZID=America/Chicago:20260526T185903
DTEND;TZID=America/Chicago:20260526T205903
DTSTAMP:20260423T062747
CREATED:20251229T170346Z
LAST-MODIFIED:20251229T172712Z
UID:10008017-1779821943-1779829143@www.oasispickleballclub.com
SUMMARY:Round Robin (Tuesdays)
DESCRIPTION:
URL:https://www.oasispickleballclub.com/calendar/round-robin-2-2/2026-05-26/
LOCATION:Oasis Pickleball Club\, 5757 SH-205\, Rockwall\, TX\, 75032\, United States
ORGANIZER;CN="Oasis Pickleball Club":MAILTO:director@oasispickleballclub.com
END:VEVENT
BEGIN:VEVENT
DTSTART;TZID=America/Chicago:20260527T080000
DTEND;TZID=America/Chicago:20260527T210000
DTSTAMP:20260423T062747
CREATED:20251229T165324Z
LAST-MODIFIED:20251229T165326Z
UID:10002879-1779868800-1779915600@www.oasispickleballclub.com
SUMMARY:Open Play (All Levels) - Wednesday
DESCRIPTION:
URL:https://www.oasispickleballclub.com/calendar/open-play-all-levels-3-2/2026-05-27/
LOCATION:Oasis Pickleball Club\, 5757 SH-205\, Rockwall\, TX\, 75032\, United States
ORGANIZER;CN="Oasis Pickleball Club":MAILTO:director@oasispickleballclub.com
END:VEVENT
END:VCALENDAR