BEGIN:VCALENDAR
VERSION:2.0
PRODID:-//Oasis Pickleball Club - ECPv6.15.13//NONSGML v1.0//EN
CALSCALE:GREGORIAN
METHOD:PUBLISH
X-WR-CALNAME:Oasis Pickleball Club
X-ORIGINAL-URL:https://www.oasispickleballclub.com
X-WR-CALDESC:Events for Oasis Pickleball Club
REFRESH-INTERVAL;VALUE=DURATION:PT1H
X-Robots-Tag:noindex
X-PUBLISHED-TTL:PT1H
BEGIN:VTIMEZONE
TZID:America/Chicago
BEGIN:DAYLIGHT
TZOFFSETFROM:-0600
TZOFFSETTO:-0500
TZNAME:CDT
DTSTART:20260308T080000
END:DAYLIGHT
BEGIN:STANDARD
TZOFFSETFROM:-0500
TZOFFSETTO:-0600
TZNAME:CST
DTSTART:20261101T070000
END:STANDARD
BEGIN:DAYLIGHT
TZOFFSETFROM:-0600
TZOFFSETTO:-0500
TZNAME:CDT
DTSTART:20270314T080000
END:DAYLIGHT
BEGIN:STANDARD
TZOFFSETFROM:-0500
TZOFFSETTO:-0600
TZNAME:CST
DTSTART:20271107T070000
END:STANDARD
BEGIN:DAYLIGHT
TZOFFSETFROM:-0600
TZOFFSETTO:-0500
TZNAME:CDT
DTSTART:20280312T080000
END:DAYLIGHT
BEGIN:STANDARD
TZOFFSETFROM:-0500
TZOFFSETTO:-0600
TZNAME:CST
DTSTART:20281105T070000
END:STANDARD
END:VTIMEZONE
BEGIN:VEVENT
DTSTART;TZID=America/Chicago:20270510T200000
DTEND;TZID=America/Chicago:20270510T210000
DTSTAMP:20260422T205545
CREATED:20251229T170134Z
LAST-MODIFIED:20251229T170138Z
UID:10006644-1809979200-1809982800@www.oasispickleballclub.com
SUMMARY:Drills with Tom
DESCRIPTION:Price is $20 for members\, $30 for non-members.
URL:https://www.oasispickleballclub.com/calendar/drills-with-coach-2/2027-05-10/
LOCATION:Oasis Pickleball Club\, 5757 SH-205\, Rockwall\, TX\, 75032\, United States
ORGANIZER;CN="Oasis Pickleball Club":MAILTO:director@oasispickleballclub.com
END:VEVENT
BEGIN:VEVENT
DTSTART;TZID=America/Chicago:20270511T080000
DTEND;TZID=America/Chicago:20270511T210000
DTSTAMP:20260422T205545
CREATED:20251229T165315Z
LAST-MODIFIED:20251229T165317Z
UID:10002409-1810022400-1810069200@www.oasispickleballclub.com
SUMMARY:Open Play (All Levels) - Tuesday
DESCRIPTION:
URL:https://www.oasispickleballclub.com/calendar/open-play-all-levels-2-2/2027-05-11/
LOCATION:Oasis Pickleball Club\, 5757 SH-205\, Rockwall\, TX\, 75032\, United States
ORGANIZER;CN="Oasis Pickleball Club":MAILTO:director@oasispickleballclub.com
END:VEVENT
BEGIN:VEVENT
DTSTART;TZID=America/Chicago:20270511T185903
DTEND;TZID=America/Chicago:20270511T205903
DTSTAMP:20260422T205545
CREATED:20251229T170346Z
LAST-MODIFIED:20251229T172712Z
UID:10008067-1810061943-1810069143@www.oasispickleballclub.com
SUMMARY:Round Robin (Tuesdays)
DESCRIPTION:
URL:https://www.oasispickleballclub.com/calendar/round-robin-2-2/2027-05-11/
LOCATION:Oasis Pickleball Club\, 5757 SH-205\, Rockwall\, TX\, 75032\, United States
ORGANIZER;CN="Oasis Pickleball Club":MAILTO:director@oasispickleballclub.com
END:VEVENT
BEGIN:VEVENT
DTSTART;TZID=America/Chicago:20270512T080000
DTEND;TZID=America/Chicago:20270512T210000
DTSTAMP:20260422T205545
CREATED:20251229T165324Z
LAST-MODIFIED:20251229T165326Z
UID:10002929-1810108800-1810155600@www.oasispickleballclub.com
SUMMARY:Open Play (All Levels) - Wednesday
DESCRIPTION:
URL:https://www.oasispickleballclub.com/calendar/open-play-all-levels-3-2/2027-05-12/
LOCATION:Oasis Pickleball Club\, 5757 SH-205\, Rockwall\, TX\, 75032\, United States
ORGANIZER;CN="Oasis Pickleball Club":MAILTO:director@oasispickleballclub.com
END:VEVENT
BEGIN:VEVENT
DTSTART;TZID=America/Chicago:20270512T190000
DTEND;TZID=America/Chicago:20270512T210000
DTSTAMP:20260422T205545
CREATED:20251229T170806Z
LAST-MODIFIED:20251229T170806Z
UID:10007163-1810148400-1810155600@www.oasispickleballclub.com
SUMMARY:Chill Pickles
DESCRIPTION:Rockwall residents enjoy half off
URL:https://www.oasispickleballclub.com/calendar/chill-pickles/2027-05-12/
END:VEVENT
BEGIN:VEVENT
DTSTART;TZID=America/Chicago:20270513T080000
DTEND;TZID=America/Chicago:20270513T210000
DTSTAMP:20260422T205545
CREATED:20251229T165336Z
LAST-MODIFIED:20251229T165337Z
UID:10003189-1810195200-1810242000@www.oasispickleballclub.com
SUMMARY:Open Play (All Levels) - Thursday
DESCRIPTION:
URL:https://www.oasispickleballclub.com/calendar/open-play-all-levels-thursdays-2/2027-05-13/
LOCATION:Oasis Pickleball Club\, 5757 SH-205\, Rockwall\, TX\, 75032\, United States
ORGANIZER;CN="Oasis Pickleball Club":MAILTO:director@oasispickleballclub.com
END:VEVENT
BEGIN:VEVENT
DTSTART;TZID=America/Chicago:20270513T180000
DTEND;TZID=America/Chicago:20270513T210000
DTSTAMP:20260422T205545
CREATED:20251229T170903Z
LAST-MODIFIED:20251229T170903Z
UID:10007423-1810231200-1810242000@www.oasispickleballclub.com
SUMMARY:Pickleball & Pizza
DESCRIPTION:
URL:https://www.oasispickleballclub.com/calendar/pickleball-pizza/2027-05-13/
END:VEVENT
BEGIN:VEVENT
DTSTART;TZID=America/Chicago:20270514T080000
DTEND;TZID=America/Chicago:20270514T200000
DTSTAMP:20260422T205545
CREATED:20251229T165446Z
LAST-MODIFIED:20251229T165446Z
UID:10006125-1810281600-1810324800@www.oasispickleballclub.com
SUMMARY:Open Play (All Levels) - Friday
DESCRIPTION:
URL:https://www.oasispickleballclub.com/calendar/open-play-all-levels-friday/2027-05-14/
LOCATION:Oasis Pickleball Club\, 5757 SH-205\, Rockwall\, TX\, 75032\, United States
ORGANIZER;CN="Oasis Pickleball Club":MAILTO:director@oasispickleballclub.com
END:VEVENT
BEGIN:VEVENT
DTSTART;TZID=America/Chicago:20270515T080000
DTEND;TZID=America/Chicago:20270515T200000
DTSTAMP:20260422T205545
CREATED:20241105T171457Z
LAST-MODIFIED:20251229T165047Z
UID:10005019-1810368000-1810411200@www.oasispickleballclub.com
SUMMARY:Open Play (All Levels) - Saturday
DESCRIPTION:
URL:https://www.oasispickleballclub.com/calendar/open-play-all-levels-4/2027-05-15/
LOCATION:Oasis Pickleball Club\, 5757 SH-205\, Rockwall\, TX\, 75032\, United States
ORGANIZER;CN="Oasis Pickleball Club":MAILTO:director@oasispickleballclub.com
END:VEVENT
BEGIN:VEVENT
DTSTART;TZID=America/Chicago:20270515T090000
DTEND;TZID=America/Chicago:20270515T110000
DTSTAMP:20260422T205545
CREATED:20251229T171059Z
LAST-MODIFIED:20251229T171059Z
UID:10007685-1810371600-1810378800@www.oasispickleballclub.com
SUMMARY:Round Robin (Saturdays)
DESCRIPTION:
URL:https://www.oasispickleballclub.com/calendar/round-robin-saturdays/2027-05-15/
END:VEVENT
BEGIN:VEVENT
DTSTART;TZID=America/Chicago:20270516T110000
DTEND;TZID=America/Chicago:20270516T190000
DTSTAMP:20260422T205545
CREATED:20241105T171813Z
LAST-MODIFIED:20251229T165035Z
UID:10005281-1810465200-1810494000@www.oasispickleballclub.com
SUMMARY:Open Play (All Levels) - Sunday
DESCRIPTION:
URL:https://www.oasispickleballclub.com/calendar/open-play-all-levels-5/2027-05-16/
LOCATION:Oasis Pickleball Club\, 5757 SH-205\, Rockwall\, TX\, 75032\, United States
ORGANIZER;CN="Oasis Pickleball Club":MAILTO:director@oasispickleballclub.com
END:VEVENT
BEGIN:VEVENT
DTSTART;TZID=America/Chicago:20270517T080000
DTEND;TZID=America/Chicago:20270517T210000
DTSTAMP:20260422T205545
CREATED:20251229T165305Z
LAST-MODIFIED:20251229T165307Z
UID:10001340-1810540800-1810587600@www.oasispickleballclub.com
SUMMARY:Open Play (All Levels) - Monday
DESCRIPTION:
URL:https://www.oasispickleballclub.com/calendar/open-play-all-levels-6/2027-05-17/
LOCATION:Oasis Pickleball Club\, 5757 SH-205\, Rockwall\, TX\, 75032\, United States
ORGANIZER;CN="Oasis Pickleball Club":MAILTO:director@oasispickleballclub.com
END:VEVENT
BEGIN:VEVENT
DTSTART;TZID=America/Chicago:20270517T190000
DTEND;TZID=America/Chicago:20270517T200000
DTSTAMP:20260422T205545
CREATED:20251229T165758Z
LAST-MODIFIED:20251229T165912Z
UID:10006385-1810580400-1810584000@www.oasispickleballclub.com
SUMMARY:Intro to Pickleball
DESCRIPTION:
URL:https://www.oasispickleballclub.com/calendar/intro-level-1-class-2/2027-05-17/
LOCATION:Oasis Pickleball Club\, 5757 SH-205\, Rockwall\, TX\, 75032\, United States
ORGANIZER;CN="Oasis Pickleball Club":MAILTO:director@oasispickleballclub.com
END:VEVENT
BEGIN:VEVENT
DTSTART;TZID=America/Chicago:20270517T200000
DTEND;TZID=America/Chicago:20270517T210000
DTSTAMP:20260422T205545
CREATED:20251229T170134Z
LAST-MODIFIED:20251229T170138Z
UID:10006645-1810584000-1810587600@www.oasispickleballclub.com
SUMMARY:Drills with Tom
DESCRIPTION:Price is $20 for members\, $30 for non-members.
URL:https://www.oasispickleballclub.com/calendar/drills-with-coach-2/2027-05-17/
LOCATION:Oasis Pickleball Club\, 5757 SH-205\, Rockwall\, TX\, 75032\, United States
ORGANIZER;CN="Oasis Pickleball Club":MAILTO:director@oasispickleballclub.com
END:VEVENT
BEGIN:VEVENT
DTSTART;TZID=America/Chicago:20270518T080000
DTEND;TZID=America/Chicago:20270518T210000
DTSTAMP:20260422T205545
CREATED:20251229T165315Z
LAST-MODIFIED:20251229T165317Z
UID:10002410-1810627200-1810674000@www.oasispickleballclub.com
SUMMARY:Open Play (All Levels) - Tuesday
DESCRIPTION:
URL:https://www.oasispickleballclub.com/calendar/open-play-all-levels-2-2/2027-05-18/
LOCATION:Oasis Pickleball Club\, 5757 SH-205\, Rockwall\, TX\, 75032\, United States
ORGANIZER;CN="Oasis Pickleball Club":MAILTO:director@oasispickleballclub.com
END:VEVENT
BEGIN:VEVENT
DTSTART;TZID=America/Chicago:20270518T185903
DTEND;TZID=America/Chicago:20270518T205903
DTSTAMP:20260422T205545
CREATED:20251229T170346Z
LAST-MODIFIED:20251229T172712Z
UID:10008068-1810666743-1810673943@www.oasispickleballclub.com
SUMMARY:Round Robin (Tuesdays)
DESCRIPTION:
URL:https://www.oasispickleballclub.com/calendar/round-robin-2-2/2027-05-18/
LOCATION:Oasis Pickleball Club\, 5757 SH-205\, Rockwall\, TX\, 75032\, United States
ORGANIZER;CN="Oasis Pickleball Club":MAILTO:director@oasispickleballclub.com
END:VEVENT
BEGIN:VEVENT
DTSTART;TZID=America/Chicago:20270519T080000
DTEND;TZID=America/Chicago:20270519T210000
DTSTAMP:20260422T205545
CREATED:20251229T165324Z
LAST-MODIFIED:20251229T165326Z
UID:10002930-1810713600-1810760400@www.oasispickleballclub.com
SUMMARY:Open Play (All Levels) - Wednesday
DESCRIPTION:
URL:https://www.oasispickleballclub.com/calendar/open-play-all-levels-3-2/2027-05-19/
LOCATION:Oasis Pickleball Club\, 5757 SH-205\, Rockwall\, TX\, 75032\, United States
ORGANIZER;CN="Oasis Pickleball Club":MAILTO:director@oasispickleballclub.com
END:VEVENT
BEGIN:VEVENT
DTSTART;TZID=America/Chicago:20270519T190000
DTEND;TZID=America/Chicago:20270519T210000
DTSTAMP:20260422T205545
CREATED:20251229T170806Z
LAST-MODIFIED:20251229T170806Z
UID:10007164-1810753200-1810760400@www.oasispickleballclub.com
SUMMARY:Chill Pickles
DESCRIPTION:Rockwall residents enjoy half off
URL:https://www.oasispickleballclub.com/calendar/chill-pickles/2027-05-19/
END:VEVENT
BEGIN:VEVENT
DTSTART;TZID=America/Chicago:20270520T080000
DTEND;TZID=America/Chicago:20270520T210000
DTSTAMP:20260422T205545
CREATED:20251229T165336Z
LAST-MODIFIED:20251229T165337Z
UID:10003190-1810800000-1810846800@www.oasispickleballclub.com
SUMMARY:Open Play (All Levels) - Thursday
DESCRIPTION:
URL:https://www.oasispickleballclub.com/calendar/open-play-all-levels-thursdays-2/2027-05-20/
LOCATION:Oasis Pickleball Club\, 5757 SH-205\, Rockwall\, TX\, 75032\, United States
ORGANIZER;CN="Oasis Pickleball Club":MAILTO:director@oasispickleballclub.com
END:VEVENT
BEGIN:VEVENT
DTSTART;TZID=America/Chicago:20270520T180000
DTEND;TZID=America/Chicago:20270520T210000
DTSTAMP:20260422T205545
CREATED:20251229T170903Z
LAST-MODIFIED:20251229T170903Z
UID:10007424-1810836000-1810846800@www.oasispickleballclub.com
SUMMARY:Pickleball & Pizza
DESCRIPTION:
URL:https://www.oasispickleballclub.com/calendar/pickleball-pizza/2027-05-20/
END:VEVENT
BEGIN:VEVENT
DTSTART;TZID=America/Chicago:20270521T080000
DTEND;TZID=America/Chicago:20270521T200000
DTSTAMP:20260422T205545
CREATED:20251229T165446Z
LAST-MODIFIED:20251229T165446Z
UID:10006126-1810886400-1810929600@www.oasispickleballclub.com
SUMMARY:Open Play (All Levels) - Friday
DESCRIPTION:
URL:https://www.oasispickleballclub.com/calendar/open-play-all-levels-friday/2027-05-21/
LOCATION:Oasis Pickleball Club\, 5757 SH-205\, Rockwall\, TX\, 75032\, United States
ORGANIZER;CN="Oasis Pickleball Club":MAILTO:director@oasispickleballclub.com
END:VEVENT
BEGIN:VEVENT
DTSTART;TZID=America/Chicago:20270522T080000
DTEND;TZID=America/Chicago:20270522T200000
DTSTAMP:20260422T205545
CREATED:20241105T171457Z
LAST-MODIFIED:20251229T165047Z
UID:10005020-1810972800-1811016000@www.oasispickleballclub.com
SUMMARY:Open Play (All Levels) - Saturday
DESCRIPTION:
URL:https://www.oasispickleballclub.com/calendar/open-play-all-levels-4/2027-05-22/
LOCATION:Oasis Pickleball Club\, 5757 SH-205\, Rockwall\, TX\, 75032\, United States
ORGANIZER;CN="Oasis Pickleball Club":MAILTO:director@oasispickleballclub.com
END:VEVENT
BEGIN:VEVENT
DTSTART;TZID=America/Chicago:20270522T090000
DTEND;TZID=America/Chicago:20270522T110000
DTSTAMP:20260422T205545
CREATED:20251229T171059Z
LAST-MODIFIED:20251229T171059Z
UID:10007686-1810976400-1810983600@www.oasispickleballclub.com
SUMMARY:Round Robin (Saturdays)
DESCRIPTION:
URL:https://www.oasispickleballclub.com/calendar/round-robin-saturdays/2027-05-22/
END:VEVENT
BEGIN:VEVENT
DTSTART;TZID=America/Chicago:20270523T110000
DTEND;TZID=America/Chicago:20270523T190000
DTSTAMP:20260422T205545
CREATED:20241105T171813Z
LAST-MODIFIED:20251229T165035Z
UID:10005282-1811070000-1811098800@www.oasispickleballclub.com
SUMMARY:Open Play (All Levels) - Sunday
DESCRIPTION:
URL:https://www.oasispickleballclub.com/calendar/open-play-all-levels-5/2027-05-23/
LOCATION:Oasis Pickleball Club\, 5757 SH-205\, Rockwall\, TX\, 75032\, United States
ORGANIZER;CN="Oasis Pickleball Club":MAILTO:director@oasispickleballclub.com
END:VEVENT
BEGIN:VEVENT
DTSTART;TZID=America/Chicago:20270524T080000
DTEND;TZID=America/Chicago:20270524T210000
DTSTAMP:20260422T205545
CREATED:20251229T165305Z
LAST-MODIFIED:20251229T165307Z
UID:10000134-1811145600-1811192400@www.oasispickleballclub.com
SUMMARY:Open Play (All Levels) - Monday
DESCRIPTION:
URL:https://www.oasispickleballclub.com/calendar/open-play-all-levels-6/2027-05-24/
LOCATION:Oasis Pickleball Club\, 5757 SH-205\, Rockwall\, TX\, 75032\, United States
ORGANIZER;CN="Oasis Pickleball Club":MAILTO:director@oasispickleballclub.com
END:VEVENT
BEGIN:VEVENT
DTSTART;TZID=America/Chicago:20270524T190000
DTEND;TZID=America/Chicago:20270524T200000
DTSTAMP:20260422T205545
CREATED:20251229T165758Z
LAST-MODIFIED:20251229T165912Z
UID:10006386-1811185200-1811188800@www.oasispickleballclub.com
SUMMARY:Intro to Pickleball
DESCRIPTION:
URL:https://www.oasispickleballclub.com/calendar/intro-level-1-class-2/2027-05-24/
LOCATION:Oasis Pickleball Club\, 5757 SH-205\, Rockwall\, TX\, 75032\, United States
ORGANIZER;CN="Oasis Pickleball Club":MAILTO:director@oasispickleballclub.com
END:VEVENT
BEGIN:VEVENT
DTSTART;TZID=America/Chicago:20270524T200000
DTEND;TZID=America/Chicago:20270524T210000
DTSTAMP:20260422T205545
CREATED:20251229T170134Z
LAST-MODIFIED:20251229T170138Z
UID:10006646-1811188800-1811192400@www.oasispickleballclub.com
SUMMARY:Drills with Tom
DESCRIPTION:Price is $20 for members\, $30 for non-members.
URL:https://www.oasispickleballclub.com/calendar/drills-with-coach-2/2027-05-24/
LOCATION:Oasis Pickleball Club\, 5757 SH-205\, Rockwall\, TX\, 75032\, United States
ORGANIZER;CN="Oasis Pickleball Club":MAILTO:director@oasispickleballclub.com
END:VEVENT
BEGIN:VEVENT
DTSTART;TZID=America/Chicago:20270525T080000
DTEND;TZID=America/Chicago:20270525T210000
DTSTAMP:20260422T205545
CREATED:20251229T165315Z
LAST-MODIFIED:20251229T165317Z
UID:10002411-1811232000-1811278800@www.oasispickleballclub.com
SUMMARY:Open Play (All Levels) - Tuesday
DESCRIPTION:
URL:https://www.oasispickleballclub.com/calendar/open-play-all-levels-2-2/2027-05-25/
LOCATION:Oasis Pickleball Club\, 5757 SH-205\, Rockwall\, TX\, 75032\, United States
ORGANIZER;CN="Oasis Pickleball Club":MAILTO:director@oasispickleballclub.com
END:VEVENT
BEGIN:VEVENT
DTSTART;TZID=America/Chicago:20270525T185903
DTEND;TZID=America/Chicago:20270525T205903
DTSTAMP:20260422T205545
CREATED:20251229T170346Z
LAST-MODIFIED:20251229T172712Z
UID:10008069-1811271543-1811278743@www.oasispickleballclub.com
SUMMARY:Round Robin (Tuesdays)
DESCRIPTION:
URL:https://www.oasispickleballclub.com/calendar/round-robin-2-2/2027-05-25/
LOCATION:Oasis Pickleball Club\, 5757 SH-205\, Rockwall\, TX\, 75032\, United States
ORGANIZER;CN="Oasis Pickleball Club":MAILTO:director@oasispickleballclub.com
END:VEVENT
BEGIN:VEVENT
DTSTART;TZID=America/Chicago:20270526T080000
DTEND;TZID=America/Chicago:20270526T210000
DTSTAMP:20260422T205545
CREATED:20251229T165324Z
LAST-MODIFIED:20251229T165326Z
UID:10002931-1811318400-1811365200@www.oasispickleballclub.com
SUMMARY:Open Play (All Levels) - Wednesday
DESCRIPTION:
URL:https://www.oasispickleballclub.com/calendar/open-play-all-levels-3-2/2027-05-26/
LOCATION:Oasis Pickleball Club\, 5757 SH-205\, Rockwall\, TX\, 75032\, United States
ORGANIZER;CN="Oasis Pickleball Club":MAILTO:director@oasispickleballclub.com
END:VEVENT
END:VCALENDAR