BEGIN:VCALENDAR
VERSION:2.0
PRODID:-//Oasis Pickleball Club - ECPv6.15.13//NONSGML v1.0//EN
CALSCALE:GREGORIAN
METHOD:PUBLISH
X-ORIGINAL-URL:https://www.oasispickleballclub.com
X-WR-CALDESC:Events for Oasis Pickleball Club
REFRESH-INTERVAL;VALUE=DURATION:PT1H
X-Robots-Tag:noindex
X-PUBLISHED-TTL:PT1H
BEGIN:VTIMEZONE
TZID:America/Chicago
BEGIN:DAYLIGHT
TZOFFSETFROM:-0600
TZOFFSETTO:-0500
TZNAME:CDT
DTSTART:20260308T080000
END:DAYLIGHT
BEGIN:STANDARD
TZOFFSETFROM:-0500
TZOFFSETTO:-0600
TZNAME:CST
DTSTART:20261101T070000
END:STANDARD
BEGIN:DAYLIGHT
TZOFFSETFROM:-0600
TZOFFSETTO:-0500
TZNAME:CDT
DTSTART:20270314T080000
END:DAYLIGHT
BEGIN:STANDARD
TZOFFSETFROM:-0500
TZOFFSETTO:-0600
TZNAME:CST
DTSTART:20271107T070000
END:STANDARD
BEGIN:DAYLIGHT
TZOFFSETFROM:-0600
TZOFFSETTO:-0500
TZNAME:CDT
DTSTART:20280312T080000
END:DAYLIGHT
BEGIN:STANDARD
TZOFFSETFROM:-0500
TZOFFSETTO:-0600
TZNAME:CST
DTSTART:20281105T070000
END:STANDARD
END:VTIMEZONE
BEGIN:VEVENT
DTSTART;TZID=America/Chicago:20270807T080000
DTEND;TZID=America/Chicago:20270807T200000
DTSTAMP:20260423T224100
CREATED:20241105T171457Z
LAST-MODIFIED:20251229T165047Z
UID:10005031-1817625600-1817668800@www.oasispickleballclub.com
SUMMARY:Open Play (All Levels) - Saturday
DESCRIPTION:
URL:https://www.oasispickleballclub.com/calendar/open-play-all-levels-4/2027-08-07/
LOCATION:Oasis Pickleball Club\, 5757 SH-205\, Rockwall\, TX\, 75032\, United States
ORGANIZER;CN="Oasis Pickleball Club":MAILTO:director@oasispickleballclub.com
END:VEVENT
BEGIN:VEVENT
DTSTART;TZID=America/Chicago:20270807T090000
DTEND;TZID=America/Chicago:20270807T110000
DTSTAMP:20260423T224100
CREATED:20251229T171059Z
LAST-MODIFIED:20251229T171059Z
UID:10007697-1817629200-1817636400@www.oasispickleballclub.com
SUMMARY:Round Robin (Saturdays)
DESCRIPTION:
URL:https://www.oasispickleballclub.com/calendar/round-robin-saturdays/2027-08-07/
LOCATION:TX
END:VEVENT
BEGIN:VEVENT
DTSTART;TZID=America/Chicago:20270808T110000
DTEND;TZID=America/Chicago:20270808T190000
DTSTAMP:20260423T224100
CREATED:20241105T171813Z
LAST-MODIFIED:20251229T165035Z
UID:10005293-1817722800-1817751600@www.oasispickleballclub.com
SUMMARY:Open Play (All Levels) - Sunday
DESCRIPTION:
URL:https://www.oasispickleballclub.com/calendar/open-play-all-levels-5/2027-08-08/
LOCATION:Oasis Pickleball Club\, 5757 SH-205\, Rockwall\, TX\, 75032\, United States
ORGANIZER;CN="Oasis Pickleball Club":MAILTO:director@oasispickleballclub.com
END:VEVENT
BEGIN:VEVENT
DTSTART;TZID=America/Chicago:20270809T080000
DTEND;TZID=America/Chicago:20270809T210000
DTSTAMP:20260423T224100
CREATED:20251229T165305Z
LAST-MODIFIED:20251229T165307Z
UID:10001403-1817798400-1817845200@www.oasispickleballclub.com
SUMMARY:Open Play (All Levels) - Monday
DESCRIPTION:
URL:https://www.oasispickleballclub.com/calendar/open-play-all-levels-6/2027-08-09/
LOCATION:Oasis Pickleball Club\, 5757 SH-205\, Rockwall\, TX\, 75032\, United States
ORGANIZER;CN="Oasis Pickleball Club":MAILTO:director@oasispickleballclub.com
END:VEVENT
BEGIN:VEVENT
DTSTART;TZID=America/Chicago:20270809T190000
DTEND;TZID=America/Chicago:20270809T200000
DTSTAMP:20260423T224100
CREATED:20251229T165758Z
LAST-MODIFIED:20251229T165912Z
UID:10006397-1817838000-1817841600@www.oasispickleballclub.com
SUMMARY:Intro to Pickleball
DESCRIPTION:
URL:https://www.oasispickleballclub.com/calendar/intro-level-1-class-2/2027-08-09/
LOCATION:Oasis Pickleball Club\, 5757 SH-205\, Rockwall\, TX\, 75032\, United States
ORGANIZER;CN="Oasis Pickleball Club":MAILTO:director@oasispickleballclub.com
END:VEVENT
BEGIN:VEVENT
DTSTART;TZID=America/Chicago:20270809T200000
DTEND;TZID=America/Chicago:20270809T210000
DTSTAMP:20260423T224100
CREATED:20251229T170134Z
LAST-MODIFIED:20251229T170138Z
UID:10006657-1817841600-1817845200@www.oasispickleballclub.com
SUMMARY:Drills with Tom
DESCRIPTION:Price is $20 for members\, $30 for non-members.
URL:https://www.oasispickleballclub.com/calendar/drills-with-coach-2/2027-08-09/
LOCATION:Oasis Pickleball Club\, 5757 SH-205\, Rockwall\, TX\, 75032\, United States
ORGANIZER;CN="Oasis Pickleball Club":MAILTO:director@oasispickleballclub.com
END:VEVENT
BEGIN:VEVENT
DTSTART;TZID=America/Chicago:20270810T080000
DTEND;TZID=America/Chicago:20270810T210000
DTSTAMP:20260423T224100
CREATED:20251229T165315Z
LAST-MODIFIED:20251229T165317Z
UID:10002422-1817884800-1817931600@www.oasispickleballclub.com
SUMMARY:Open Play (All Levels) - Tuesday
DESCRIPTION:
URL:https://www.oasispickleballclub.com/calendar/open-play-all-levels-2-2/2027-08-10/
LOCATION:Oasis Pickleball Club\, 5757 SH-205\, Rockwall\, TX\, 75032\, United States
ORGANIZER;CN="Oasis Pickleball Club":MAILTO:director@oasispickleballclub.com
END:VEVENT
BEGIN:VEVENT
DTSTART;TZID=America/Chicago:20270810T185903
DTEND;TZID=America/Chicago:20270810T205903
DTSTAMP:20260423T224100
CREATED:20251229T170346Z
LAST-MODIFIED:20251229T172712Z
UID:10008080-1817924343-1817931543@www.oasispickleballclub.com
SUMMARY:Round Robin (Tuesdays)
DESCRIPTION:
URL:https://www.oasispickleballclub.com/calendar/round-robin-2-2/2027-08-10/
LOCATION:Oasis Pickleball Club\, 5757 SH-205\, Rockwall\, TX\, 75032\, United States
ORGANIZER;CN="Oasis Pickleball Club":MAILTO:director@oasispickleballclub.com
END:VEVENT
BEGIN:VEVENT
DTSTART;TZID=America/Chicago:20270811T080000
DTEND;TZID=America/Chicago:20270811T210000
DTSTAMP:20260423T224100
CREATED:20251229T165324Z
LAST-MODIFIED:20251229T165326Z
UID:10002942-1817971200-1818018000@www.oasispickleballclub.com
SUMMARY:Open Play (All Levels) - Wednesday
DESCRIPTION:
URL:https://www.oasispickleballclub.com/calendar/open-play-all-levels-3-2/2027-08-11/
LOCATION:Oasis Pickleball Club\, 5757 SH-205\, Rockwall\, TX\, 75032\, United States
ORGANIZER;CN="Oasis Pickleball Club":MAILTO:director@oasispickleballclub.com
END:VEVENT
BEGIN:VEVENT
DTSTART;TZID=America/Chicago:20270811T190000
DTEND;TZID=America/Chicago:20270811T210000
DTSTAMP:20260423T224100
CREATED:20251229T170806Z
LAST-MODIFIED:20251229T170806Z
UID:10007176-1818010800-1818018000@www.oasispickleballclub.com
SUMMARY:Chill Pickles
DESCRIPTION:Rockwall residents enjoy half off
URL:https://www.oasispickleballclub.com/calendar/chill-pickles/2027-08-11/
LOCATION:TX
END:VEVENT
BEGIN:VEVENT
DTSTART;TZID=America/Chicago:20270812T080000
DTEND;TZID=America/Chicago:20270812T210000
DTSTAMP:20260423T224100
CREATED:20251229T165336Z
LAST-MODIFIED:20251229T165337Z
UID:10003202-1818057600-1818104400@www.oasispickleballclub.com
SUMMARY:Open Play (All Levels) - Thursday
DESCRIPTION:
URL:https://www.oasispickleballclub.com/calendar/open-play-all-levels-thursdays-2/2027-08-12/
LOCATION:Oasis Pickleball Club\, 5757 SH-205\, Rockwall\, TX\, 75032\, United States
ORGANIZER;CN="Oasis Pickleball Club":MAILTO:director@oasispickleballclub.com
END:VEVENT
BEGIN:VEVENT
DTSTART;TZID=America/Chicago:20270812T180000
DTEND;TZID=America/Chicago:20270812T210000
DTSTAMP:20260423T224100
CREATED:20251229T170903Z
LAST-MODIFIED:20251229T170903Z
UID:10007436-1818093600-1818104400@www.oasispickleballclub.com
SUMMARY:Pickleball & Pizza
DESCRIPTION:
URL:https://www.oasispickleballclub.com/calendar/pickleball-pizza/2027-08-12/
LOCATION:TX
END:VEVENT
BEGIN:VEVENT
DTSTART;TZID=America/Chicago:20270813T080000
DTEND;TZID=America/Chicago:20270813T200000
DTSTAMP:20260423T224100
CREATED:20251229T165446Z
LAST-MODIFIED:20251229T165446Z
UID:10006138-1818144000-1818187200@www.oasispickleballclub.com
SUMMARY:Open Play (All Levels) - Friday
DESCRIPTION:
URL:https://www.oasispickleballclub.com/calendar/open-play-all-levels-friday/2027-08-13/
LOCATION:Oasis Pickleball Club\, 5757 SH-205\, Rockwall\, TX\, 75032\, United States
ORGANIZER;CN="Oasis Pickleball Club":MAILTO:director@oasispickleballclub.com
END:VEVENT
BEGIN:VEVENT
DTSTART;TZID=America/Chicago:20270814T080000
DTEND;TZID=America/Chicago:20270814T200000
DTSTAMP:20260423T224100
CREATED:20241105T171457Z
LAST-MODIFIED:20251229T165047Z
UID:10005032-1818230400-1818273600@www.oasispickleballclub.com
SUMMARY:Open Play (All Levels) - Saturday
DESCRIPTION:
URL:https://www.oasispickleballclub.com/calendar/open-play-all-levels-4/2027-08-14/
LOCATION:Oasis Pickleball Club\, 5757 SH-205\, Rockwall\, TX\, 75032\, United States
ORGANIZER;CN="Oasis Pickleball Club":MAILTO:director@oasispickleballclub.com
END:VEVENT
BEGIN:VEVENT
DTSTART;TZID=America/Chicago:20270814T090000
DTEND;TZID=America/Chicago:20270814T110000
DTSTAMP:20260423T224100
CREATED:20251229T171059Z
LAST-MODIFIED:20251229T171059Z
UID:10007698-1818234000-1818241200@www.oasispickleballclub.com
SUMMARY:Round Robin (Saturdays)
DESCRIPTION:
URL:https://www.oasispickleballclub.com/calendar/round-robin-saturdays/2027-08-14/
LOCATION:TX
END:VEVENT
BEGIN:VEVENT
DTSTART;TZID=America/Chicago:20270815T110000
DTEND;TZID=America/Chicago:20270815T190000
DTSTAMP:20260423T224100
CREATED:20241105T171813Z
LAST-MODIFIED:20251229T165035Z
UID:10005294-1818327600-1818356400@www.oasispickleballclub.com
SUMMARY:Open Play (All Levels) - Sunday
DESCRIPTION:
URL:https://www.oasispickleballclub.com/calendar/open-play-all-levels-5/2027-08-15/
LOCATION:Oasis Pickleball Club\, 5757 SH-205\, Rockwall\, TX\, 75032\, United States
ORGANIZER;CN="Oasis Pickleball Club":MAILTO:director@oasispickleballclub.com
END:VEVENT
BEGIN:VEVENT
DTSTART;TZID=America/Chicago:20270816T080000
DTEND;TZID=America/Chicago:20270816T210000
DTSTAMP:20260423T224100
CREATED:20251229T165305Z
LAST-MODIFIED:20251229T165307Z
UID:10000146-1818403200-1818450000@www.oasispickleballclub.com
SUMMARY:Open Play (All Levels) - Monday
DESCRIPTION:
URL:https://www.oasispickleballclub.com/calendar/open-play-all-levels-6/2027-08-16/
LOCATION:Oasis Pickleball Club\, 5757 SH-205\, Rockwall\, TX\, 75032\, United States
ORGANIZER;CN="Oasis Pickleball Club":MAILTO:director@oasispickleballclub.com
END:VEVENT
BEGIN:VEVENT
DTSTART;TZID=America/Chicago:20270816T190000
DTEND;TZID=America/Chicago:20270816T200000
DTSTAMP:20260423T224100
CREATED:20251229T165758Z
LAST-MODIFIED:20251229T165912Z
UID:10006398-1818442800-1818446400@www.oasispickleballclub.com
SUMMARY:Intro to Pickleball
DESCRIPTION:
URL:https://www.oasispickleballclub.com/calendar/intro-level-1-class-2/2027-08-16/
LOCATION:Oasis Pickleball Club\, 5757 SH-205\, Rockwall\, TX\, 75032\, United States
ORGANIZER;CN="Oasis Pickleball Club":MAILTO:director@oasispickleballclub.com
END:VEVENT
BEGIN:VEVENT
DTSTART;TZID=America/Chicago:20270816T200000
DTEND;TZID=America/Chicago:20270816T210000
DTSTAMP:20260423T224100
CREATED:20251229T170134Z
LAST-MODIFIED:20251229T170138Z
UID:10006658-1818446400-1818450000@www.oasispickleballclub.com
SUMMARY:Drills with Tom
DESCRIPTION:Price is $20 for members\, $30 for non-members.
URL:https://www.oasispickleballclub.com/calendar/drills-with-coach-2/2027-08-16/
LOCATION:Oasis Pickleball Club\, 5757 SH-205\, Rockwall\, TX\, 75032\, United States
ORGANIZER;CN="Oasis Pickleball Club":MAILTO:director@oasispickleballclub.com
END:VEVENT
BEGIN:VEVENT
DTSTART;TZID=America/Chicago:20270817T080000
DTEND;TZID=America/Chicago:20270817T210000
DTSTAMP:20260423T224100
CREATED:20251229T165315Z
LAST-MODIFIED:20251229T165317Z
UID:10002423-1818489600-1818536400@www.oasispickleballclub.com
SUMMARY:Open Play (All Levels) - Tuesday
DESCRIPTION:
URL:https://www.oasispickleballclub.com/calendar/open-play-all-levels-2-2/2027-08-17/
LOCATION:Oasis Pickleball Club\, 5757 SH-205\, Rockwall\, TX\, 75032\, United States
ORGANIZER;CN="Oasis Pickleball Club":MAILTO:director@oasispickleballclub.com
END:VEVENT
BEGIN:VEVENT
DTSTART;TZID=America/Chicago:20270817T185903
DTEND;TZID=America/Chicago:20270817T205903
DTSTAMP:20260423T224100
CREATED:20251229T170346Z
LAST-MODIFIED:20251229T172712Z
UID:10008081-1818529143-1818536343@www.oasispickleballclub.com
SUMMARY:Round Robin (Tuesdays)
DESCRIPTION:
URL:https://www.oasispickleballclub.com/calendar/round-robin-2-2/2027-08-17/
LOCATION:Oasis Pickleball Club\, 5757 SH-205\, Rockwall\, TX\, 75032\, United States
ORGANIZER;CN="Oasis Pickleball Club":MAILTO:director@oasispickleballclub.com
END:VEVENT
BEGIN:VEVENT
DTSTART;TZID=America/Chicago:20270818T080000
DTEND;TZID=America/Chicago:20270818T210000
DTSTAMP:20260423T224100
CREATED:20251229T165324Z
LAST-MODIFIED:20251229T165326Z
UID:10002943-1818576000-1818622800@www.oasispickleballclub.com
SUMMARY:Open Play (All Levels) - Wednesday
DESCRIPTION:
URL:https://www.oasispickleballclub.com/calendar/open-play-all-levels-3-2/2027-08-18/
LOCATION:Oasis Pickleball Club\, 5757 SH-205\, Rockwall\, TX\, 75032\, United States
ORGANIZER;CN="Oasis Pickleball Club":MAILTO:director@oasispickleballclub.com
END:VEVENT
BEGIN:VEVENT
DTSTART;TZID=America/Chicago:20270818T190000
DTEND;TZID=America/Chicago:20270818T210000
DTSTAMP:20260423T224100
CREATED:20251229T170806Z
LAST-MODIFIED:20251229T170806Z
UID:10007177-1818615600-1818622800@www.oasispickleballclub.com
SUMMARY:Chill Pickles
DESCRIPTION:Rockwall residents enjoy half off
URL:https://www.oasispickleballclub.com/calendar/chill-pickles/2027-08-18/
LOCATION:TX
END:VEVENT
BEGIN:VEVENT
DTSTART;TZID=America/Chicago:20270819T080000
DTEND;TZID=America/Chicago:20270819T210000
DTSTAMP:20260423T224100
CREATED:20251229T165336Z
LAST-MODIFIED:20251229T165337Z
UID:10003203-1818662400-1818709200@www.oasispickleballclub.com
SUMMARY:Open Play (All Levels) - Thursday
DESCRIPTION:
URL:https://www.oasispickleballclub.com/calendar/open-play-all-levels-thursdays-2/2027-08-19/
LOCATION:Oasis Pickleball Club\, 5757 SH-205\, Rockwall\, TX\, 75032\, United States
ORGANIZER;CN="Oasis Pickleball Club":MAILTO:director@oasispickleballclub.com
END:VEVENT
BEGIN:VEVENT
DTSTART;TZID=America/Chicago:20270819T180000
DTEND;TZID=America/Chicago:20270819T210000
DTSTAMP:20260423T224100
CREATED:20251229T170903Z
LAST-MODIFIED:20251229T170903Z
UID:10007437-1818698400-1818709200@www.oasispickleballclub.com
SUMMARY:Pickleball & Pizza
DESCRIPTION:
URL:https://www.oasispickleballclub.com/calendar/pickleball-pizza/2027-08-19/
LOCATION:TX
END:VEVENT
BEGIN:VEVENT
DTSTART;TZID=America/Chicago:20270820T080000
DTEND;TZID=America/Chicago:20270820T200000
DTSTAMP:20260423T224100
CREATED:20251229T165446Z
LAST-MODIFIED:20251229T165446Z
UID:10006139-1818748800-1818792000@www.oasispickleballclub.com
SUMMARY:Open Play (All Levels) - Friday
DESCRIPTION:
URL:https://www.oasispickleballclub.com/calendar/open-play-all-levels-friday/2027-08-20/
LOCATION:Oasis Pickleball Club\, 5757 SH-205\, Rockwall\, TX\, 75032\, United States
ORGANIZER;CN="Oasis Pickleball Club":MAILTO:director@oasispickleballclub.com
END:VEVENT
BEGIN:VEVENT
DTSTART;TZID=America/Chicago:20270821T080000
DTEND;TZID=America/Chicago:20270821T200000
DTSTAMP:20260423T224100
CREATED:20241105T171457Z
LAST-MODIFIED:20251229T165047Z
UID:10005033-1818835200-1818878400@www.oasispickleballclub.com
SUMMARY:Open Play (All Levels) - Saturday
DESCRIPTION:
URL:https://www.oasispickleballclub.com/calendar/open-play-all-levels-4/2027-08-21/
LOCATION:Oasis Pickleball Club\, 5757 SH-205\, Rockwall\, TX\, 75032\, United States
ORGANIZER;CN="Oasis Pickleball Club":MAILTO:director@oasispickleballclub.com
END:VEVENT
BEGIN:VEVENT
DTSTART;TZID=America/Chicago:20270821T090000
DTEND;TZID=America/Chicago:20270821T110000
DTSTAMP:20260423T224100
CREATED:20251229T171059Z
LAST-MODIFIED:20251229T171059Z
UID:10007699-1818838800-1818846000@www.oasispickleballclub.com
SUMMARY:Round Robin (Saturdays)
DESCRIPTION:
URL:https://www.oasispickleballclub.com/calendar/round-robin-saturdays/2027-08-21/
LOCATION:TX
END:VEVENT
BEGIN:VEVENT
DTSTART;TZID=America/Chicago:20270822T110000
DTEND;TZID=America/Chicago:20270822T190000
DTSTAMP:20260423T224100
CREATED:20241105T171813Z
LAST-MODIFIED:20251229T165035Z
UID:10005295-1818932400-1818961200@www.oasispickleballclub.com
SUMMARY:Open Play (All Levels) - Sunday
DESCRIPTION:
URL:https://www.oasispickleballclub.com/calendar/open-play-all-levels-5/2027-08-22/
LOCATION:Oasis Pickleball Club\, 5757 SH-205\, Rockwall\, TX\, 75032\, United States
ORGANIZER;CN="Oasis Pickleball Club":MAILTO:director@oasispickleballclub.com
END:VEVENT
BEGIN:VEVENT
DTSTART;TZID=America/Chicago:20270823T080000
DTEND;TZID=America/Chicago:20270823T210000
DTSTAMP:20260423T224100
CREATED:20251229T165305Z
LAST-MODIFIED:20251229T165307Z
UID:10001414-1819008000-1819054800@www.oasispickleballclub.com
SUMMARY:Open Play (All Levels) - Monday
DESCRIPTION:
URL:https://www.oasispickleballclub.com/calendar/open-play-all-levels-6/2027-08-23/
LOCATION:Oasis Pickleball Club\, 5757 SH-205\, Rockwall\, TX\, 75032\, United States
ORGANIZER;CN="Oasis Pickleball Club":MAILTO:director@oasispickleballclub.com
END:VEVENT
END:VCALENDAR