BEGIN:VCALENDAR
VERSION:2.0
PRODID:-//Oasis Pickleball Club - ECPv6.15.13//NONSGML v1.0//EN
CALSCALE:GREGORIAN
METHOD:PUBLISH
X-WR-CALNAME:Oasis Pickleball Club
X-ORIGINAL-URL:https://www.oasispickleballclub.com
X-WR-CALDESC:Events for Oasis Pickleball Club
REFRESH-INTERVAL;VALUE=DURATION:PT1H
X-Robots-Tag:noindex
X-PUBLISHED-TTL:PT1H
BEGIN:VTIMEZONE
TZID:America/Chicago
BEGIN:DAYLIGHT
TZOFFSETFROM:-0600
TZOFFSETTO:-0500
TZNAME:CDT
DTSTART:20260308T080000
END:DAYLIGHT
BEGIN:STANDARD
TZOFFSETFROM:-0500
TZOFFSETTO:-0600
TZNAME:CST
DTSTART:20261101T070000
END:STANDARD
BEGIN:DAYLIGHT
TZOFFSETFROM:-0600
TZOFFSETTO:-0500
TZNAME:CDT
DTSTART:20270314T080000
END:DAYLIGHT
BEGIN:STANDARD
TZOFFSETFROM:-0500
TZOFFSETTO:-0600
TZNAME:CST
DTSTART:20271107T070000
END:STANDARD
BEGIN:DAYLIGHT
TZOFFSETFROM:-0600
TZOFFSETTO:-0500
TZNAME:CDT
DTSTART:20280312T080000
END:DAYLIGHT
BEGIN:STANDARD
TZOFFSETFROM:-0500
TZOFFSETTO:-0600
TZNAME:CST
DTSTART:20281105T070000
END:STANDARD
END:VTIMEZONE
BEGIN:VEVENT
DTSTART;TZID=America/Chicago:20270828T090000
DTEND;TZID=America/Chicago:20270828T110000
DTSTAMP:20260424T051239
CREATED:20251229T171059Z
LAST-MODIFIED:20251229T171059Z
UID:10007700-1819443600-1819450800@www.oasispickleballclub.com
SUMMARY:Round Robin (Saturdays)
DESCRIPTION:
URL:https://www.oasispickleballclub.com/calendar/round-robin-saturdays/2027-08-28/
LOCATION:TX
END:VEVENT
BEGIN:VEVENT
DTSTART;TZID=America/Chicago:20270829T110000
DTEND;TZID=America/Chicago:20270829T190000
DTSTAMP:20260424T051239
CREATED:20241105T171813Z
LAST-MODIFIED:20251229T165035Z
UID:10005296-1819537200-1819566000@www.oasispickleballclub.com
SUMMARY:Open Play (All Levels) - Sunday
DESCRIPTION:
URL:https://www.oasispickleballclub.com/calendar/open-play-all-levels-5/2027-08-29/
LOCATION:Oasis Pickleball Club\, 5757 SH-205\, Rockwall\, TX\, 75032\, United States
ORGANIZER;CN="Oasis Pickleball Club":MAILTO:director@oasispickleballclub.com
END:VEVENT
BEGIN:VEVENT
DTSTART;TZID=America/Chicago:20270830T080000
DTEND;TZID=America/Chicago:20270830T210000
DTSTAMP:20260424T051239
CREATED:20251229T165305Z
LAST-MODIFIED:20251229T165307Z
UID:10001419-1819612800-1819659600@www.oasispickleballclub.com
SUMMARY:Open Play (All Levels) - Monday
DESCRIPTION:
URL:https://www.oasispickleballclub.com/calendar/open-play-all-levels-6/2027-08-30/
LOCATION:Oasis Pickleball Club\, 5757 SH-205\, Rockwall\, TX\, 75032\, United States
ORGANIZER;CN="Oasis Pickleball Club":MAILTO:director@oasispickleballclub.com
END:VEVENT
BEGIN:VEVENT
DTSTART;TZID=America/Chicago:20270830T190000
DTEND;TZID=America/Chicago:20270830T200000
DTSTAMP:20260424T051239
CREATED:20251229T165758Z
LAST-MODIFIED:20251229T165912Z
UID:10006400-1819652400-1819656000@www.oasispickleballclub.com
SUMMARY:Intro to Pickleball
DESCRIPTION:
URL:https://www.oasispickleballclub.com/calendar/intro-level-1-class-2/2027-08-30/
LOCATION:Oasis Pickleball Club\, 5757 SH-205\, Rockwall\, TX\, 75032\, United States
ORGANIZER;CN="Oasis Pickleball Club":MAILTO:director@oasispickleballclub.com
END:VEVENT
BEGIN:VEVENT
DTSTART;TZID=America/Chicago:20270830T200000
DTEND;TZID=America/Chicago:20270830T210000
DTSTAMP:20260424T051239
CREATED:20251229T170134Z
LAST-MODIFIED:20251229T170138Z
UID:10006660-1819656000-1819659600@www.oasispickleballclub.com
SUMMARY:Drills with Tom
DESCRIPTION:Price is $20 for members\, $30 for non-members.
URL:https://www.oasispickleballclub.com/calendar/drills-with-coach-2/2027-08-30/
LOCATION:Oasis Pickleball Club\, 5757 SH-205\, Rockwall\, TX\, 75032\, United States
ORGANIZER;CN="Oasis Pickleball Club":MAILTO:director@oasispickleballclub.com
END:VEVENT
BEGIN:VEVENT
DTSTART;TZID=America/Chicago:20270831T080000
DTEND;TZID=America/Chicago:20270831T210000
DTSTAMP:20260424T051239
CREATED:20251229T165315Z
LAST-MODIFIED:20251229T165317Z
UID:10002425-1819699200-1819746000@www.oasispickleballclub.com
SUMMARY:Open Play (All Levels) - Tuesday
DESCRIPTION:
URL:https://www.oasispickleballclub.com/calendar/open-play-all-levels-2-2/2027-08-31/
LOCATION:Oasis Pickleball Club\, 5757 SH-205\, Rockwall\, TX\, 75032\, United States
ORGANIZER;CN="Oasis Pickleball Club":MAILTO:director@oasispickleballclub.com
END:VEVENT
BEGIN:VEVENT
DTSTART;TZID=America/Chicago:20270831T185903
DTEND;TZID=America/Chicago:20270831T205903
DTSTAMP:20260424T051239
CREATED:20251229T170346Z
LAST-MODIFIED:20251229T172712Z
UID:10008083-1819738743-1819745943@www.oasispickleballclub.com
SUMMARY:Round Robin (Tuesdays)
DESCRIPTION:
URL:https://www.oasispickleballclub.com/calendar/round-robin-2-2/2027-08-31/
LOCATION:Oasis Pickleball Club\, 5757 SH-205\, Rockwall\, TX\, 75032\, United States
ORGANIZER;CN="Oasis Pickleball Club":MAILTO:director@oasispickleballclub.com
END:VEVENT
BEGIN:VEVENT
DTSTART;TZID=America/Chicago:20270901T080000
DTEND;TZID=America/Chicago:20270901T210000
DTSTAMP:20260424T051239
CREATED:20251229T165324Z
LAST-MODIFIED:20251229T165326Z
UID:10002945-1819785600-1819832400@www.oasispickleballclub.com
SUMMARY:Open Play (All Levels) - Wednesday
DESCRIPTION:
URL:https://www.oasispickleballclub.com/calendar/open-play-all-levels-3-2/2027-09-01/
LOCATION:Oasis Pickleball Club\, 5757 SH-205\, Rockwall\, TX\, 75032\, United States
ORGANIZER;CN="Oasis Pickleball Club":MAILTO:director@oasispickleballclub.com
END:VEVENT
BEGIN:VEVENT
DTSTART;TZID=America/Chicago:20270901T190000
DTEND;TZID=America/Chicago:20270901T210000
DTSTAMP:20260424T051239
CREATED:20251229T170806Z
LAST-MODIFIED:20251229T170806Z
UID:10007179-1819825200-1819832400@www.oasispickleballclub.com
SUMMARY:Chill Pickles
DESCRIPTION:Rockwall residents enjoy half off
URL:https://www.oasispickleballclub.com/calendar/chill-pickles/2027-09-01/
LOCATION:TX
END:VEVENT
BEGIN:VEVENT
DTSTART;TZID=America/Chicago:20270902T080000
DTEND;TZID=America/Chicago:20270902T210000
DTSTAMP:20260424T051239
CREATED:20251229T165336Z
LAST-MODIFIED:20251229T165337Z
UID:10003205-1819872000-1819918800@www.oasispickleballclub.com
SUMMARY:Open Play (All Levels) - Thursday
DESCRIPTION:
URL:https://www.oasispickleballclub.com/calendar/open-play-all-levels-thursdays-2/2027-09-02/
LOCATION:Oasis Pickleball Club\, 5757 SH-205\, Rockwall\, TX\, 75032\, United States
ORGANIZER;CN="Oasis Pickleball Club":MAILTO:director@oasispickleballclub.com
END:VEVENT
BEGIN:VEVENT
DTSTART;TZID=America/Chicago:20270902T180000
DTEND;TZID=America/Chicago:20270902T210000
DTSTAMP:20260424T051239
CREATED:20251229T170903Z
LAST-MODIFIED:20251229T170903Z
UID:10007439-1819908000-1819918800@www.oasispickleballclub.com
SUMMARY:Pickleball & Pizza
DESCRIPTION:
URL:https://www.oasispickleballclub.com/calendar/pickleball-pizza/2027-09-02/
LOCATION:TX
END:VEVENT
BEGIN:VEVENT
DTSTART;TZID=America/Chicago:20270903T080000
DTEND;TZID=America/Chicago:20270903T200000
DTSTAMP:20260424T051239
CREATED:20251229T165446Z
LAST-MODIFIED:20251229T165446Z
UID:10006141-1819958400-1820001600@www.oasispickleballclub.com
SUMMARY:Open Play (All Levels) - Friday
DESCRIPTION:
URL:https://www.oasispickleballclub.com/calendar/open-play-all-levels-friday/2027-09-03/
LOCATION:Oasis Pickleball Club\, 5757 SH-205\, Rockwall\, TX\, 75032\, United States
ORGANIZER;CN="Oasis Pickleball Club":MAILTO:director@oasispickleballclub.com
END:VEVENT
BEGIN:VEVENT
DTSTART;TZID=America/Chicago:20270904T080000
DTEND;TZID=America/Chicago:20270904T200000
DTSTAMP:20260424T051239
CREATED:20241105T171457Z
LAST-MODIFIED:20251229T165047Z
UID:10005035-1820044800-1820088000@www.oasispickleballclub.com
SUMMARY:Open Play (All Levels) - Saturday
DESCRIPTION:
URL:https://www.oasispickleballclub.com/calendar/open-play-all-levels-4/2027-09-04/
LOCATION:Oasis Pickleball Club\, 5757 SH-205\, Rockwall\, TX\, 75032\, United States
ORGANIZER;CN="Oasis Pickleball Club":MAILTO:director@oasispickleballclub.com
END:VEVENT
BEGIN:VEVENT
DTSTART;TZID=America/Chicago:20270904T090000
DTEND;TZID=America/Chicago:20270904T110000
DTSTAMP:20260424T051239
CREATED:20251229T171059Z
LAST-MODIFIED:20251229T171059Z
UID:10007701-1820048400-1820055600@www.oasispickleballclub.com
SUMMARY:Round Robin (Saturdays)
DESCRIPTION:
URL:https://www.oasispickleballclub.com/calendar/round-robin-saturdays/2027-09-04/
LOCATION:TX
END:VEVENT
BEGIN:VEVENT
DTSTART;TZID=America/Chicago:20270905T110000
DTEND;TZID=America/Chicago:20270905T190000
DTSTAMP:20260424T051239
CREATED:20241105T171813Z
LAST-MODIFIED:20251229T165035Z
UID:10005297-1820142000-1820170800@www.oasispickleballclub.com
SUMMARY:Open Play (All Levels) - Sunday
DESCRIPTION:
URL:https://www.oasispickleballclub.com/calendar/open-play-all-levels-5/2027-09-05/
LOCATION:Oasis Pickleball Club\, 5757 SH-205\, Rockwall\, TX\, 75032\, United States
ORGANIZER;CN="Oasis Pickleball Club":MAILTO:director@oasispickleballclub.com
END:VEVENT
BEGIN:VEVENT
DTSTART;TZID=America/Chicago:20270906T080000
DTEND;TZID=America/Chicago:20270906T210000
DTSTAMP:20260424T051239
CREATED:20251229T165305Z
LAST-MODIFIED:20251229T165307Z
UID:10001424-1820217600-1820264400@www.oasispickleballclub.com
SUMMARY:Open Play (All Levels) - Monday
DESCRIPTION:
URL:https://www.oasispickleballclub.com/calendar/open-play-all-levels-6/2027-09-06/
LOCATION:Oasis Pickleball Club\, 5757 SH-205\, Rockwall\, TX\, 75032\, United States
ORGANIZER;CN="Oasis Pickleball Club":MAILTO:director@oasispickleballclub.com
END:VEVENT
BEGIN:VEVENT
DTSTART;TZID=America/Chicago:20270906T190000
DTEND;TZID=America/Chicago:20270906T200000
DTSTAMP:20260424T051239
CREATED:20251229T165758Z
LAST-MODIFIED:20251229T165912Z
UID:10006401-1820257200-1820260800@www.oasispickleballclub.com
SUMMARY:Intro to Pickleball
DESCRIPTION:
URL:https://www.oasispickleballclub.com/calendar/intro-level-1-class-2/2027-09-06/
LOCATION:Oasis Pickleball Club\, 5757 SH-205\, Rockwall\, TX\, 75032\, United States
ORGANIZER;CN="Oasis Pickleball Club":MAILTO:director@oasispickleballclub.com
END:VEVENT
BEGIN:VEVENT
DTSTART;TZID=America/Chicago:20270906T200000
DTEND;TZID=America/Chicago:20270906T210000
DTSTAMP:20260424T051239
CREATED:20251229T170134Z
LAST-MODIFIED:20251229T170138Z
UID:10006661-1820260800-1820264400@www.oasispickleballclub.com
SUMMARY:Drills with Tom
DESCRIPTION:Price is $20 for members\, $30 for non-members.
URL:https://www.oasispickleballclub.com/calendar/drills-with-coach-2/2027-09-06/
LOCATION:Oasis Pickleball Club\, 5757 SH-205\, Rockwall\, TX\, 75032\, United States
ORGANIZER;CN="Oasis Pickleball Club":MAILTO:director@oasispickleballclub.com
END:VEVENT
BEGIN:VEVENT
DTSTART;TZID=America/Chicago:20270907T080000
DTEND;TZID=America/Chicago:20270907T210000
DTSTAMP:20260424T051239
CREATED:20251229T165315Z
LAST-MODIFIED:20251229T165317Z
UID:10002426-1820304000-1820350800@www.oasispickleballclub.com
SUMMARY:Open Play (All Levels) - Tuesday
DESCRIPTION:
URL:https://www.oasispickleballclub.com/calendar/open-play-all-levels-2-2/2027-09-07/
LOCATION:Oasis Pickleball Club\, 5757 SH-205\, Rockwall\, TX\, 75032\, United States
ORGANIZER;CN="Oasis Pickleball Club":MAILTO:director@oasispickleballclub.com
END:VEVENT
BEGIN:VEVENT
DTSTART;TZID=America/Chicago:20270907T185903
DTEND;TZID=America/Chicago:20270907T205903
DTSTAMP:20260424T051239
CREATED:20251229T170346Z
LAST-MODIFIED:20251229T172712Z
UID:10008084-1820343543-1820350743@www.oasispickleballclub.com
SUMMARY:Round Robin (Tuesdays)
DESCRIPTION:
URL:https://www.oasispickleballclub.com/calendar/round-robin-2-2/2027-09-07/
LOCATION:Oasis Pickleball Club\, 5757 SH-205\, Rockwall\, TX\, 75032\, United States
ORGANIZER;CN="Oasis Pickleball Club":MAILTO:director@oasispickleballclub.com
END:VEVENT
BEGIN:VEVENT
DTSTART;TZID=America/Chicago:20270908T080000
DTEND;TZID=America/Chicago:20270908T210000
DTSTAMP:20260424T051239
CREATED:20251229T165324Z
LAST-MODIFIED:20251229T165326Z
UID:10002946-1820390400-1820437200@www.oasispickleballclub.com
SUMMARY:Open Play (All Levels) - Wednesday
DESCRIPTION:
URL:https://www.oasispickleballclub.com/calendar/open-play-all-levels-3-2/2027-09-08/
LOCATION:Oasis Pickleball Club\, 5757 SH-205\, Rockwall\, TX\, 75032\, United States
ORGANIZER;CN="Oasis Pickleball Club":MAILTO:director@oasispickleballclub.com
END:VEVENT
BEGIN:VEVENT
DTSTART;TZID=America/Chicago:20270908T190000
DTEND;TZID=America/Chicago:20270908T210000
DTSTAMP:20260424T051239
CREATED:20251229T170806Z
LAST-MODIFIED:20251229T170806Z
UID:10007180-1820430000-1820437200@www.oasispickleballclub.com
SUMMARY:Chill Pickles
DESCRIPTION:Rockwall residents enjoy half off
URL:https://www.oasispickleballclub.com/calendar/chill-pickles/2027-09-08/
LOCATION:TX
END:VEVENT
BEGIN:VEVENT
DTSTART;TZID=America/Chicago:20270909T080000
DTEND;TZID=America/Chicago:20270909T210000
DTSTAMP:20260424T051239
CREATED:20251229T165336Z
LAST-MODIFIED:20251229T165337Z
UID:10003206-1820476800-1820523600@www.oasispickleballclub.com
SUMMARY:Open Play (All Levels) - Thursday
DESCRIPTION:
URL:https://www.oasispickleballclub.com/calendar/open-play-all-levels-thursdays-2/2027-09-09/
LOCATION:Oasis Pickleball Club\, 5757 SH-205\, Rockwall\, TX\, 75032\, United States
ORGANIZER;CN="Oasis Pickleball Club":MAILTO:director@oasispickleballclub.com
END:VEVENT
BEGIN:VEVENT
DTSTART;TZID=America/Chicago:20270909T180000
DTEND;TZID=America/Chicago:20270909T210000
DTSTAMP:20260424T051239
CREATED:20251229T170903Z
LAST-MODIFIED:20251229T170903Z
UID:10007440-1820512800-1820523600@www.oasispickleballclub.com
SUMMARY:Pickleball & Pizza
DESCRIPTION:
URL:https://www.oasispickleballclub.com/calendar/pickleball-pizza/2027-09-09/
LOCATION:TX
END:VEVENT
BEGIN:VEVENT
DTSTART;TZID=America/Chicago:20270910T080000
DTEND;TZID=America/Chicago:20270910T200000
DTSTAMP:20260424T051239
CREATED:20251229T165446Z
LAST-MODIFIED:20251229T165446Z
UID:10006142-1820563200-1820606400@www.oasispickleballclub.com
SUMMARY:Open Play (All Levels) - Friday
DESCRIPTION:
URL:https://www.oasispickleballclub.com/calendar/open-play-all-levels-friday/2027-09-10/
LOCATION:Oasis Pickleball Club\, 5757 SH-205\, Rockwall\, TX\, 75032\, United States
ORGANIZER;CN="Oasis Pickleball Club":MAILTO:director@oasispickleballclub.com
END:VEVENT
BEGIN:VEVENT
DTSTART;TZID=America/Chicago:20270911T080000
DTEND;TZID=America/Chicago:20270911T200000
DTSTAMP:20260424T051239
CREATED:20241105T171457Z
LAST-MODIFIED:20251229T165047Z
UID:10005036-1820649600-1820692800@www.oasispickleballclub.com
SUMMARY:Open Play (All Levels) - Saturday
DESCRIPTION:
URL:https://www.oasispickleballclub.com/calendar/open-play-all-levels-4/2027-09-11/
LOCATION:Oasis Pickleball Club\, 5757 SH-205\, Rockwall\, TX\, 75032\, United States
ORGANIZER;CN="Oasis Pickleball Club":MAILTO:director@oasispickleballclub.com
END:VEVENT
BEGIN:VEVENT
DTSTART;TZID=America/Chicago:20270911T090000
DTEND;TZID=America/Chicago:20270911T110000
DTSTAMP:20260424T051239
CREATED:20251229T171059Z
LAST-MODIFIED:20251229T171059Z
UID:10007702-1820653200-1820660400@www.oasispickleballclub.com
SUMMARY:Round Robin (Saturdays)
DESCRIPTION:
URL:https://www.oasispickleballclub.com/calendar/round-robin-saturdays/2027-09-11/
LOCATION:TX
END:VEVENT
BEGIN:VEVENT
DTSTART;TZID=America/Chicago:20270912T110000
DTEND;TZID=America/Chicago:20270912T190000
DTSTAMP:20260424T051239
CREATED:20241105T171813Z
LAST-MODIFIED:20251229T165035Z
UID:10005298-1820746800-1820775600@www.oasispickleballclub.com
SUMMARY:Open Play (All Levels) - Sunday
DESCRIPTION:
URL:https://www.oasispickleballclub.com/calendar/open-play-all-levels-5/2027-09-12/
LOCATION:Oasis Pickleball Club\, 5757 SH-205\, Rockwall\, TX\, 75032\, United States
ORGANIZER;CN="Oasis Pickleball Club":MAILTO:director@oasispickleballclub.com
END:VEVENT
BEGIN:VEVENT
DTSTART;TZID=America/Chicago:20270913T080000
DTEND;TZID=America/Chicago:20270913T210000
DTSTAMP:20260424T051239
CREATED:20251229T165305Z
LAST-MODIFIED:20251229T165307Z
UID:10000150-1820822400-1820869200@www.oasispickleballclub.com
SUMMARY:Open Play (All Levels) - Monday
DESCRIPTION:
URL:https://www.oasispickleballclub.com/calendar/open-play-all-levels-6/2027-09-13/
LOCATION:Oasis Pickleball Club\, 5757 SH-205\, Rockwall\, TX\, 75032\, United States
ORGANIZER;CN="Oasis Pickleball Club":MAILTO:director@oasispickleballclub.com
END:VEVENT
BEGIN:VEVENT
DTSTART;TZID=America/Chicago:20270913T190000
DTEND;TZID=America/Chicago:20270913T200000
DTSTAMP:20260424T051239
CREATED:20251229T165758Z
LAST-MODIFIED:20251229T165912Z
UID:10006402-1820862000-1820865600@www.oasispickleballclub.com
SUMMARY:Intro to Pickleball
DESCRIPTION:
URL:https://www.oasispickleballclub.com/calendar/intro-level-1-class-2/2027-09-13/
LOCATION:Oasis Pickleball Club\, 5757 SH-205\, Rockwall\, TX\, 75032\, United States
ORGANIZER;CN="Oasis Pickleball Club":MAILTO:director@oasispickleballclub.com
END:VEVENT
END:VCALENDAR