BEGIN:VCALENDAR
VERSION:2.0
PRODID:-//Oasis Pickleball Club - ECPv6.15.13//NONSGML v1.0//EN
CALSCALE:GREGORIAN
METHOD:PUBLISH
X-ORIGINAL-URL:https://www.oasispickleballclub.com
X-WR-CALDESC:Events for Oasis Pickleball Club
REFRESH-INTERVAL;VALUE=DURATION:PT1H
X-Robots-Tag:noindex
X-PUBLISHED-TTL:PT1H
BEGIN:VTIMEZONE
TZID:America/Chicago
BEGIN:DAYLIGHT
TZOFFSETFROM:-0600
TZOFFSETTO:-0500
TZNAME:CDT
DTSTART:20260308T080000
END:DAYLIGHT
BEGIN:STANDARD
TZOFFSETFROM:-0500
TZOFFSETTO:-0600
TZNAME:CST
DTSTART:20261101T070000
END:STANDARD
BEGIN:DAYLIGHT
TZOFFSETFROM:-0600
TZOFFSETTO:-0500
TZNAME:CDT
DTSTART:20270314T080000
END:DAYLIGHT
BEGIN:STANDARD
TZOFFSETFROM:-0500
TZOFFSETTO:-0600
TZNAME:CST
DTSTART:20271107T070000
END:STANDARD
BEGIN:DAYLIGHT
TZOFFSETFROM:-0600
TZOFFSETTO:-0500
TZNAME:CDT
DTSTART:20280312T080000
END:DAYLIGHT
BEGIN:STANDARD
TZOFFSETFROM:-0500
TZOFFSETTO:-0600
TZNAME:CST
DTSTART:20281105T070000
END:STANDARD
END:VTIMEZONE
BEGIN:VEVENT
DTSTART;TZID=America/Chicago:20271112T080000
DTEND;TZID=America/Chicago:20271112T200000
DTSTAMP:20260425T053117
CREATED:20251229T165446Z
LAST-MODIFIED:20251229T165446Z
UID:10006151-1826006400-1826049600@www.oasispickleballclub.com
SUMMARY:Open Play (All Levels) - Friday
DESCRIPTION:
URL:https://www.oasispickleballclub.com/calendar/open-play-all-levels-friday/2027-11-12/
LOCATION:Oasis Pickleball Club\, 5757 SH-205\, Rockwall\, TX\, 75032\, United States
ORGANIZER;CN="Oasis Pickleball Club":MAILTO:director@oasispickleballclub.com
END:VEVENT
BEGIN:VEVENT
DTSTART;TZID=America/Chicago:20271113T080000
DTEND;TZID=America/Chicago:20271113T200000
DTSTAMP:20260425T053117
CREATED:20241105T171457Z
LAST-MODIFIED:20251229T165047Z
UID:10005045-1826092800-1826136000@www.oasispickleballclub.com
SUMMARY:Open Play (All Levels) - Saturday
DESCRIPTION:
URL:https://www.oasispickleballclub.com/calendar/open-play-all-levels-4/2027-11-13/
LOCATION:Oasis Pickleball Club\, 5757 SH-205\, Rockwall\, TX\, 75032\, United States
ORGANIZER;CN="Oasis Pickleball Club":MAILTO:director@oasispickleballclub.com
END:VEVENT
BEGIN:VEVENT
DTSTART;TZID=America/Chicago:20271113T090000
DTEND;TZID=America/Chicago:20271113T110000
DTSTAMP:20260425T053117
CREATED:20251229T171059Z
LAST-MODIFIED:20251229T171059Z
UID:10007711-1826096400-1826103600@www.oasispickleballclub.com
SUMMARY:Round Robin (Saturdays)
DESCRIPTION:
URL:https://www.oasispickleballclub.com/calendar/round-robin-saturdays/2027-11-13/
LOCATION:TX
END:VEVENT
BEGIN:VEVENT
DTSTART;TZID=America/Chicago:20271114T110000
DTEND;TZID=America/Chicago:20271114T190000
DTSTAMP:20260425T053117
CREATED:20241105T171813Z
LAST-MODIFIED:20251229T165035Z
UID:10005307-1826190000-1826218800@www.oasispickleballclub.com
SUMMARY:Open Play (All Levels) - Sunday
DESCRIPTION:
URL:https://www.oasispickleballclub.com/calendar/open-play-all-levels-5/2027-11-14/
LOCATION:Oasis Pickleball Club\, 5757 SH-205\, Rockwall\, TX\, 75032\, United States
ORGANIZER;CN="Oasis Pickleball Club":MAILTO:director@oasispickleballclub.com
END:VEVENT
BEGIN:VEVENT
DTSTART;TZID=America/Chicago:20271115T080000
DTEND;TZID=America/Chicago:20271115T210000
DTSTAMP:20260425T053117
CREATED:20251229T165305Z
LAST-MODIFIED:20251229T165307Z
UID:10001477-1826265600-1826312400@www.oasispickleballclub.com
SUMMARY:Open Play (All Levels) - Monday
DESCRIPTION:
URL:https://www.oasispickleballclub.com/calendar/open-play-all-levels-6/2027-11-15/
LOCATION:Oasis Pickleball Club\, 5757 SH-205\, Rockwall\, TX\, 75032\, United States
ORGANIZER;CN="Oasis Pickleball Club":MAILTO:director@oasispickleballclub.com
END:VEVENT
BEGIN:VEVENT
DTSTART;TZID=America/Chicago:20271115T190000
DTEND;TZID=America/Chicago:20271115T200000
DTSTAMP:20260425T053117
CREATED:20251229T165758Z
LAST-MODIFIED:20251229T165912Z
UID:10006411-1826305200-1826308800@www.oasispickleballclub.com
SUMMARY:Intro to Pickleball
DESCRIPTION:
URL:https://www.oasispickleballclub.com/calendar/intro-level-1-class-2/2027-11-15/
LOCATION:Oasis Pickleball Club\, 5757 SH-205\, Rockwall\, TX\, 75032\, United States
ORGANIZER;CN="Oasis Pickleball Club":MAILTO:director@oasispickleballclub.com
END:VEVENT
BEGIN:VEVENT
DTSTART;TZID=America/Chicago:20271115T200000
DTEND;TZID=America/Chicago:20271115T210000
DTSTAMP:20260425T053117
CREATED:20251229T170134Z
LAST-MODIFIED:20251229T170138Z
UID:10006671-1826308800-1826312400@www.oasispickleballclub.com
SUMMARY:Drills with Tom
DESCRIPTION:Price is $20 for members\, $30 for non-members.
URL:https://www.oasispickleballclub.com/calendar/drills-with-coach-2/2027-11-15/
LOCATION:Oasis Pickleball Club\, 5757 SH-205\, Rockwall\, TX\, 75032\, United States
ORGANIZER;CN="Oasis Pickleball Club":MAILTO:director@oasispickleballclub.com
END:VEVENT
BEGIN:VEVENT
DTSTART;TZID=America/Chicago:20271116T080000
DTEND;TZID=America/Chicago:20271116T210000
DTSTAMP:20260425T053117
CREATED:20251229T165315Z
LAST-MODIFIED:20251229T165317Z
UID:10002436-1826352000-1826398800@www.oasispickleballclub.com
SUMMARY:Open Play (All Levels) - Tuesday
DESCRIPTION:
URL:https://www.oasispickleballclub.com/calendar/open-play-all-levels-2-2/2027-11-16/
LOCATION:Oasis Pickleball Club\, 5757 SH-205\, Rockwall\, TX\, 75032\, United States
ORGANIZER;CN="Oasis Pickleball Club":MAILTO:director@oasispickleballclub.com
END:VEVENT
BEGIN:VEVENT
DTSTART;TZID=America/Chicago:20271116T185903
DTEND;TZID=America/Chicago:20271116T205903
DTSTAMP:20260425T053117
CREATED:20251229T170346Z
LAST-MODIFIED:20251229T172712Z
UID:10008094-1826391543-1826398743@www.oasispickleballclub.com
SUMMARY:Round Robin (Tuesdays)
DESCRIPTION:
URL:https://www.oasispickleballclub.com/calendar/round-robin-2-2/2027-11-16/
LOCATION:Oasis Pickleball Club\, 5757 SH-205\, Rockwall\, TX\, 75032\, United States
ORGANIZER;CN="Oasis Pickleball Club":MAILTO:director@oasispickleballclub.com
END:VEVENT
BEGIN:VEVENT
DTSTART;TZID=America/Chicago:20271117T080000
DTEND;TZID=America/Chicago:20271117T210000
DTSTAMP:20260425T053117
CREATED:20251229T165324Z
LAST-MODIFIED:20251229T165326Z
UID:10002956-1826438400-1826485200@www.oasispickleballclub.com
SUMMARY:Open Play (All Levels) - Wednesday
DESCRIPTION:
URL:https://www.oasispickleballclub.com/calendar/open-play-all-levels-3-2/2027-11-17/
LOCATION:Oasis Pickleball Club\, 5757 SH-205\, Rockwall\, TX\, 75032\, United States
ORGANIZER;CN="Oasis Pickleball Club":MAILTO:director@oasispickleballclub.com
END:VEVENT
BEGIN:VEVENT
DTSTART;TZID=America/Chicago:20271117T190000
DTEND;TZID=America/Chicago:20271117T210000
DTSTAMP:20260425T053117
CREATED:20251229T170806Z
LAST-MODIFIED:20251229T170806Z
UID:10007190-1826478000-1826485200@www.oasispickleballclub.com
SUMMARY:Chill Pickles
DESCRIPTION:Rockwall residents enjoy half off
URL:https://www.oasispickleballclub.com/calendar/chill-pickles/2027-11-17/
LOCATION:TX
END:VEVENT
BEGIN:VEVENT
DTSTART;TZID=America/Chicago:20271118T080000
DTEND;TZID=America/Chicago:20271118T210000
DTSTAMP:20260425T053117
CREATED:20251229T165336Z
LAST-MODIFIED:20251229T165337Z
UID:10003216-1826524800-1826571600@www.oasispickleballclub.com
SUMMARY:Open Play (All Levels) - Thursday
DESCRIPTION:
URL:https://www.oasispickleballclub.com/calendar/open-play-all-levels-thursdays-2/2027-11-18/
LOCATION:Oasis Pickleball Club\, 5757 SH-205\, Rockwall\, TX\, 75032\, United States
ORGANIZER;CN="Oasis Pickleball Club":MAILTO:director@oasispickleballclub.com
END:VEVENT
BEGIN:VEVENT
DTSTART;TZID=America/Chicago:20271118T180000
DTEND;TZID=America/Chicago:20271118T210000
DTSTAMP:20260425T053117
CREATED:20251229T170903Z
LAST-MODIFIED:20251229T170903Z
UID:10007450-1826560800-1826571600@www.oasispickleballclub.com
SUMMARY:Pickleball & Pizza
DESCRIPTION:
URL:https://www.oasispickleballclub.com/calendar/pickleball-pizza/2027-11-18/
LOCATION:TX
END:VEVENT
BEGIN:VEVENT
DTSTART;TZID=America/Chicago:20271119T080000
DTEND;TZID=America/Chicago:20271119T200000
DTSTAMP:20260425T053117
CREATED:20251229T165446Z
LAST-MODIFIED:20251229T165446Z
UID:10006152-1826611200-1826654400@www.oasispickleballclub.com
SUMMARY:Open Play (All Levels) - Friday
DESCRIPTION:
URL:https://www.oasispickleballclub.com/calendar/open-play-all-levels-friday/2027-11-19/
LOCATION:Oasis Pickleball Club\, 5757 SH-205\, Rockwall\, TX\, 75032\, United States
ORGANIZER;CN="Oasis Pickleball Club":MAILTO:director@oasispickleballclub.com
END:VEVENT
BEGIN:VEVENT
DTSTART;TZID=America/Chicago:20271120T080000
DTEND;TZID=America/Chicago:20271120T200000
DTSTAMP:20260425T053117
CREATED:20241105T171457Z
LAST-MODIFIED:20251229T165047Z
UID:10005046-1826697600-1826740800@www.oasispickleballclub.com
SUMMARY:Open Play (All Levels) - Saturday
DESCRIPTION:
URL:https://www.oasispickleballclub.com/calendar/open-play-all-levels-4/2027-11-20/
LOCATION:Oasis Pickleball Club\, 5757 SH-205\, Rockwall\, TX\, 75032\, United States
ORGANIZER;CN="Oasis Pickleball Club":MAILTO:director@oasispickleballclub.com
END:VEVENT
BEGIN:VEVENT
DTSTART;TZID=America/Chicago:20271120T090000
DTEND;TZID=America/Chicago:20271120T110000
DTSTAMP:20260425T053117
CREATED:20251229T171059Z
LAST-MODIFIED:20251229T171059Z
UID:10007712-1826701200-1826708400@www.oasispickleballclub.com
SUMMARY:Round Robin (Saturdays)
DESCRIPTION:
URL:https://www.oasispickleballclub.com/calendar/round-robin-saturdays/2027-11-20/
LOCATION:TX
END:VEVENT
BEGIN:VEVENT
DTSTART;TZID=America/Chicago:20271121T110000
DTEND;TZID=America/Chicago:20271121T190000
DTSTAMP:20260425T053117
CREATED:20241105T171813Z
LAST-MODIFIED:20251229T165035Z
UID:10005308-1826794800-1826823600@www.oasispickleballclub.com
SUMMARY:Open Play (All Levels) - Sunday
DESCRIPTION:
URL:https://www.oasispickleballclub.com/calendar/open-play-all-levels-5/2027-11-21/
LOCATION:Oasis Pickleball Club\, 5757 SH-205\, Rockwall\, TX\, 75032\, United States
ORGANIZER;CN="Oasis Pickleball Club":MAILTO:director@oasispickleballclub.com
END:VEVENT
BEGIN:VEVENT
DTSTART;TZID=America/Chicago:20271122T080000
DTEND;TZID=America/Chicago:20271122T210000
DTSTAMP:20260425T053117
CREATED:20251229T165305Z
LAST-MODIFIED:20251229T165307Z
UID:10001482-1826870400-1826917200@www.oasispickleballclub.com
SUMMARY:Open Play (All Levels) - Monday
DESCRIPTION:
URL:https://www.oasispickleballclub.com/calendar/open-play-all-levels-6/2027-11-22/
LOCATION:Oasis Pickleball Club\, 5757 SH-205\, Rockwall\, TX\, 75032\, United States
ORGANIZER;CN="Oasis Pickleball Club":MAILTO:director@oasispickleballclub.com
END:VEVENT
BEGIN:VEVENT
DTSTART;TZID=America/Chicago:20271122T190000
DTEND;TZID=America/Chicago:20271122T200000
DTSTAMP:20260425T053117
CREATED:20251229T165758Z
LAST-MODIFIED:20251229T165912Z
UID:10006412-1826910000-1826913600@www.oasispickleballclub.com
SUMMARY:Intro to Pickleball
DESCRIPTION:
URL:https://www.oasispickleballclub.com/calendar/intro-level-1-class-2/2027-11-22/
LOCATION:Oasis Pickleball Club\, 5757 SH-205\, Rockwall\, TX\, 75032\, United States
ORGANIZER;CN="Oasis Pickleball Club":MAILTO:director@oasispickleballclub.com
END:VEVENT
BEGIN:VEVENT
DTSTART;TZID=America/Chicago:20271122T200000
DTEND;TZID=America/Chicago:20271122T210000
DTSTAMP:20260425T053117
CREATED:20251229T170134Z
LAST-MODIFIED:20251229T170138Z
UID:10006672-1826913600-1826917200@www.oasispickleballclub.com
SUMMARY:Drills with Tom
DESCRIPTION:Price is $20 for members\, $30 for non-members.
URL:https://www.oasispickleballclub.com/calendar/drills-with-coach-2/2027-11-22/
LOCATION:Oasis Pickleball Club\, 5757 SH-205\, Rockwall\, TX\, 75032\, United States
ORGANIZER;CN="Oasis Pickleball Club":MAILTO:director@oasispickleballclub.com
END:VEVENT
BEGIN:VEVENT
DTSTART;TZID=America/Chicago:20271123T080000
DTEND;TZID=America/Chicago:20271123T210000
DTSTAMP:20260425T053117
CREATED:20251229T165315Z
LAST-MODIFIED:20251229T165317Z
UID:10002437-1826956800-1827003600@www.oasispickleballclub.com
SUMMARY:Open Play (All Levels) - Tuesday
DESCRIPTION:
URL:https://www.oasispickleballclub.com/calendar/open-play-all-levels-2-2/2027-11-23/
LOCATION:Oasis Pickleball Club\, 5757 SH-205\, Rockwall\, TX\, 75032\, United States
ORGANIZER;CN="Oasis Pickleball Club":MAILTO:director@oasispickleballclub.com
END:VEVENT
BEGIN:VEVENT
DTSTART;TZID=America/Chicago:20271123T185903
DTEND;TZID=America/Chicago:20271123T205903
DTSTAMP:20260425T053117
CREATED:20251229T170346Z
LAST-MODIFIED:20251229T172712Z
UID:10008095-1826996343-1827003543@www.oasispickleballclub.com
SUMMARY:Round Robin (Tuesdays)
DESCRIPTION:
URL:https://www.oasispickleballclub.com/calendar/round-robin-2-2/2027-11-23/
LOCATION:Oasis Pickleball Club\, 5757 SH-205\, Rockwall\, TX\, 75032\, United States
ORGANIZER;CN="Oasis Pickleball Club":MAILTO:director@oasispickleballclub.com
END:VEVENT
BEGIN:VEVENT
DTSTART;TZID=America/Chicago:20271124T080000
DTEND;TZID=America/Chicago:20271124T210000
DTSTAMP:20260425T053117
CREATED:20251229T165324Z
LAST-MODIFIED:20251229T165326Z
UID:10002957-1827043200-1827090000@www.oasispickleballclub.com
SUMMARY:Open Play (All Levels) - Wednesday
DESCRIPTION:
URL:https://www.oasispickleballclub.com/calendar/open-play-all-levels-3-2/2027-11-24/
LOCATION:Oasis Pickleball Club\, 5757 SH-205\, Rockwall\, TX\, 75032\, United States
ORGANIZER;CN="Oasis Pickleball Club":MAILTO:director@oasispickleballclub.com
END:VEVENT
BEGIN:VEVENT
DTSTART;TZID=America/Chicago:20271124T190000
DTEND;TZID=America/Chicago:20271124T210000
DTSTAMP:20260425T053117
CREATED:20251229T170806Z
LAST-MODIFIED:20251229T170806Z
UID:10007191-1827082800-1827090000@www.oasispickleballclub.com
SUMMARY:Chill Pickles
DESCRIPTION:Rockwall residents enjoy half off
URL:https://www.oasispickleballclub.com/calendar/chill-pickles/2027-11-24/
LOCATION:TX
END:VEVENT
BEGIN:VEVENT
DTSTART;TZID=America/Chicago:20271125T080000
DTEND;TZID=America/Chicago:20271125T210000
DTSTAMP:20260425T053117
CREATED:20251229T165336Z
LAST-MODIFIED:20251229T165337Z
UID:10003217-1827129600-1827176400@www.oasispickleballclub.com
SUMMARY:Open Play (All Levels) - Thursday
DESCRIPTION:
URL:https://www.oasispickleballclub.com/calendar/open-play-all-levels-thursdays-2/2027-11-25/
LOCATION:Oasis Pickleball Club\, 5757 SH-205\, Rockwall\, TX\, 75032\, United States
ORGANIZER;CN="Oasis Pickleball Club":MAILTO:director@oasispickleballclub.com
END:VEVENT
BEGIN:VEVENT
DTSTART;TZID=America/Chicago:20271125T180000
DTEND;TZID=America/Chicago:20271125T210000
DTSTAMP:20260425T053117
CREATED:20251229T170903Z
LAST-MODIFIED:20251229T170903Z
UID:10007451-1827165600-1827176400@www.oasispickleballclub.com
SUMMARY:Pickleball & Pizza
DESCRIPTION:
URL:https://www.oasispickleballclub.com/calendar/pickleball-pizza/2027-11-25/
LOCATION:TX
END:VEVENT
BEGIN:VEVENT
DTSTART;TZID=America/Chicago:20271126T080000
DTEND;TZID=America/Chicago:20271126T200000
DTSTAMP:20260425T053117
CREATED:20251229T165446Z
LAST-MODIFIED:20251229T165446Z
UID:10006153-1827216000-1827259200@www.oasispickleballclub.com
SUMMARY:Open Play (All Levels) - Friday
DESCRIPTION:
URL:https://www.oasispickleballclub.com/calendar/open-play-all-levels-friday/2027-11-26/
LOCATION:Oasis Pickleball Club\, 5757 SH-205\, Rockwall\, TX\, 75032\, United States
ORGANIZER;CN="Oasis Pickleball Club":MAILTO:director@oasispickleballclub.com
END:VEVENT
BEGIN:VEVENT
DTSTART;TZID=America/Chicago:20271127T080000
DTEND;TZID=America/Chicago:20271127T200000
DTSTAMP:20260425T053117
CREATED:20241105T171457Z
LAST-MODIFIED:20251229T165047Z
UID:10005047-1827302400-1827345600@www.oasispickleballclub.com
SUMMARY:Open Play (All Levels) - Saturday
DESCRIPTION:
URL:https://www.oasispickleballclub.com/calendar/open-play-all-levels-4/2027-11-27/
LOCATION:Oasis Pickleball Club\, 5757 SH-205\, Rockwall\, TX\, 75032\, United States
ORGANIZER;CN="Oasis Pickleball Club":MAILTO:director@oasispickleballclub.com
END:VEVENT
BEGIN:VEVENT
DTSTART;TZID=America/Chicago:20271127T090000
DTEND;TZID=America/Chicago:20271127T110000
DTSTAMP:20260425T053117
CREATED:20251229T171059Z
LAST-MODIFIED:20251229T171059Z
UID:10007713-1827306000-1827313200@www.oasispickleballclub.com
SUMMARY:Round Robin (Saturdays)
DESCRIPTION:
URL:https://www.oasispickleballclub.com/calendar/round-robin-saturdays/2027-11-27/
LOCATION:TX
END:VEVENT
BEGIN:VEVENT
DTSTART;TZID=America/Chicago:20271128T110000
DTEND;TZID=America/Chicago:20271128T190000
DTSTAMP:20260425T053117
CREATED:20241105T171813Z
LAST-MODIFIED:20251229T165035Z
UID:10005309-1827399600-1827428400@www.oasispickleballclub.com
SUMMARY:Open Play (All Levels) - Sunday
DESCRIPTION:
URL:https://www.oasispickleballclub.com/calendar/open-play-all-levels-5/2027-11-28/
LOCATION:Oasis Pickleball Club\, 5757 SH-205\, Rockwall\, TX\, 75032\, United States
ORGANIZER;CN="Oasis Pickleball Club":MAILTO:director@oasispickleballclub.com
END:VEVENT
END:VCALENDAR