BEGIN:VCALENDAR
VERSION:2.0
PRODID:-//Oasis Pickleball Club - ECPv6.15.13//NONSGML v1.0//EN
CALSCALE:GREGORIAN
METHOD:PUBLISH
X-ORIGINAL-URL:https://www.oasispickleballclub.com
X-WR-CALDESC:Events for Oasis Pickleball Club
REFRESH-INTERVAL;VALUE=DURATION:PT1H
X-Robots-Tag:noindex
X-PUBLISHED-TTL:PT1H
BEGIN:VTIMEZONE
TZID:America/Chicago
BEGIN:DAYLIGHT
TZOFFSETFROM:-0600
TZOFFSETTO:-0500
TZNAME:CDT
DTSTART:20250309T080000
END:DAYLIGHT
BEGIN:STANDARD
TZOFFSETFROM:-0500
TZOFFSETTO:-0600
TZNAME:CST
DTSTART:20251102T070000
END:STANDARD
BEGIN:DAYLIGHT
TZOFFSETFROM:-0600
TZOFFSETTO:-0500
TZNAME:CDT
DTSTART:20260308T080000
END:DAYLIGHT
BEGIN:STANDARD
TZOFFSETFROM:-0500
TZOFFSETTO:-0600
TZNAME:CST
DTSTART:20261101T070000
END:STANDARD
BEGIN:DAYLIGHT
TZOFFSETFROM:-0600
TZOFFSETTO:-0500
TZNAME:CDT
DTSTART:20270314T080000
END:DAYLIGHT
BEGIN:STANDARD
TZOFFSETFROM:-0500
TZOFFSETTO:-0600
TZNAME:CST
DTSTART:20271107T070000
END:STANDARD
END:VTIMEZONE
BEGIN:VEVENT
DTSTART;TZID=America/Chicago:20260928T080000
DTEND;TZID=America/Chicago:20260928T210000
DTSTAMP:20260421T070233
CREATED:20251229T165305Z
LAST-MODIFIED:20251229T165307Z
UID:10001167-1790582400-1790629200@www.oasispickleballclub.com
SUMMARY:Open Play (All Levels) - Monday
DESCRIPTION:
URL:https://www.oasispickleballclub.com/calendar/open-play-all-levels-6/2026-09-28/
LOCATION:Oasis Pickleball Club\, 5757 SH-205\, Rockwall\, TX\, 75032\, United States
ORGANIZER;CN="Oasis Pickleball Club":MAILTO:director@oasispickleballclub.com
END:VEVENT
BEGIN:VEVENT
DTSTART;TZID=America/Chicago:20260928T190000
DTEND;TZID=America/Chicago:20260928T200000
DTSTAMP:20260421T070233
CREATED:20251229T165758Z
LAST-MODIFIED:20251229T165912Z
UID:10006352-1790622000-1790625600@www.oasispickleballclub.com
SUMMARY:Intro to Pickleball
DESCRIPTION:
URL:https://www.oasispickleballclub.com/calendar/intro-level-1-class-2/2026-09-28/
LOCATION:Oasis Pickleball Club\, 5757 SH-205\, Rockwall\, TX\, 75032\, United States
ORGANIZER;CN="Oasis Pickleball Club":MAILTO:director@oasispickleballclub.com
END:VEVENT
BEGIN:VEVENT
DTSTART;TZID=America/Chicago:20260928T200000
DTEND;TZID=America/Chicago:20260928T210000
DTSTAMP:20260421T070233
CREATED:20251229T170134Z
LAST-MODIFIED:20251229T170138Z
UID:10006612-1790625600-1790629200@www.oasispickleballclub.com
SUMMARY:Drills with Tom
DESCRIPTION:Price is $20 for members\, $30 for non-members.
URL:https://www.oasispickleballclub.com/calendar/drills-with-coach-2/2026-09-28/
LOCATION:Oasis Pickleball Club\, 5757 SH-205\, Rockwall\, TX\, 75032\, United States
ORGANIZER;CN="Oasis Pickleball Club":MAILTO:director@oasispickleballclub.com
END:VEVENT
BEGIN:VEVENT
DTSTART;TZID=America/Chicago:20260929T080000
DTEND;TZID=America/Chicago:20260929T210000
DTSTAMP:20260421T070233
CREATED:20251229T165315Z
LAST-MODIFIED:20251229T165317Z
UID:10002377-1790668800-1790715600@www.oasispickleballclub.com
SUMMARY:Open Play (All Levels) - Tuesday
DESCRIPTION:
URL:https://www.oasispickleballclub.com/calendar/open-play-all-levels-2-2/2026-09-29/
LOCATION:Oasis Pickleball Club\, 5757 SH-205\, Rockwall\, TX\, 75032\, United States
ORGANIZER;CN="Oasis Pickleball Club":MAILTO:director@oasispickleballclub.com
END:VEVENT
BEGIN:VEVENT
DTSTART;TZID=America/Chicago:20260929T185903
DTEND;TZID=America/Chicago:20260929T205903
DTSTAMP:20260421T070233
CREATED:20251229T170346Z
LAST-MODIFIED:20251229T172712Z
UID:10008035-1790708343-1790715543@www.oasispickleballclub.com
SUMMARY:Round Robin (Tuesdays)
DESCRIPTION:
URL:https://www.oasispickleballclub.com/calendar/round-robin-2-2/2026-09-29/
LOCATION:Oasis Pickleball Club\, 5757 SH-205\, Rockwall\, TX\, 75032\, United States
ORGANIZER;CN="Oasis Pickleball Club":MAILTO:director@oasispickleballclub.com
END:VEVENT
BEGIN:VEVENT
DTSTART;TZID=America/Chicago:20260930T080000
DTEND;TZID=America/Chicago:20260930T210000
DTSTAMP:20260421T070233
CREATED:20251229T165324Z
LAST-MODIFIED:20251229T165326Z
UID:10002897-1790755200-1790802000@www.oasispickleballclub.com
SUMMARY:Open Play (All Levels) - Wednesday
DESCRIPTION:
URL:https://www.oasispickleballclub.com/calendar/open-play-all-levels-3-2/2026-09-30/
LOCATION:Oasis Pickleball Club\, 5757 SH-205\, Rockwall\, TX\, 75032\, United States
ORGANIZER;CN="Oasis Pickleball Club":MAILTO:director@oasispickleballclub.com
END:VEVENT
BEGIN:VEVENT
DTSTART;TZID=America/Chicago:20260930T190000
DTEND;TZID=America/Chicago:20260930T210000
DTSTAMP:20260421T070233
CREATED:20251229T170806Z
LAST-MODIFIED:20251229T170806Z
UID:10007131-1790794800-1790802000@www.oasispickleballclub.com
SUMMARY:Chill Pickles
DESCRIPTION:Rockwall residents enjoy half off
URL:https://www.oasispickleballclub.com/calendar/chill-pickles/2026-09-30/
END:VEVENT
BEGIN:VEVENT
DTSTART;TZID=America/Chicago:20261001T080000
DTEND;TZID=America/Chicago:20261001T210000
DTSTAMP:20260421T070233
CREATED:20251229T165336Z
LAST-MODIFIED:20251229T165337Z
UID:10003157-1790841600-1790888400@www.oasispickleballclub.com
SUMMARY:Open Play (All Levels) - Thursday
DESCRIPTION:
URL:https://www.oasispickleballclub.com/calendar/open-play-all-levels-thursdays-2/2026-10-01/
LOCATION:Oasis Pickleball Club\, 5757 SH-205\, Rockwall\, TX\, 75032\, United States
ORGANIZER;CN="Oasis Pickleball Club":MAILTO:director@oasispickleballclub.com
END:VEVENT
BEGIN:VEVENT
DTSTART;TZID=America/Chicago:20261001T180000
DTEND;TZID=America/Chicago:20261001T210000
DTSTAMP:20260421T070233
CREATED:20251229T170903Z
LAST-MODIFIED:20251229T170903Z
UID:10007391-1790877600-1790888400@www.oasispickleballclub.com
SUMMARY:Pickleball & Pizza
DESCRIPTION:
URL:https://www.oasispickleballclub.com/calendar/pickleball-pizza/2026-10-01/
END:VEVENT
BEGIN:VEVENT
DTSTART;TZID=America/Chicago:20261002T080000
DTEND;TZID=America/Chicago:20261002T200000
DTSTAMP:20260421T070233
CREATED:20251229T165446Z
LAST-MODIFIED:20251229T165446Z
UID:10006093-1790928000-1790971200@www.oasispickleballclub.com
SUMMARY:Open Play (All Levels) - Friday
DESCRIPTION:
URL:https://www.oasispickleballclub.com/calendar/open-play-all-levels-friday/2026-10-02/
LOCATION:Oasis Pickleball Club\, 5757 SH-205\, Rockwall\, TX\, 75032\, United States
ORGANIZER;CN="Oasis Pickleball Club":MAILTO:director@oasispickleballclub.com
END:VEVENT
BEGIN:VEVENT
DTSTART;TZID=America/Chicago:20261002T080000
DTEND;TZID=America/Chicago:20261004T170000
DTSTAMP:20260421T070233
CREATED:20251118T144246Z
LAST-MODIFIED:20251118T144246Z
UID:10005490-1790928000-1791133200@www.oasispickleballclub.com
SUMMARY:World Pickleball Tour
DESCRIPTION:
URL:https://www.oasispickleballclub.com/calendar/world-pickleball-tour-3/
END:VEVENT
BEGIN:VEVENT
DTSTART;TZID=America/Chicago:20261003T080000
DTEND;TZID=America/Chicago:20261003T200000
DTSTAMP:20260421T070233
CREATED:20241105T171457Z
LAST-MODIFIED:20251229T165047Z
UID:10004987-1791014400-1791057600@www.oasispickleballclub.com
SUMMARY:Open Play (All Levels) - Saturday
DESCRIPTION:
URL:https://www.oasispickleballclub.com/calendar/open-play-all-levels-4/2026-10-03/
LOCATION:Oasis Pickleball Club\, 5757 SH-205\, Rockwall\, TX\, 75032\, United States
ORGANIZER;CN="Oasis Pickleball Club":MAILTO:director@oasispickleballclub.com
END:VEVENT
BEGIN:VEVENT
DTSTART;TZID=America/Chicago:20261003T090000
DTEND;TZID=America/Chicago:20261003T110000
DTSTAMP:20260421T070233
CREATED:20251229T171059Z
LAST-MODIFIED:20251229T171059Z
UID:10007653-1791018000-1791025200@www.oasispickleballclub.com
SUMMARY:Round Robin (Saturdays)
DESCRIPTION:
URL:https://www.oasispickleballclub.com/calendar/round-robin-saturdays/2026-10-03/
END:VEVENT
BEGIN:VEVENT
DTSTART;TZID=America/Chicago:20261004T110000
DTEND;TZID=America/Chicago:20261004T190000
DTSTAMP:20260421T070233
CREATED:20241105T171813Z
LAST-MODIFIED:20251229T165035Z
UID:10005249-1791111600-1791140400@www.oasispickleballclub.com
SUMMARY:Open Play (All Levels) - Sunday
DESCRIPTION:
URL:https://www.oasispickleballclub.com/calendar/open-play-all-levels-5/2026-10-04/
LOCATION:Oasis Pickleball Club\, 5757 SH-205\, Rockwall\, TX\, 75032\, United States
ORGANIZER;CN="Oasis Pickleball Club":MAILTO:director@oasispickleballclub.com
END:VEVENT
BEGIN:VEVENT
DTSTART;TZID=America/Chicago:20261005T080000
DTEND;TZID=America/Chicago:20261005T210000
DTSTAMP:20260421T070233
CREATED:20251229T165305Z
LAST-MODIFIED:20251229T165307Z
UID:10001172-1791187200-1791234000@www.oasispickleballclub.com
SUMMARY:Open Play (All Levels) - Monday
DESCRIPTION:
URL:https://www.oasispickleballclub.com/calendar/open-play-all-levels-6/2026-10-05/
LOCATION:Oasis Pickleball Club\, 5757 SH-205\, Rockwall\, TX\, 75032\, United States
ORGANIZER;CN="Oasis Pickleball Club":MAILTO:director@oasispickleballclub.com
END:VEVENT
BEGIN:VEVENT
DTSTART;TZID=America/Chicago:20261005T190000
DTEND;TZID=America/Chicago:20261005T200000
DTSTAMP:20260421T070233
CREATED:20251229T165758Z
LAST-MODIFIED:20251229T165912Z
UID:10006353-1791226800-1791230400@www.oasispickleballclub.com
SUMMARY:Intro to Pickleball
DESCRIPTION:
URL:https://www.oasispickleballclub.com/calendar/intro-level-1-class-2/2026-10-05/
LOCATION:Oasis Pickleball Club\, 5757 SH-205\, Rockwall\, TX\, 75032\, United States
ORGANIZER;CN="Oasis Pickleball Club":MAILTO:director@oasispickleballclub.com
END:VEVENT
BEGIN:VEVENT
DTSTART;TZID=America/Chicago:20261005T200000
DTEND;TZID=America/Chicago:20261005T210000
DTSTAMP:20260421T070233
CREATED:20251229T170134Z
LAST-MODIFIED:20251229T170138Z
UID:10006613-1791230400-1791234000@www.oasispickleballclub.com
SUMMARY:Drills with Tom
DESCRIPTION:Price is $20 for members\, $30 for non-members.
URL:https://www.oasispickleballclub.com/calendar/drills-with-coach-2/2026-10-05/
LOCATION:Oasis Pickleball Club\, 5757 SH-205\, Rockwall\, TX\, 75032\, United States
ORGANIZER;CN="Oasis Pickleball Club":MAILTO:director@oasispickleballclub.com
END:VEVENT
BEGIN:VEVENT
DTSTART;TZID=America/Chicago:20261006T080000
DTEND;TZID=America/Chicago:20261006T210000
DTSTAMP:20260421T070233
CREATED:20251229T165315Z
LAST-MODIFIED:20251229T165317Z
UID:10002378-1791273600-1791320400@www.oasispickleballclub.com
SUMMARY:Open Play (All Levels) - Tuesday
DESCRIPTION:
URL:https://www.oasispickleballclub.com/calendar/open-play-all-levels-2-2/2026-10-06/
LOCATION:Oasis Pickleball Club\, 5757 SH-205\, Rockwall\, TX\, 75032\, United States
ORGANIZER;CN="Oasis Pickleball Club":MAILTO:director@oasispickleballclub.com
END:VEVENT
BEGIN:VEVENT
DTSTART;TZID=America/Chicago:20261006T185903
DTEND;TZID=America/Chicago:20261006T205903
DTSTAMP:20260421T070233
CREATED:20251229T170346Z
LAST-MODIFIED:20251229T172712Z
UID:10008036-1791313143-1791320343@www.oasispickleballclub.com
SUMMARY:Round Robin (Tuesdays)
DESCRIPTION:
URL:https://www.oasispickleballclub.com/calendar/round-robin-2-2/2026-10-06/
LOCATION:Oasis Pickleball Club\, 5757 SH-205\, Rockwall\, TX\, 75032\, United States
ORGANIZER;CN="Oasis Pickleball Club":MAILTO:director@oasispickleballclub.com
END:VEVENT
BEGIN:VEVENT
DTSTART;TZID=America/Chicago:20261007T080000
DTEND;TZID=America/Chicago:20261007T210000
DTSTAMP:20260421T070233
CREATED:20251229T165324Z
LAST-MODIFIED:20251229T165326Z
UID:10002898-1791360000-1791406800@www.oasispickleballclub.com
SUMMARY:Open Play (All Levels) - Wednesday
DESCRIPTION:
URL:https://www.oasispickleballclub.com/calendar/open-play-all-levels-3-2/2026-10-07/
LOCATION:Oasis Pickleball Club\, 5757 SH-205\, Rockwall\, TX\, 75032\, United States
ORGANIZER;CN="Oasis Pickleball Club":MAILTO:director@oasispickleballclub.com
END:VEVENT
BEGIN:VEVENT
DTSTART;TZID=America/Chicago:20261007T190000
DTEND;TZID=America/Chicago:20261007T210000
DTSTAMP:20260421T070233
CREATED:20251229T170806Z
LAST-MODIFIED:20251229T170806Z
UID:10007132-1791399600-1791406800@www.oasispickleballclub.com
SUMMARY:Chill Pickles
DESCRIPTION:Rockwall residents enjoy half off
URL:https://www.oasispickleballclub.com/calendar/chill-pickles/2026-10-07/
END:VEVENT
BEGIN:VEVENT
DTSTART;TZID=America/Chicago:20261008T080000
DTEND;TZID=America/Chicago:20261008T210000
DTSTAMP:20260421T070233
CREATED:20251229T165336Z
LAST-MODIFIED:20251229T165337Z
UID:10003158-1791446400-1791493200@www.oasispickleballclub.com
SUMMARY:Open Play (All Levels) - Thursday
DESCRIPTION:
URL:https://www.oasispickleballclub.com/calendar/open-play-all-levels-thursdays-2/2026-10-08/
LOCATION:Oasis Pickleball Club\, 5757 SH-205\, Rockwall\, TX\, 75032\, United States
ORGANIZER;CN="Oasis Pickleball Club":MAILTO:director@oasispickleballclub.com
END:VEVENT
BEGIN:VEVENT
DTSTART;TZID=America/Chicago:20261008T180000
DTEND;TZID=America/Chicago:20261008T210000
DTSTAMP:20260421T070233
CREATED:20251229T170903Z
LAST-MODIFIED:20251229T170903Z
UID:10007392-1791482400-1791493200@www.oasispickleballclub.com
SUMMARY:Pickleball & Pizza
DESCRIPTION:
URL:https://www.oasispickleballclub.com/calendar/pickleball-pizza/2026-10-08/
END:VEVENT
BEGIN:VEVENT
DTSTART;TZID=America/Chicago:20261009T080000
DTEND;TZID=America/Chicago:20261009T200000
DTSTAMP:20260421T070233
CREATED:20251229T165446Z
LAST-MODIFIED:20251229T165446Z
UID:10006094-1791532800-1791576000@www.oasispickleballclub.com
SUMMARY:Open Play (All Levels) - Friday
DESCRIPTION:
URL:https://www.oasispickleballclub.com/calendar/open-play-all-levels-friday/2026-10-09/
LOCATION:Oasis Pickleball Club\, 5757 SH-205\, Rockwall\, TX\, 75032\, United States
ORGANIZER;CN="Oasis Pickleball Club":MAILTO:director@oasispickleballclub.com
END:VEVENT
BEGIN:VEVENT
DTSTART;TZID=America/Chicago:20261010T080000
DTEND;TZID=America/Chicago:20261010T200000
DTSTAMP:20260421T070233
CREATED:20241105T171457Z
LAST-MODIFIED:20251229T165047Z
UID:10004988-1791619200-1791662400@www.oasispickleballclub.com
SUMMARY:Open Play (All Levels) - Saturday
DESCRIPTION:
URL:https://www.oasispickleballclub.com/calendar/open-play-all-levels-4/2026-10-10/
LOCATION:Oasis Pickleball Club\, 5757 SH-205\, Rockwall\, TX\, 75032\, United States
ORGANIZER;CN="Oasis Pickleball Club":MAILTO:director@oasispickleballclub.com
END:VEVENT
BEGIN:VEVENT
DTSTART;TZID=America/Chicago:20261010T090000
DTEND;TZID=America/Chicago:20261010T110000
DTSTAMP:20260421T070233
CREATED:20251229T171059Z
LAST-MODIFIED:20251229T171059Z
UID:10007654-1791622800-1791630000@www.oasispickleballclub.com
SUMMARY:Round Robin (Saturdays)
DESCRIPTION:
URL:https://www.oasispickleballclub.com/calendar/round-robin-saturdays/2026-10-10/
END:VEVENT
BEGIN:VEVENT
DTSTART;TZID=America/Chicago:20261011T110000
DTEND;TZID=America/Chicago:20261011T190000
DTSTAMP:20260421T070233
CREATED:20241105T171813Z
LAST-MODIFIED:20251229T165035Z
UID:10005250-1791716400-1791745200@www.oasispickleballclub.com
SUMMARY:Open Play (All Levels) - Sunday
DESCRIPTION:
URL:https://www.oasispickleballclub.com/calendar/open-play-all-levels-5/2026-10-11/
LOCATION:Oasis Pickleball Club\, 5757 SH-205\, Rockwall\, TX\, 75032\, United States
ORGANIZER;CN="Oasis Pickleball Club":MAILTO:director@oasispickleballclub.com
END:VEVENT
BEGIN:VEVENT
DTSTART;TZID=America/Chicago:20261012T080000
DTEND;TZID=America/Chicago:20261012T210000
DTSTAMP:20260421T070233
CREATED:20251229T165305Z
LAST-MODIFIED:20251229T165307Z
UID:10000102-1791792000-1791838800@www.oasispickleballclub.com
SUMMARY:Open Play (All Levels) - Monday
DESCRIPTION:
URL:https://www.oasispickleballclub.com/calendar/open-play-all-levels-6/2026-10-12/
LOCATION:Oasis Pickleball Club\, 5757 SH-205\, Rockwall\, TX\, 75032\, United States
ORGANIZER;CN="Oasis Pickleball Club":MAILTO:director@oasispickleballclub.com
END:VEVENT
BEGIN:VEVENT
DTSTART;TZID=America/Chicago:20261012T190000
DTEND;TZID=America/Chicago:20261012T200000
DTSTAMP:20260421T070233
CREATED:20251229T165758Z
LAST-MODIFIED:20251229T165912Z
UID:10006354-1791831600-1791835200@www.oasispickleballclub.com
SUMMARY:Intro to Pickleball
DESCRIPTION:
URL:https://www.oasispickleballclub.com/calendar/intro-level-1-class-2/2026-10-12/
LOCATION:Oasis Pickleball Club\, 5757 SH-205\, Rockwall\, TX\, 75032\, United States
ORGANIZER;CN="Oasis Pickleball Club":MAILTO:director@oasispickleballclub.com
END:VEVENT
BEGIN:VEVENT
DTSTART;TZID=America/Chicago:20261012T200000
DTEND;TZID=America/Chicago:20261012T210000
DTSTAMP:20260421T070233
CREATED:20251229T170134Z
LAST-MODIFIED:20251229T170138Z
UID:10006614-1791835200-1791838800@www.oasispickleballclub.com
SUMMARY:Drills with Tom
DESCRIPTION:Price is $20 for members\, $30 for non-members.
URL:https://www.oasispickleballclub.com/calendar/drills-with-coach-2/2026-10-12/
LOCATION:Oasis Pickleball Club\, 5757 SH-205\, Rockwall\, TX\, 75032\, United States
ORGANIZER;CN="Oasis Pickleball Club":MAILTO:director@oasispickleballclub.com
END:VEVENT
END:VCALENDAR