BEGIN:VCALENDAR
VERSION:2.0
PRODID:-//Oasis Pickleball Club - ECPv6.15.13//NONSGML v1.0//EN
CALSCALE:GREGORIAN
METHOD:PUBLISH
X-ORIGINAL-URL:https://www.oasispickleballclub.com
X-WR-CALDESC:Events for Oasis Pickleball Club
REFRESH-INTERVAL;VALUE=DURATION:PT1H
X-Robots-Tag:noindex
X-PUBLISHED-TTL:PT1H
BEGIN:VTIMEZONE
TZID:America/Chicago
BEGIN:DAYLIGHT
TZOFFSETFROM:-0600
TZOFFSETTO:-0500
TZNAME:CDT
DTSTART:20250309T080000
END:DAYLIGHT
BEGIN:STANDARD
TZOFFSETFROM:-0500
TZOFFSETTO:-0600
TZNAME:CST
DTSTART:20251102T070000
END:STANDARD
BEGIN:DAYLIGHT
TZOFFSETFROM:-0600
TZOFFSETTO:-0500
TZNAME:CDT
DTSTART:20260308T080000
END:DAYLIGHT
BEGIN:STANDARD
TZOFFSETFROM:-0500
TZOFFSETTO:-0600
TZNAME:CST
DTSTART:20261101T070000
END:STANDARD
BEGIN:DAYLIGHT
TZOFFSETFROM:-0600
TZOFFSETTO:-0500
TZNAME:CDT
DTSTART:20270314T080000
END:DAYLIGHT
BEGIN:STANDARD
TZOFFSETFROM:-0500
TZOFFSETTO:-0600
TZNAME:CST
DTSTART:20271107T070000
END:STANDARD
END:VTIMEZONE
BEGIN:VEVENT
DTSTART;TZID=America/Chicago:20261028T080000
DTEND;TZID=America/Chicago:20261028T210000
DTSTAMP:20260420T201028
CREATED:20251229T165324Z
LAST-MODIFIED:20251229T165326Z
UID:10002901-1793174400-1793221200@www.oasispickleballclub.com
SUMMARY:Open Play (All Levels) - Wednesday
DESCRIPTION:
URL:https://www.oasispickleballclub.com/calendar/open-play-all-levels-3-2/2026-10-28/
LOCATION:Oasis Pickleball Club\, 5757 SH-205\, Rockwall\, TX\, 75032\, United States
ORGANIZER;CN="Oasis Pickleball Club":MAILTO:director@oasispickleballclub.com
END:VEVENT
BEGIN:VEVENT
DTSTART;TZID=America/Chicago:20261028T190000
DTEND;TZID=America/Chicago:20261028T210000
DTSTAMP:20260420T201028
CREATED:20251229T170806Z
LAST-MODIFIED:20251229T170806Z
UID:10007135-1793214000-1793221200@www.oasispickleballclub.com
SUMMARY:Chill Pickles
DESCRIPTION:Rockwall residents enjoy half off
URL:https://www.oasispickleballclub.com/calendar/chill-pickles/2026-10-28/
END:VEVENT
BEGIN:VEVENT
DTSTART;TZID=America/Chicago:20261029T080000
DTEND;TZID=America/Chicago:20261029T210000
DTSTAMP:20260420T201028
CREATED:20251229T165336Z
LAST-MODIFIED:20251229T165337Z
UID:10003161-1793260800-1793307600@www.oasispickleballclub.com
SUMMARY:Open Play (All Levels) - Thursday
DESCRIPTION:
URL:https://www.oasispickleballclub.com/calendar/open-play-all-levels-thursdays-2/2026-10-29/
LOCATION:Oasis Pickleball Club\, 5757 SH-205\, Rockwall\, TX\, 75032\, United States
ORGANIZER;CN="Oasis Pickleball Club":MAILTO:director@oasispickleballclub.com
END:VEVENT
BEGIN:VEVENT
DTSTART;TZID=America/Chicago:20261029T180000
DTEND;TZID=America/Chicago:20261029T210000
DTSTAMP:20260420T201028
CREATED:20251229T170903Z
LAST-MODIFIED:20251229T170903Z
UID:10007395-1793296800-1793307600@www.oasispickleballclub.com
SUMMARY:Pickleball & Pizza
DESCRIPTION:
URL:https://www.oasispickleballclub.com/calendar/pickleball-pizza/2026-10-29/
END:VEVENT
BEGIN:VEVENT
DTSTART;TZID=America/Chicago:20261030T080000
DTEND;TZID=America/Chicago:20261030T200000
DTSTAMP:20260420T201028
CREATED:20251229T165446Z
LAST-MODIFIED:20251229T165446Z
UID:10006097-1793347200-1793390400@www.oasispickleballclub.com
SUMMARY:Open Play (All Levels) - Friday
DESCRIPTION:
URL:https://www.oasispickleballclub.com/calendar/open-play-all-levels-friday/2026-10-30/
LOCATION:Oasis Pickleball Club\, 5757 SH-205\, Rockwall\, TX\, 75032\, United States
ORGANIZER;CN="Oasis Pickleball Club":MAILTO:director@oasispickleballclub.com
END:VEVENT
BEGIN:VEVENT
DTSTART;TZID=America/Chicago:20261031T080000
DTEND;TZID=America/Chicago:20261031T200000
DTSTAMP:20260420T201028
CREATED:20241105T171457Z
LAST-MODIFIED:20251229T165047Z
UID:10004991-1793433600-1793476800@www.oasispickleballclub.com
SUMMARY:Open Play (All Levels) - Saturday
DESCRIPTION:
URL:https://www.oasispickleballclub.com/calendar/open-play-all-levels-4/2026-10-31/
LOCATION:Oasis Pickleball Club\, 5757 SH-205\, Rockwall\, TX\, 75032\, United States
ORGANIZER;CN="Oasis Pickleball Club":MAILTO:director@oasispickleballclub.com
END:VEVENT
BEGIN:VEVENT
DTSTART;TZID=America/Chicago:20261031T090000
DTEND;TZID=America/Chicago:20261031T110000
DTSTAMP:20260420T201028
CREATED:20251229T171059Z
LAST-MODIFIED:20251229T171059Z
UID:10007657-1793437200-1793444400@www.oasispickleballclub.com
SUMMARY:Round Robin (Saturdays)
DESCRIPTION:
URL:https://www.oasispickleballclub.com/calendar/round-robin-saturdays/2026-10-31/
END:VEVENT
BEGIN:VEVENT
DTSTART;TZID=America/Chicago:20261101T110000
DTEND;TZID=America/Chicago:20261101T190000
DTSTAMP:20260420T201028
CREATED:20241105T171813Z
LAST-MODIFIED:20251229T165035Z
UID:10005253-1793530800-1793559600@www.oasispickleballclub.com
SUMMARY:Open Play (All Levels) - Sunday
DESCRIPTION:
URL:https://www.oasispickleballclub.com/calendar/open-play-all-levels-5/2026-11-01/
LOCATION:Oasis Pickleball Club\, 5757 SH-205\, Rockwall\, TX\, 75032\, United States
ORGANIZER;CN="Oasis Pickleball Club":MAILTO:director@oasispickleballclub.com
END:VEVENT
BEGIN:VEVENT
DTSTART;TZID=America/Chicago:20261102T080000
DTEND;TZID=America/Chicago:20261102T210000
DTSTAMP:20260420T201028
CREATED:20251229T165305Z
LAST-MODIFIED:20251229T165307Z
UID:10001193-1793606400-1793653200@www.oasispickleballclub.com
SUMMARY:Open Play (All Levels) - Monday
DESCRIPTION:
URL:https://www.oasispickleballclub.com/calendar/open-play-all-levels-6/2026-11-02/
LOCATION:Oasis Pickleball Club\, 5757 SH-205\, Rockwall\, TX\, 75032\, United States
ORGANIZER;CN="Oasis Pickleball Club":MAILTO:director@oasispickleballclub.com
END:VEVENT
BEGIN:VEVENT
DTSTART;TZID=America/Chicago:20261102T190000
DTEND;TZID=America/Chicago:20261102T200000
DTSTAMP:20260420T201028
CREATED:20251229T165758Z
LAST-MODIFIED:20251229T165912Z
UID:10006357-1793646000-1793649600@www.oasispickleballclub.com
SUMMARY:Intro to Pickleball
DESCRIPTION:
URL:https://www.oasispickleballclub.com/calendar/intro-level-1-class-2/2026-11-02/
LOCATION:Oasis Pickleball Club\, 5757 SH-205\, Rockwall\, TX\, 75032\, United States
ORGANIZER;CN="Oasis Pickleball Club":MAILTO:director@oasispickleballclub.com
END:VEVENT
BEGIN:VEVENT
DTSTART;TZID=America/Chicago:20261102T200000
DTEND;TZID=America/Chicago:20261102T210000
DTSTAMP:20260420T201028
CREATED:20251229T170134Z
LAST-MODIFIED:20251229T170138Z
UID:10006617-1793649600-1793653200@www.oasispickleballclub.com
SUMMARY:Drills with Tom
DESCRIPTION:Price is $20 for members\, $30 for non-members.
URL:https://www.oasispickleballclub.com/calendar/drills-with-coach-2/2026-11-02/
LOCATION:Oasis Pickleball Club\, 5757 SH-205\, Rockwall\, TX\, 75032\, United States
ORGANIZER;CN="Oasis Pickleball Club":MAILTO:director@oasispickleballclub.com
END:VEVENT
BEGIN:VEVENT
DTSTART;TZID=America/Chicago:20261103T080000
DTEND;TZID=America/Chicago:20261103T210000
DTSTAMP:20260420T201028
CREATED:20251229T165315Z
LAST-MODIFIED:20251229T165317Z
UID:10002382-1793692800-1793739600@www.oasispickleballclub.com
SUMMARY:Open Play (All Levels) - Tuesday
DESCRIPTION:
URL:https://www.oasispickleballclub.com/calendar/open-play-all-levels-2-2/2026-11-03/
LOCATION:Oasis Pickleball Club\, 5757 SH-205\, Rockwall\, TX\, 75032\, United States
ORGANIZER;CN="Oasis Pickleball Club":MAILTO:director@oasispickleballclub.com
END:VEVENT
BEGIN:VEVENT
DTSTART;TZID=America/Chicago:20261103T185903
DTEND;TZID=America/Chicago:20261103T205903
DTSTAMP:20260420T201028
CREATED:20251229T170346Z
LAST-MODIFIED:20251229T172712Z
UID:10008040-1793732343-1793739543@www.oasispickleballclub.com
SUMMARY:Round Robin (Tuesdays)
DESCRIPTION:
URL:https://www.oasispickleballclub.com/calendar/round-robin-2-2/2026-11-03/
LOCATION:Oasis Pickleball Club\, 5757 SH-205\, Rockwall\, TX\, 75032\, United States
ORGANIZER;CN="Oasis Pickleball Club":MAILTO:director@oasispickleballclub.com
END:VEVENT
BEGIN:VEVENT
DTSTART;TZID=America/Chicago:20261104T080000
DTEND;TZID=America/Chicago:20261104T210000
DTSTAMP:20260420T201028
CREATED:20251229T165324Z
LAST-MODIFIED:20251229T165326Z
UID:10002902-1793779200-1793826000@www.oasispickleballclub.com
SUMMARY:Open Play (All Levels) - Wednesday
DESCRIPTION:
URL:https://www.oasispickleballclub.com/calendar/open-play-all-levels-3-2/2026-11-04/
LOCATION:Oasis Pickleball Club\, 5757 SH-205\, Rockwall\, TX\, 75032\, United States
ORGANIZER;CN="Oasis Pickleball Club":MAILTO:director@oasispickleballclub.com
END:VEVENT
BEGIN:VEVENT
DTSTART;TZID=America/Chicago:20261104T190000
DTEND;TZID=America/Chicago:20261104T210000
DTSTAMP:20260420T201028
CREATED:20251229T170806Z
LAST-MODIFIED:20251229T170806Z
UID:10007136-1793818800-1793826000@www.oasispickleballclub.com
SUMMARY:Chill Pickles
DESCRIPTION:Rockwall residents enjoy half off
URL:https://www.oasispickleballclub.com/calendar/chill-pickles/2026-11-04/
END:VEVENT
BEGIN:VEVENT
DTSTART;TZID=America/Chicago:20261105T080000
DTEND;TZID=America/Chicago:20261105T210000
DTSTAMP:20260420T201028
CREATED:20251229T165336Z
LAST-MODIFIED:20251229T165337Z
UID:10003162-1793865600-1793912400@www.oasispickleballclub.com
SUMMARY:Open Play (All Levels) - Thursday
DESCRIPTION:
URL:https://www.oasispickleballclub.com/calendar/open-play-all-levels-thursdays-2/2026-11-05/
LOCATION:Oasis Pickleball Club\, 5757 SH-205\, Rockwall\, TX\, 75032\, United States
ORGANIZER;CN="Oasis Pickleball Club":MAILTO:director@oasispickleballclub.com
END:VEVENT
BEGIN:VEVENT
DTSTART;TZID=America/Chicago:20261105T180000
DTEND;TZID=America/Chicago:20261105T210000
DTSTAMP:20260420T201028
CREATED:20251229T170903Z
LAST-MODIFIED:20251229T170903Z
UID:10007396-1793901600-1793912400@www.oasispickleballclub.com
SUMMARY:Pickleball & Pizza
DESCRIPTION:
URL:https://www.oasispickleballclub.com/calendar/pickleball-pizza/2026-11-05/
END:VEVENT
BEGIN:VEVENT
DTSTART;TZID=America/Chicago:20261106T080000
DTEND;TZID=America/Chicago:20261106T200000
DTSTAMP:20260420T201028
CREATED:20251229T165446Z
LAST-MODIFIED:20251229T165446Z
UID:10006098-1793952000-1793995200@www.oasispickleballclub.com
SUMMARY:Open Play (All Levels) - Friday
DESCRIPTION:
URL:https://www.oasispickleballclub.com/calendar/open-play-all-levels-friday/2026-11-06/
LOCATION:Oasis Pickleball Club\, 5757 SH-205\, Rockwall\, TX\, 75032\, United States
ORGANIZER;CN="Oasis Pickleball Club":MAILTO:director@oasispickleballclub.com
END:VEVENT
BEGIN:VEVENT
DTSTART;TZID=America/Chicago:20261107T080000
DTEND;TZID=America/Chicago:20261107T200000
DTSTAMP:20260420T201028
CREATED:20241105T171457Z
LAST-MODIFIED:20251229T165047Z
UID:10004992-1794038400-1794081600@www.oasispickleballclub.com
SUMMARY:Open Play (All Levels) - Saturday
DESCRIPTION:
URL:https://www.oasispickleballclub.com/calendar/open-play-all-levels-4/2026-11-07/
LOCATION:Oasis Pickleball Club\, 5757 SH-205\, Rockwall\, TX\, 75032\, United States
ORGANIZER;CN="Oasis Pickleball Club":MAILTO:director@oasispickleballclub.com
END:VEVENT
BEGIN:VEVENT
DTSTART;TZID=America/Chicago:20261107T090000
DTEND;TZID=America/Chicago:20261107T110000
DTSTAMP:20260420T201028
CREATED:20251229T171059Z
LAST-MODIFIED:20251229T171059Z
UID:10007658-1794042000-1794049200@www.oasispickleballclub.com
SUMMARY:Round Robin (Saturdays)
DESCRIPTION:
URL:https://www.oasispickleballclub.com/calendar/round-robin-saturdays/2026-11-07/
END:VEVENT
BEGIN:VEVENT
DTSTART;TZID=America/Chicago:20261108T110000
DTEND;TZID=America/Chicago:20261108T190000
DTSTAMP:20260420T201028
CREATED:20241105T171813Z
LAST-MODIFIED:20251229T165035Z
UID:10005254-1794135600-1794164400@www.oasispickleballclub.com
SUMMARY:Open Play (All Levels) - Sunday
DESCRIPTION:
URL:https://www.oasispickleballclub.com/calendar/open-play-all-levels-5/2026-11-08/
LOCATION:Oasis Pickleball Club\, 5757 SH-205\, Rockwall\, TX\, 75032\, United States
ORGANIZER;CN="Oasis Pickleball Club":MAILTO:director@oasispickleballclub.com
END:VEVENT
BEGIN:VEVENT
DTSTART;TZID=America/Chicago:20261109T080000
DTEND;TZID=America/Chicago:20261109T210000
DTSTAMP:20260420T201028
CREATED:20251229T165305Z
LAST-MODIFIED:20251229T165307Z
UID:10000106-1794211200-1794258000@www.oasispickleballclub.com
SUMMARY:Open Play (All Levels) - Monday
DESCRIPTION:
URL:https://www.oasispickleballclub.com/calendar/open-play-all-levels-6/2026-11-09/
LOCATION:Oasis Pickleball Club\, 5757 SH-205\, Rockwall\, TX\, 75032\, United States
ORGANIZER;CN="Oasis Pickleball Club":MAILTO:director@oasispickleballclub.com
END:VEVENT
BEGIN:VEVENT
DTSTART;TZID=America/Chicago:20261109T190000
DTEND;TZID=America/Chicago:20261109T200000
DTSTAMP:20260420T201028
CREATED:20251229T165758Z
LAST-MODIFIED:20251229T165912Z
UID:10006358-1794250800-1794254400@www.oasispickleballclub.com
SUMMARY:Intro to Pickleball
DESCRIPTION:
URL:https://www.oasispickleballclub.com/calendar/intro-level-1-class-2/2026-11-09/
LOCATION:Oasis Pickleball Club\, 5757 SH-205\, Rockwall\, TX\, 75032\, United States
ORGANIZER;CN="Oasis Pickleball Club":MAILTO:director@oasispickleballclub.com
END:VEVENT
BEGIN:VEVENT
DTSTART;TZID=America/Chicago:20261109T200000
DTEND;TZID=America/Chicago:20261109T210000
DTSTAMP:20260420T201028
CREATED:20251229T170134Z
LAST-MODIFIED:20251229T170138Z
UID:10006618-1794254400-1794258000@www.oasispickleballclub.com
SUMMARY:Drills with Tom
DESCRIPTION:Price is $20 for members\, $30 for non-members.
URL:https://www.oasispickleballclub.com/calendar/drills-with-coach-2/2026-11-09/
LOCATION:Oasis Pickleball Club\, 5757 SH-205\, Rockwall\, TX\, 75032\, United States
ORGANIZER;CN="Oasis Pickleball Club":MAILTO:director@oasispickleballclub.com
END:VEVENT
BEGIN:VEVENT
DTSTART;TZID=America/Chicago:20261110T080000
DTEND;TZID=America/Chicago:20261110T210000
DTSTAMP:20260420T201028
CREATED:20251229T165315Z
LAST-MODIFIED:20251229T165317Z
UID:10002383-1794297600-1794344400@www.oasispickleballclub.com
SUMMARY:Open Play (All Levels) - Tuesday
DESCRIPTION:
URL:https://www.oasispickleballclub.com/calendar/open-play-all-levels-2-2/2026-11-10/
LOCATION:Oasis Pickleball Club\, 5757 SH-205\, Rockwall\, TX\, 75032\, United States
ORGANIZER;CN="Oasis Pickleball Club":MAILTO:director@oasispickleballclub.com
END:VEVENT
BEGIN:VEVENT
DTSTART;TZID=America/Chicago:20261110T080000
DTEND;TZID=America/Chicago:20261111T170000
DTSTAMP:20260420T201028
CREATED:20251118T144334Z
LAST-MODIFIED:20251118T144334Z
UID:10005491-1794297600-1794416400@www.oasispickleballclub.com
SUMMARY:Tyson McGuffin Camp
DESCRIPTION:
URL:https://www.oasispickleballclub.com/calendar/tyson-mcguffin-camp-3/
END:VEVENT
BEGIN:VEVENT
DTSTART;TZID=America/Chicago:20261110T185903
DTEND;TZID=America/Chicago:20261110T205903
DTSTAMP:20260420T201028
CREATED:20251229T170346Z
LAST-MODIFIED:20251229T172712Z
UID:10008041-1794337143-1794344343@www.oasispickleballclub.com
SUMMARY:Round Robin (Tuesdays)
DESCRIPTION:
URL:https://www.oasispickleballclub.com/calendar/round-robin-2-2/2026-11-10/
LOCATION:Oasis Pickleball Club\, 5757 SH-205\, Rockwall\, TX\, 75032\, United States
ORGANIZER;CN="Oasis Pickleball Club":MAILTO:director@oasispickleballclub.com
END:VEVENT
BEGIN:VEVENT
DTSTART;TZID=America/Chicago:20261111T080000
DTEND;TZID=America/Chicago:20261111T210000
DTSTAMP:20260420T201028
CREATED:20251229T165324Z
LAST-MODIFIED:20251229T165326Z
UID:10002903-1794384000-1794430800@www.oasispickleballclub.com
SUMMARY:Open Play (All Levels) - Wednesday
DESCRIPTION:
URL:https://www.oasispickleballclub.com/calendar/open-play-all-levels-3-2/2026-11-11/
LOCATION:Oasis Pickleball Club\, 5757 SH-205\, Rockwall\, TX\, 75032\, United States
ORGANIZER;CN="Oasis Pickleball Club":MAILTO:director@oasispickleballclub.com
END:VEVENT
BEGIN:VEVENT
DTSTART;TZID=America/Chicago:20261111T190000
DTEND;TZID=America/Chicago:20261111T210000
DTSTAMP:20260420T201028
CREATED:20251229T170806Z
LAST-MODIFIED:20251229T170806Z
UID:10007137-1794423600-1794430800@www.oasispickleballclub.com
SUMMARY:Chill Pickles
DESCRIPTION:Rockwall residents enjoy half off
URL:https://www.oasispickleballclub.com/calendar/chill-pickles/2026-11-11/
END:VEVENT
BEGIN:VEVENT
DTSTART;TZID=America/Chicago:20261112T080000
DTEND;TZID=America/Chicago:20261112T210000
DTSTAMP:20260420T201028
CREATED:20251229T165336Z
LAST-MODIFIED:20251229T165337Z
UID:10003163-1794470400-1794517200@www.oasispickleballclub.com
SUMMARY:Open Play (All Levels) - Thursday
DESCRIPTION:
URL:https://www.oasispickleballclub.com/calendar/open-play-all-levels-thursdays-2/2026-11-12/
LOCATION:Oasis Pickleball Club\, 5757 SH-205\, Rockwall\, TX\, 75032\, United States
ORGANIZER;CN="Oasis Pickleball Club":MAILTO:director@oasispickleballclub.com
END:VEVENT
END:VCALENDAR