BEGIN:VCALENDAR
VERSION:2.0
PRODID:-//Oasis Pickleball Club - ECPv6.15.13//NONSGML v1.0//EN
CALSCALE:GREGORIAN
METHOD:PUBLISH
X-ORIGINAL-URL:https://www.oasispickleballclub.com
X-WR-CALDESC:Events for Oasis Pickleball Club
REFRESH-INTERVAL;VALUE=DURATION:PT1H
X-Robots-Tag:noindex
X-PUBLISHED-TTL:PT1H
BEGIN:VTIMEZONE
TZID:America/Chicago
BEGIN:DAYLIGHT
TZOFFSETFROM:-0600
TZOFFSETTO:-0500
TZNAME:CDT
DTSTART:20250309T080000
END:DAYLIGHT
BEGIN:STANDARD
TZOFFSETFROM:-0500
TZOFFSETTO:-0600
TZNAME:CST
DTSTART:20251102T070000
END:STANDARD
BEGIN:DAYLIGHT
TZOFFSETFROM:-0600
TZOFFSETTO:-0500
TZNAME:CDT
DTSTART:20260308T080000
END:DAYLIGHT
BEGIN:STANDARD
TZOFFSETFROM:-0500
TZOFFSETTO:-0600
TZNAME:CST
DTSTART:20261101T070000
END:STANDARD
BEGIN:DAYLIGHT
TZOFFSETFROM:-0600
TZOFFSETTO:-0500
TZNAME:CDT
DTSTART:20270314T080000
END:DAYLIGHT
BEGIN:STANDARD
TZOFFSETFROM:-0500
TZOFFSETTO:-0600
TZNAME:CST
DTSTART:20271107T070000
END:STANDARD
END:VTIMEZONE
BEGIN:VEVENT
DTSTART;TZID=America/Chicago:20261128T090000
DTEND;TZID=America/Chicago:20261128T110000
DTSTAMP:20260420T201028
CREATED:20251229T171059Z
LAST-MODIFIED:20251229T171059Z
UID:10007661-1795856400-1795863600@www.oasispickleballclub.com
SUMMARY:Round Robin (Saturdays)
DESCRIPTION:
URL:https://www.oasispickleballclub.com/calendar/round-robin-saturdays/2026-11-28/
END:VEVENT
BEGIN:VEVENT
DTSTART;TZID=America/Chicago:20261129T110000
DTEND;TZID=America/Chicago:20261129T190000
DTSTAMP:20260420T201028
CREATED:20241105T171813Z
LAST-MODIFIED:20251229T165035Z
UID:10005257-1795950000-1795978800@www.oasispickleballclub.com
SUMMARY:Open Play (All Levels) - Sunday
DESCRIPTION:
URL:https://www.oasispickleballclub.com/calendar/open-play-all-levels-5/2026-11-29/
LOCATION:Oasis Pickleball Club\, 5757 SH-205\, Rockwall\, TX\, 75032\, United States
ORGANIZER;CN="Oasis Pickleball Club":MAILTO:director@oasispickleballclub.com
END:VEVENT
BEGIN:VEVENT
DTSTART;TZID=America/Chicago:20261130T080000
DTEND;TZID=America/Chicago:20261130T210000
DTSTAMP:20260420T201028
CREATED:20251229T165305Z
LAST-MODIFIED:20251229T165307Z
UID:10001214-1796025600-1796072400@www.oasispickleballclub.com
SUMMARY:Open Play (All Levels) - Monday
DESCRIPTION:
URL:https://www.oasispickleballclub.com/calendar/open-play-all-levels-6/2026-11-30/
LOCATION:Oasis Pickleball Club\, 5757 SH-205\, Rockwall\, TX\, 75032\, United States
ORGANIZER;CN="Oasis Pickleball Club":MAILTO:director@oasispickleballclub.com
END:VEVENT
BEGIN:VEVENT
DTSTART;TZID=America/Chicago:20261130T190000
DTEND;TZID=America/Chicago:20261130T200000
DTSTAMP:20260420T201028
CREATED:20251229T165758Z
LAST-MODIFIED:20251229T165912Z
UID:10006361-1796065200-1796068800@www.oasispickleballclub.com
SUMMARY:Intro to Pickleball
DESCRIPTION:
URL:https://www.oasispickleballclub.com/calendar/intro-level-1-class-2/2026-11-30/
LOCATION:Oasis Pickleball Club\, 5757 SH-205\, Rockwall\, TX\, 75032\, United States
ORGANIZER;CN="Oasis Pickleball Club":MAILTO:director@oasispickleballclub.com
END:VEVENT
BEGIN:VEVENT
DTSTART;TZID=America/Chicago:20261130T200000
DTEND;TZID=America/Chicago:20261130T210000
DTSTAMP:20260420T201028
CREATED:20251229T170134Z
LAST-MODIFIED:20251229T170138Z
UID:10006621-1796068800-1796072400@www.oasispickleballclub.com
SUMMARY:Drills with Tom
DESCRIPTION:Price is $20 for members\, $30 for non-members.
URL:https://www.oasispickleballclub.com/calendar/drills-with-coach-2/2026-11-30/
LOCATION:Oasis Pickleball Club\, 5757 SH-205\, Rockwall\, TX\, 75032\, United States
ORGANIZER;CN="Oasis Pickleball Club":MAILTO:director@oasispickleballclub.com
END:VEVENT
BEGIN:VEVENT
DTSTART;TZID=America/Chicago:20261201T080000
DTEND;TZID=America/Chicago:20261201T210000
DTSTAMP:20260420T201028
CREATED:20251229T165315Z
LAST-MODIFIED:20251229T165317Z
UID:10002386-1796112000-1796158800@www.oasispickleballclub.com
SUMMARY:Open Play (All Levels) - Tuesday
DESCRIPTION:
URL:https://www.oasispickleballclub.com/calendar/open-play-all-levels-2-2/2026-12-01/
LOCATION:Oasis Pickleball Club\, 5757 SH-205\, Rockwall\, TX\, 75032\, United States
ORGANIZER;CN="Oasis Pickleball Club":MAILTO:director@oasispickleballclub.com
END:VEVENT
BEGIN:VEVENT
DTSTART;TZID=America/Chicago:20261201T185903
DTEND;TZID=America/Chicago:20261201T205903
DTSTAMP:20260420T201028
CREATED:20251229T170346Z
LAST-MODIFIED:20251229T172712Z
UID:10008044-1796151543-1796158743@www.oasispickleballclub.com
SUMMARY:Round Robin (Tuesdays)
DESCRIPTION:
URL:https://www.oasispickleballclub.com/calendar/round-robin-2-2/2026-12-01/
LOCATION:Oasis Pickleball Club\, 5757 SH-205\, Rockwall\, TX\, 75032\, United States
ORGANIZER;CN="Oasis Pickleball Club":MAILTO:director@oasispickleballclub.com
END:VEVENT
BEGIN:VEVENT
DTSTART;TZID=America/Chicago:20261202T080000
DTEND;TZID=America/Chicago:20261202T210000
DTSTAMP:20260420T201028
CREATED:20251229T165324Z
LAST-MODIFIED:20251229T165326Z
UID:10002906-1796198400-1796245200@www.oasispickleballclub.com
SUMMARY:Open Play (All Levels) - Wednesday
DESCRIPTION:
URL:https://www.oasispickleballclub.com/calendar/open-play-all-levels-3-2/2026-12-02/
LOCATION:Oasis Pickleball Club\, 5757 SH-205\, Rockwall\, TX\, 75032\, United States
ORGANIZER;CN="Oasis Pickleball Club":MAILTO:director@oasispickleballclub.com
END:VEVENT
BEGIN:VEVENT
DTSTART;TZID=America/Chicago:20261202T190000
DTEND;TZID=America/Chicago:20261202T210000
DTSTAMP:20260420T201028
CREATED:20251229T170806Z
LAST-MODIFIED:20251229T170806Z
UID:10007140-1796238000-1796245200@www.oasispickleballclub.com
SUMMARY:Chill Pickles
DESCRIPTION:Rockwall residents enjoy half off
URL:https://www.oasispickleballclub.com/calendar/chill-pickles/2026-12-02/
END:VEVENT
BEGIN:VEVENT
DTSTART;TZID=America/Chicago:20261203T080000
DTEND;TZID=America/Chicago:20261203T210000
DTSTAMP:20260420T201028
CREATED:20251229T165336Z
LAST-MODIFIED:20251229T165337Z
UID:10003166-1796284800-1796331600@www.oasispickleballclub.com
SUMMARY:Open Play (All Levels) - Thursday
DESCRIPTION:
URL:https://www.oasispickleballclub.com/calendar/open-play-all-levels-thursdays-2/2026-12-03/
LOCATION:Oasis Pickleball Club\, 5757 SH-205\, Rockwall\, TX\, 75032\, United States
ORGANIZER;CN="Oasis Pickleball Club":MAILTO:director@oasispickleballclub.com
END:VEVENT
BEGIN:VEVENT
DTSTART;TZID=America/Chicago:20261203T180000
DTEND;TZID=America/Chicago:20261203T210000
DTSTAMP:20260420T201028
CREATED:20251229T170903Z
LAST-MODIFIED:20251229T170903Z
UID:10007400-1796320800-1796331600@www.oasispickleballclub.com
SUMMARY:Pickleball & Pizza
DESCRIPTION:
URL:https://www.oasispickleballclub.com/calendar/pickleball-pizza/2026-12-03/
END:VEVENT
BEGIN:VEVENT
DTSTART;TZID=America/Chicago:20261204T080000
DTEND;TZID=America/Chicago:20261204T200000
DTSTAMP:20260420T201028
CREATED:20251229T165446Z
LAST-MODIFIED:20251229T165446Z
UID:10006102-1796371200-1796414400@www.oasispickleballclub.com
SUMMARY:Open Play (All Levels) - Friday
DESCRIPTION:
URL:https://www.oasispickleballclub.com/calendar/open-play-all-levels-friday/2026-12-04/
LOCATION:Oasis Pickleball Club\, 5757 SH-205\, Rockwall\, TX\, 75032\, United States
ORGANIZER;CN="Oasis Pickleball Club":MAILTO:director@oasispickleballclub.com
END:VEVENT
BEGIN:VEVENT
DTSTART;TZID=America/Chicago:20261205T080000
DTEND;TZID=America/Chicago:20261205T200000
DTSTAMP:20260420T201028
CREATED:20241105T171457Z
LAST-MODIFIED:20251229T165047Z
UID:10004996-1796457600-1796500800@www.oasispickleballclub.com
SUMMARY:Open Play (All Levels) - Saturday
DESCRIPTION:
URL:https://www.oasispickleballclub.com/calendar/open-play-all-levels-4/2026-12-05/
LOCATION:Oasis Pickleball Club\, 5757 SH-205\, Rockwall\, TX\, 75032\, United States
ORGANIZER;CN="Oasis Pickleball Club":MAILTO:director@oasispickleballclub.com
END:VEVENT
BEGIN:VEVENT
DTSTART;TZID=America/Chicago:20261205T090000
DTEND;TZID=America/Chicago:20261205T110000
DTSTAMP:20260420T201028
CREATED:20251229T171059Z
LAST-MODIFIED:20251229T171059Z
UID:10007662-1796461200-1796468400@www.oasispickleballclub.com
SUMMARY:Round Robin (Saturdays)
DESCRIPTION:
URL:https://www.oasispickleballclub.com/calendar/round-robin-saturdays/2026-12-05/
END:VEVENT
BEGIN:VEVENT
DTSTART;TZID=America/Chicago:20261206T110000
DTEND;TZID=America/Chicago:20261206T190000
DTSTAMP:20260420T201028
CREATED:20241105T171813Z
LAST-MODIFIED:20251229T165035Z
UID:10005258-1796554800-1796583600@www.oasispickleballclub.com
SUMMARY:Open Play (All Levels) - Sunday
DESCRIPTION:
URL:https://www.oasispickleballclub.com/calendar/open-play-all-levels-5/2026-12-06/
LOCATION:Oasis Pickleball Club\, 5757 SH-205\, Rockwall\, TX\, 75032\, United States
ORGANIZER;CN="Oasis Pickleball Club":MAILTO:director@oasispickleballclub.com
END:VEVENT
BEGIN:VEVENT
DTSTART;TZID=America/Chicago:20261207T080000
DTEND;TZID=America/Chicago:20261207T210000
DTSTAMP:20260420T201028
CREATED:20251229T165305Z
LAST-MODIFIED:20251229T165307Z
UID:10000110-1796630400-1796677200@www.oasispickleballclub.com
SUMMARY:Open Play (All Levels) - Monday
DESCRIPTION:
URL:https://www.oasispickleballclub.com/calendar/open-play-all-levels-6/2026-12-07/
LOCATION:Oasis Pickleball Club\, 5757 SH-205\, Rockwall\, TX\, 75032\, United States
ORGANIZER;CN="Oasis Pickleball Club":MAILTO:director@oasispickleballclub.com
END:VEVENT
BEGIN:VEVENT
DTSTART;TZID=America/Chicago:20261207T190000
DTEND;TZID=America/Chicago:20261207T200000
DTSTAMP:20260420T201028
CREATED:20251229T165758Z
LAST-MODIFIED:20251229T165912Z
UID:10006362-1796670000-1796673600@www.oasispickleballclub.com
SUMMARY:Intro to Pickleball
DESCRIPTION:
URL:https://www.oasispickleballclub.com/calendar/intro-level-1-class-2/2026-12-07/
LOCATION:Oasis Pickleball Club\, 5757 SH-205\, Rockwall\, TX\, 75032\, United States
ORGANIZER;CN="Oasis Pickleball Club":MAILTO:director@oasispickleballclub.com
END:VEVENT
BEGIN:VEVENT
DTSTART;TZID=America/Chicago:20261207T200000
DTEND;TZID=America/Chicago:20261207T210000
DTSTAMP:20260420T201028
CREATED:20251229T170134Z
LAST-MODIFIED:20251229T170138Z
UID:10006622-1796673600-1796677200@www.oasispickleballclub.com
SUMMARY:Drills with Tom
DESCRIPTION:Price is $20 for members\, $30 for non-members.
URL:https://www.oasispickleballclub.com/calendar/drills-with-coach-2/2026-12-07/
LOCATION:Oasis Pickleball Club\, 5757 SH-205\, Rockwall\, TX\, 75032\, United States
ORGANIZER;CN="Oasis Pickleball Club":MAILTO:director@oasispickleballclub.com
END:VEVENT
BEGIN:VEVENT
DTSTART;TZID=America/Chicago:20261208T080000
DTEND;TZID=America/Chicago:20261208T210000
DTSTAMP:20260420T201028
CREATED:20251229T165315Z
LAST-MODIFIED:20251229T165317Z
UID:10002387-1796716800-1796763600@www.oasispickleballclub.com
SUMMARY:Open Play (All Levels) - Tuesday
DESCRIPTION:
URL:https://www.oasispickleballclub.com/calendar/open-play-all-levels-2-2/2026-12-08/
LOCATION:Oasis Pickleball Club\, 5757 SH-205\, Rockwall\, TX\, 75032\, United States
ORGANIZER;CN="Oasis Pickleball Club":MAILTO:director@oasispickleballclub.com
END:VEVENT
BEGIN:VEVENT
DTSTART;TZID=America/Chicago:20261208T185903
DTEND;TZID=America/Chicago:20261208T205903
DTSTAMP:20260420T201028
CREATED:20251229T170346Z
LAST-MODIFIED:20251229T172712Z
UID:10008045-1796756343-1796763543@www.oasispickleballclub.com
SUMMARY:Round Robin (Tuesdays)
DESCRIPTION:
URL:https://www.oasispickleballclub.com/calendar/round-robin-2-2/2026-12-08/
LOCATION:Oasis Pickleball Club\, 5757 SH-205\, Rockwall\, TX\, 75032\, United States
ORGANIZER;CN="Oasis Pickleball Club":MAILTO:director@oasispickleballclub.com
END:VEVENT
BEGIN:VEVENT
DTSTART;TZID=America/Chicago:20261209T080000
DTEND;TZID=America/Chicago:20261209T210000
DTSTAMP:20260420T201028
CREATED:20251229T165324Z
LAST-MODIFIED:20251229T165326Z
UID:10002907-1796803200-1796850000@www.oasispickleballclub.com
SUMMARY:Open Play (All Levels) - Wednesday
DESCRIPTION:
URL:https://www.oasispickleballclub.com/calendar/open-play-all-levels-3-2/2026-12-09/
LOCATION:Oasis Pickleball Club\, 5757 SH-205\, Rockwall\, TX\, 75032\, United States
ORGANIZER;CN="Oasis Pickleball Club":MAILTO:director@oasispickleballclub.com
END:VEVENT
BEGIN:VEVENT
DTSTART;TZID=America/Chicago:20261209T190000
DTEND;TZID=America/Chicago:20261209T210000
DTSTAMP:20260420T201028
CREATED:20251229T170806Z
LAST-MODIFIED:20251229T170806Z
UID:10007141-1796842800-1796850000@www.oasispickleballclub.com
SUMMARY:Chill Pickles
DESCRIPTION:Rockwall residents enjoy half off
URL:https://www.oasispickleballclub.com/calendar/chill-pickles/2026-12-09/
END:VEVENT
BEGIN:VEVENT
DTSTART;TZID=America/Chicago:20261210T080000
DTEND;TZID=America/Chicago:20261210T210000
DTSTAMP:20260420T201028
CREATED:20251229T165336Z
LAST-MODIFIED:20251229T165337Z
UID:10003167-1796889600-1796936400@www.oasispickleballclub.com
SUMMARY:Open Play (All Levels) - Thursday
DESCRIPTION:
URL:https://www.oasispickleballclub.com/calendar/open-play-all-levels-thursdays-2/2026-12-10/
LOCATION:Oasis Pickleball Club\, 5757 SH-205\, Rockwall\, TX\, 75032\, United States
ORGANIZER;CN="Oasis Pickleball Club":MAILTO:director@oasispickleballclub.com
END:VEVENT
BEGIN:VEVENT
DTSTART;TZID=America/Chicago:20261210T180000
DTEND;TZID=America/Chicago:20261210T210000
DTSTAMP:20260420T201028
CREATED:20251229T170903Z
LAST-MODIFIED:20251229T170903Z
UID:10007401-1796925600-1796936400@www.oasispickleballclub.com
SUMMARY:Pickleball & Pizza
DESCRIPTION:
URL:https://www.oasispickleballclub.com/calendar/pickleball-pizza/2026-12-10/
END:VEVENT
BEGIN:VEVENT
DTSTART;TZID=America/Chicago:20261211T080000
DTEND;TZID=America/Chicago:20261211T200000
DTSTAMP:20260420T201028
CREATED:20251229T165446Z
LAST-MODIFIED:20251229T165446Z
UID:10006103-1796976000-1797019200@www.oasispickleballclub.com
SUMMARY:Open Play (All Levels) - Friday
DESCRIPTION:
URL:https://www.oasispickleballclub.com/calendar/open-play-all-levels-friday/2026-12-11/
LOCATION:Oasis Pickleball Club\, 5757 SH-205\, Rockwall\, TX\, 75032\, United States
ORGANIZER;CN="Oasis Pickleball Club":MAILTO:director@oasispickleballclub.com
END:VEVENT
BEGIN:VEVENT
DTSTART;TZID=America/Chicago:20261212T080000
DTEND;TZID=America/Chicago:20261212T200000
DTSTAMP:20260420T201028
CREATED:20241105T171457Z
LAST-MODIFIED:20251229T165047Z
UID:10004997-1797062400-1797105600@www.oasispickleballclub.com
SUMMARY:Open Play (All Levels) - Saturday
DESCRIPTION:
URL:https://www.oasispickleballclub.com/calendar/open-play-all-levels-4/2026-12-12/
LOCATION:Oasis Pickleball Club\, 5757 SH-205\, Rockwall\, TX\, 75032\, United States
ORGANIZER;CN="Oasis Pickleball Club":MAILTO:director@oasispickleballclub.com
END:VEVENT
BEGIN:VEVENT
DTSTART;TZID=America/Chicago:20261212T080000
DTEND;TZID=America/Chicago:20261213T170000
DTSTAMP:20260420T201028
CREATED:20251118T144501Z
LAST-MODIFIED:20251118T144501Z
UID:10005493-1797062400-1797181200@www.oasispickleballclub.com
SUMMARY:Match Point Tournament
DESCRIPTION:
URL:https://www.oasispickleballclub.com/calendar/match-point-tournament-3/
END:VEVENT
BEGIN:VEVENT
DTSTART;TZID=America/Chicago:20261212T090000
DTEND;TZID=America/Chicago:20261212T110000
DTSTAMP:20260420T201028
CREATED:20251229T171059Z
LAST-MODIFIED:20251229T171059Z
UID:10007663-1797066000-1797073200@www.oasispickleballclub.com
SUMMARY:Round Robin (Saturdays)
DESCRIPTION:
URL:https://www.oasispickleballclub.com/calendar/round-robin-saturdays/2026-12-12/
END:VEVENT
BEGIN:VEVENT
DTSTART;TZID=America/Chicago:20261213T110000
DTEND;TZID=America/Chicago:20261213T190000
DTSTAMP:20260420T201028
CREATED:20241105T171813Z
LAST-MODIFIED:20251229T165035Z
UID:10005259-1797159600-1797188400@www.oasispickleballclub.com
SUMMARY:Open Play (All Levels) - Sunday
DESCRIPTION:
URL:https://www.oasispickleballclub.com/calendar/open-play-all-levels-5/2026-12-13/
LOCATION:Oasis Pickleball Club\, 5757 SH-205\, Rockwall\, TX\, 75032\, United States
ORGANIZER;CN="Oasis Pickleball Club":MAILTO:director@oasispickleballclub.com
END:VEVENT
BEGIN:VEVENT
DTSTART;TZID=America/Chicago:20261214T080000
DTEND;TZID=America/Chicago:20261214T210000
DTSTAMP:20260420T201028
CREATED:20251229T165305Z
LAST-MODIFIED:20251229T165307Z
UID:10001225-1797235200-1797282000@www.oasispickleballclub.com
SUMMARY:Open Play (All Levels) - Monday
DESCRIPTION:
URL:https://www.oasispickleballclub.com/calendar/open-play-all-levels-6/2026-12-14/
LOCATION:Oasis Pickleball Club\, 5757 SH-205\, Rockwall\, TX\, 75032\, United States
ORGANIZER;CN="Oasis Pickleball Club":MAILTO:director@oasispickleballclub.com
END:VEVENT
END:VCALENDAR