BEGIN:VCALENDAR
VERSION:2.0
PRODID:-//Oasis Pickleball Club - ECPv6.15.13//NONSGML v1.0//EN
CALSCALE:GREGORIAN
METHOD:PUBLISH
X-ORIGINAL-URL:https://www.oasispickleballclub.com
X-WR-CALDESC:Events for Oasis Pickleball Club
REFRESH-INTERVAL;VALUE=DURATION:PT1H
X-Robots-Tag:noindex
X-PUBLISHED-TTL:PT1H
BEGIN:VTIMEZONE
TZID:America/Chicago
BEGIN:DAYLIGHT
TZOFFSETFROM:-0600
TZOFFSETTO:-0500
TZNAME:CDT
DTSTART:20260308T080000
END:DAYLIGHT
BEGIN:STANDARD
TZOFFSETFROM:-0500
TZOFFSETTO:-0600
TZNAME:CST
DTSTART:20261101T070000
END:STANDARD
BEGIN:DAYLIGHT
TZOFFSETFROM:-0600
TZOFFSETTO:-0500
TZNAME:CDT
DTSTART:20270314T080000
END:DAYLIGHT
BEGIN:STANDARD
TZOFFSETFROM:-0500
TZOFFSETTO:-0600
TZNAME:CST
DTSTART:20271107T070000
END:STANDARD
BEGIN:DAYLIGHT
TZOFFSETFROM:-0600
TZOFFSETTO:-0500
TZNAME:CDT
DTSTART:20280312T080000
END:DAYLIGHT
BEGIN:STANDARD
TZOFFSETFROM:-0500
TZOFFSETTO:-0600
TZNAME:CST
DTSTART:20281105T070000
END:STANDARD
END:VTIMEZONE
BEGIN:VEVENT
DTSTART;TZID=America/Chicago:20270127T080000
DTEND;TZID=America/Chicago:20270127T210000
DTSTAMP:20260421T143932
CREATED:20251229T165324Z
LAST-MODIFIED:20251229T165326Z
UID:10002914-1801036800-1801083600@www.oasispickleballclub.com
SUMMARY:Open Play (All Levels) - Wednesday
DESCRIPTION:
URL:https://www.oasispickleballclub.com/calendar/open-play-all-levels-3-2/2027-01-27/
LOCATION:Oasis Pickleball Club\, 5757 SH-205\, Rockwall\, TX\, 75032\, United States
ORGANIZER;CN="Oasis Pickleball Club":MAILTO:director@oasispickleballclub.com
END:VEVENT
BEGIN:VEVENT
DTSTART;TZID=America/Chicago:20270127T190000
DTEND;TZID=America/Chicago:20270127T210000
DTSTAMP:20260421T143932
CREATED:20251229T170806Z
LAST-MODIFIED:20251229T170806Z
UID:10007148-1801076400-1801083600@www.oasispickleballclub.com
SUMMARY:Chill Pickles
DESCRIPTION:Rockwall residents enjoy half off
URL:https://www.oasispickleballclub.com/calendar/chill-pickles/2027-01-27/
END:VEVENT
BEGIN:VEVENT
DTSTART;TZID=America/Chicago:20270128T080000
DTEND;TZID=America/Chicago:20270128T210000
DTSTAMP:20260421T143932
CREATED:20251229T165336Z
LAST-MODIFIED:20251229T165337Z
UID:10003174-1801123200-1801170000@www.oasispickleballclub.com
SUMMARY:Open Play (All Levels) - Thursday
DESCRIPTION:
URL:https://www.oasispickleballclub.com/calendar/open-play-all-levels-thursdays-2/2027-01-28/
LOCATION:Oasis Pickleball Club\, 5757 SH-205\, Rockwall\, TX\, 75032\, United States
ORGANIZER;CN="Oasis Pickleball Club":MAILTO:director@oasispickleballclub.com
END:VEVENT
BEGIN:VEVENT
DTSTART;TZID=America/Chicago:20270128T180000
DTEND;TZID=America/Chicago:20270128T210000
DTSTAMP:20260421T143932
CREATED:20251229T170903Z
LAST-MODIFIED:20251229T170903Z
UID:10007408-1801159200-1801170000@www.oasispickleballclub.com
SUMMARY:Pickleball & Pizza
DESCRIPTION:
URL:https://www.oasispickleballclub.com/calendar/pickleball-pizza/2027-01-28/
END:VEVENT
BEGIN:VEVENT
DTSTART;TZID=America/Chicago:20270129T080000
DTEND;TZID=America/Chicago:20270129T200000
DTSTAMP:20260421T143932
CREATED:20251229T165446Z
LAST-MODIFIED:20251229T165446Z
UID:10006110-1801209600-1801252800@www.oasispickleballclub.com
SUMMARY:Open Play (All Levels) - Friday
DESCRIPTION:
URL:https://www.oasispickleballclub.com/calendar/open-play-all-levels-friday/2027-01-29/
LOCATION:Oasis Pickleball Club\, 5757 SH-205\, Rockwall\, TX\, 75032\, United States
ORGANIZER;CN="Oasis Pickleball Club":MAILTO:director@oasispickleballclub.com
END:VEVENT
BEGIN:VEVENT
DTSTART;TZID=America/Chicago:20270130T080000
DTEND;TZID=America/Chicago:20270130T200000
DTSTAMP:20260421T143932
CREATED:20241105T171457Z
LAST-MODIFIED:20251229T165047Z
UID:10005004-1801296000-1801339200@www.oasispickleballclub.com
SUMMARY:Open Play (All Levels) - Saturday
DESCRIPTION:
URL:https://www.oasispickleballclub.com/calendar/open-play-all-levels-4/2027-01-30/
LOCATION:Oasis Pickleball Club\, 5757 SH-205\, Rockwall\, TX\, 75032\, United States
ORGANIZER;CN="Oasis Pickleball Club":MAILTO:director@oasispickleballclub.com
END:VEVENT
BEGIN:VEVENT
DTSTART;TZID=America/Chicago:20270130T090000
DTEND;TZID=America/Chicago:20270130T110000
DTSTAMP:20260421T143932
CREATED:20251229T171059Z
LAST-MODIFIED:20251229T171059Z
UID:10007670-1801299600-1801306800@www.oasispickleballclub.com
SUMMARY:Round Robin (Saturdays)
DESCRIPTION:
URL:https://www.oasispickleballclub.com/calendar/round-robin-saturdays/2027-01-30/
END:VEVENT
BEGIN:VEVENT
DTSTART;TZID=America/Chicago:20270131T110000
DTEND;TZID=America/Chicago:20270131T190000
DTSTAMP:20260421T143932
CREATED:20241105T171813Z
LAST-MODIFIED:20251229T165035Z
UID:10005266-1801393200-1801422000@www.oasispickleballclub.com
SUMMARY:Open Play (All Levels) - Sunday
DESCRIPTION:
URL:https://www.oasispickleballclub.com/calendar/open-play-all-levels-5/2027-01-31/
LOCATION:Oasis Pickleball Club\, 5757 SH-205\, Rockwall\, TX\, 75032\, United States
ORGANIZER;CN="Oasis Pickleball Club":MAILTO:director@oasispickleballclub.com
END:VEVENT
BEGIN:VEVENT
DTSTART;TZID=America/Chicago:20270201T080000
DTEND;TZID=America/Chicago:20270201T210000
DTSTAMP:20260421T143932
CREATED:20251229T165305Z
LAST-MODIFIED:20251229T165307Z
UID:10000118-1801468800-1801515600@www.oasispickleballclub.com
SUMMARY:Open Play (All Levels) - Monday
DESCRIPTION:
URL:https://www.oasispickleballclub.com/calendar/open-play-all-levels-6/2027-02-01/
LOCATION:Oasis Pickleball Club\, 5757 SH-205\, Rockwall\, TX\, 75032\, United States
ORGANIZER;CN="Oasis Pickleball Club":MAILTO:director@oasispickleballclub.com
END:VEVENT
BEGIN:VEVENT
DTSTART;TZID=America/Chicago:20270201T190000
DTEND;TZID=America/Chicago:20270201T200000
DTSTAMP:20260421T143932
CREATED:20251229T165758Z
LAST-MODIFIED:20251229T165912Z
UID:10006370-1801508400-1801512000@www.oasispickleballclub.com
SUMMARY:Intro to Pickleball
DESCRIPTION:
URL:https://www.oasispickleballclub.com/calendar/intro-level-1-class-2/2027-02-01/
LOCATION:Oasis Pickleball Club\, 5757 SH-205\, Rockwall\, TX\, 75032\, United States
ORGANIZER;CN="Oasis Pickleball Club":MAILTO:director@oasispickleballclub.com
END:VEVENT
BEGIN:VEVENT
DTSTART;TZID=America/Chicago:20270201T200000
DTEND;TZID=America/Chicago:20270201T210000
DTSTAMP:20260421T143932
CREATED:20251229T170134Z
LAST-MODIFIED:20251229T170138Z
UID:10006630-1801512000-1801515600@www.oasispickleballclub.com
SUMMARY:Drills with Tom
DESCRIPTION:Price is $20 for members\, $30 for non-members.
URL:https://www.oasispickleballclub.com/calendar/drills-with-coach-2/2027-02-01/
LOCATION:Oasis Pickleball Club\, 5757 SH-205\, Rockwall\, TX\, 75032\, United States
ORGANIZER;CN="Oasis Pickleball Club":MAILTO:director@oasispickleballclub.com
END:VEVENT
BEGIN:VEVENT
DTSTART;TZID=America/Chicago:20270202T080000
DTEND;TZID=America/Chicago:20270202T210000
DTSTAMP:20260421T143932
CREATED:20251229T165315Z
LAST-MODIFIED:20251229T165317Z
UID:10002395-1801555200-1801602000@www.oasispickleballclub.com
SUMMARY:Open Play (All Levels) - Tuesday
DESCRIPTION:
URL:https://www.oasispickleballclub.com/calendar/open-play-all-levels-2-2/2027-02-02/
LOCATION:Oasis Pickleball Club\, 5757 SH-205\, Rockwall\, TX\, 75032\, United States
ORGANIZER;CN="Oasis Pickleball Club":MAILTO:director@oasispickleballclub.com
END:VEVENT
BEGIN:VEVENT
DTSTART;TZID=America/Chicago:20270202T185903
DTEND;TZID=America/Chicago:20270202T205903
DTSTAMP:20260421T143932
CREATED:20251229T170346Z
LAST-MODIFIED:20251229T172712Z
UID:10008053-1801594743-1801601943@www.oasispickleballclub.com
SUMMARY:Round Robin (Tuesdays)
DESCRIPTION:
URL:https://www.oasispickleballclub.com/calendar/round-robin-2-2/2027-02-02/
LOCATION:Oasis Pickleball Club\, 5757 SH-205\, Rockwall\, TX\, 75032\, United States
ORGANIZER;CN="Oasis Pickleball Club":MAILTO:director@oasispickleballclub.com
END:VEVENT
BEGIN:VEVENT
DTSTART;TZID=America/Chicago:20270203T080000
DTEND;TZID=America/Chicago:20270203T210000
DTSTAMP:20260421T143932
CREATED:20251229T165324Z
LAST-MODIFIED:20251229T165326Z
UID:10002915-1801641600-1801688400@www.oasispickleballclub.com
SUMMARY:Open Play (All Levels) - Wednesday
DESCRIPTION:
URL:https://www.oasispickleballclub.com/calendar/open-play-all-levels-3-2/2027-02-03/
LOCATION:Oasis Pickleball Club\, 5757 SH-205\, Rockwall\, TX\, 75032\, United States
ORGANIZER;CN="Oasis Pickleball Club":MAILTO:director@oasispickleballclub.com
END:VEVENT
BEGIN:VEVENT
DTSTART;TZID=America/Chicago:20270203T190000
DTEND;TZID=America/Chicago:20270203T210000
DTSTAMP:20260421T143932
CREATED:20251229T170806Z
LAST-MODIFIED:20251229T170806Z
UID:10007149-1801681200-1801688400@www.oasispickleballclub.com
SUMMARY:Chill Pickles
DESCRIPTION:Rockwall residents enjoy half off
URL:https://www.oasispickleballclub.com/calendar/chill-pickles/2027-02-03/
END:VEVENT
BEGIN:VEVENT
DTSTART;TZID=America/Chicago:20270204T080000
DTEND;TZID=America/Chicago:20270204T210000
DTSTAMP:20260421T143932
CREATED:20251229T165336Z
LAST-MODIFIED:20251229T165337Z
UID:10003175-1801728000-1801774800@www.oasispickleballclub.com
SUMMARY:Open Play (All Levels) - Thursday
DESCRIPTION:
URL:https://www.oasispickleballclub.com/calendar/open-play-all-levels-thursdays-2/2027-02-04/
LOCATION:Oasis Pickleball Club\, 5757 SH-205\, Rockwall\, TX\, 75032\, United States
ORGANIZER;CN="Oasis Pickleball Club":MAILTO:director@oasispickleballclub.com
END:VEVENT
BEGIN:VEVENT
DTSTART;TZID=America/Chicago:20270204T180000
DTEND;TZID=America/Chicago:20270204T210000
DTSTAMP:20260421T143932
CREATED:20251229T170903Z
LAST-MODIFIED:20251229T170903Z
UID:10007409-1801764000-1801774800@www.oasispickleballclub.com
SUMMARY:Pickleball & Pizza
DESCRIPTION:
URL:https://www.oasispickleballclub.com/calendar/pickleball-pizza/2027-02-04/
END:VEVENT
BEGIN:VEVENT
DTSTART;TZID=America/Chicago:20270205T080000
DTEND;TZID=America/Chicago:20270205T200000
DTSTAMP:20260421T143932
CREATED:20251229T165446Z
LAST-MODIFIED:20251229T165446Z
UID:10006111-1801814400-1801857600@www.oasispickleballclub.com
SUMMARY:Open Play (All Levels) - Friday
DESCRIPTION:
URL:https://www.oasispickleballclub.com/calendar/open-play-all-levels-friday/2027-02-05/
LOCATION:Oasis Pickleball Club\, 5757 SH-205\, Rockwall\, TX\, 75032\, United States
ORGANIZER;CN="Oasis Pickleball Club":MAILTO:director@oasispickleballclub.com
END:VEVENT
BEGIN:VEVENT
DTSTART;TZID=America/Chicago:20270206T080000
DTEND;TZID=America/Chicago:20270206T200000
DTSTAMP:20260421T143932
CREATED:20241105T171457Z
LAST-MODIFIED:20251229T165047Z
UID:10005005-1801900800-1801944000@www.oasispickleballclub.com
SUMMARY:Open Play (All Levels) - Saturday
DESCRIPTION:
URL:https://www.oasispickleballclub.com/calendar/open-play-all-levels-4/2027-02-06/
LOCATION:Oasis Pickleball Club\, 5757 SH-205\, Rockwall\, TX\, 75032\, United States
ORGANIZER;CN="Oasis Pickleball Club":MAILTO:director@oasispickleballclub.com
END:VEVENT
BEGIN:VEVENT
DTSTART;TZID=America/Chicago:20270206T090000
DTEND;TZID=America/Chicago:20270206T110000
DTSTAMP:20260421T143932
CREATED:20251229T171059Z
LAST-MODIFIED:20251229T171059Z
UID:10007671-1801904400-1801911600@www.oasispickleballclub.com
SUMMARY:Round Robin (Saturdays)
DESCRIPTION:
URL:https://www.oasispickleballclub.com/calendar/round-robin-saturdays/2027-02-06/
END:VEVENT
BEGIN:VEVENT
DTSTART;TZID=America/Chicago:20270207T110000
DTEND;TZID=America/Chicago:20270207T190000
DTSTAMP:20260421T143932
CREATED:20241105T171813Z
LAST-MODIFIED:20251229T165035Z
UID:10005267-1801998000-1802026800@www.oasispickleballclub.com
SUMMARY:Open Play (All Levels) - Sunday
DESCRIPTION:
URL:https://www.oasispickleballclub.com/calendar/open-play-all-levels-5/2027-02-07/
LOCATION:Oasis Pickleball Club\, 5757 SH-205\, Rockwall\, TX\, 75032\, United States
ORGANIZER;CN="Oasis Pickleball Club":MAILTO:director@oasispickleballclub.com
END:VEVENT
BEGIN:VEVENT
DTSTART;TZID=America/Chicago:20270208T080000
DTEND;TZID=America/Chicago:20270208T210000
DTSTAMP:20260421T143932
CREATED:20251229T165305Z
LAST-MODIFIED:20251229T165307Z
UID:10001267-1802073600-1802120400@www.oasispickleballclub.com
SUMMARY:Open Play (All Levels) - Monday
DESCRIPTION:
URL:https://www.oasispickleballclub.com/calendar/open-play-all-levels-6/2027-02-08/
LOCATION:Oasis Pickleball Club\, 5757 SH-205\, Rockwall\, TX\, 75032\, United States
ORGANIZER;CN="Oasis Pickleball Club":MAILTO:director@oasispickleballclub.com
END:VEVENT
BEGIN:VEVENT
DTSTART;TZID=America/Chicago:20270208T190000
DTEND;TZID=America/Chicago:20270208T200000
DTSTAMP:20260421T143932
CREATED:20251229T165758Z
LAST-MODIFIED:20251229T165912Z
UID:10006371-1802113200-1802116800@www.oasispickleballclub.com
SUMMARY:Intro to Pickleball
DESCRIPTION:
URL:https://www.oasispickleballclub.com/calendar/intro-level-1-class-2/2027-02-08/
LOCATION:Oasis Pickleball Club\, 5757 SH-205\, Rockwall\, TX\, 75032\, United States
ORGANIZER;CN="Oasis Pickleball Club":MAILTO:director@oasispickleballclub.com
END:VEVENT
BEGIN:VEVENT
DTSTART;TZID=America/Chicago:20270208T200000
DTEND;TZID=America/Chicago:20270208T210000
DTSTAMP:20260421T143932
CREATED:20251229T170134Z
LAST-MODIFIED:20251229T170138Z
UID:10006631-1802116800-1802120400@www.oasispickleballclub.com
SUMMARY:Drills with Tom
DESCRIPTION:Price is $20 for members\, $30 for non-members.
URL:https://www.oasispickleballclub.com/calendar/drills-with-coach-2/2027-02-08/
LOCATION:Oasis Pickleball Club\, 5757 SH-205\, Rockwall\, TX\, 75032\, United States
ORGANIZER;CN="Oasis Pickleball Club":MAILTO:director@oasispickleballclub.com
END:VEVENT
BEGIN:VEVENT
DTSTART;TZID=America/Chicago:20270209T080000
DTEND;TZID=America/Chicago:20270209T210000
DTSTAMP:20260421T143932
CREATED:20251229T165315Z
LAST-MODIFIED:20251229T165317Z
UID:10002396-1802160000-1802206800@www.oasispickleballclub.com
SUMMARY:Open Play (All Levels) - Tuesday
DESCRIPTION:
URL:https://www.oasispickleballclub.com/calendar/open-play-all-levels-2-2/2027-02-09/
LOCATION:Oasis Pickleball Club\, 5757 SH-205\, Rockwall\, TX\, 75032\, United States
ORGANIZER;CN="Oasis Pickleball Club":MAILTO:director@oasispickleballclub.com
END:VEVENT
BEGIN:VEVENT
DTSTART;TZID=America/Chicago:20270209T185903
DTEND;TZID=America/Chicago:20270209T205903
DTSTAMP:20260421T143932
CREATED:20251229T170346Z
LAST-MODIFIED:20251229T172712Z
UID:10008054-1802199543-1802206743@www.oasispickleballclub.com
SUMMARY:Round Robin (Tuesdays)
DESCRIPTION:
URL:https://www.oasispickleballclub.com/calendar/round-robin-2-2/2027-02-09/
LOCATION:Oasis Pickleball Club\, 5757 SH-205\, Rockwall\, TX\, 75032\, United States
ORGANIZER;CN="Oasis Pickleball Club":MAILTO:director@oasispickleballclub.com
END:VEVENT
BEGIN:VEVENT
DTSTART;TZID=America/Chicago:20270210T080000
DTEND;TZID=America/Chicago:20270210T210000
DTSTAMP:20260421T143932
CREATED:20251229T165324Z
LAST-MODIFIED:20251229T165326Z
UID:10002916-1802246400-1802293200@www.oasispickleballclub.com
SUMMARY:Open Play (All Levels) - Wednesday
DESCRIPTION:
URL:https://www.oasispickleballclub.com/calendar/open-play-all-levels-3-2/2027-02-10/
LOCATION:Oasis Pickleball Club\, 5757 SH-205\, Rockwall\, TX\, 75032\, United States
ORGANIZER;CN="Oasis Pickleball Club":MAILTO:director@oasispickleballclub.com
END:VEVENT
BEGIN:VEVENT
DTSTART;TZID=America/Chicago:20270210T190000
DTEND;TZID=America/Chicago:20270210T210000
DTSTAMP:20260421T143932
CREATED:20251229T170806Z
LAST-MODIFIED:20251229T170806Z
UID:10007150-1802286000-1802293200@www.oasispickleballclub.com
SUMMARY:Chill Pickles
DESCRIPTION:Rockwall residents enjoy half off
URL:https://www.oasispickleballclub.com/calendar/chill-pickles/2027-02-10/
END:VEVENT
BEGIN:VEVENT
DTSTART;TZID=America/Chicago:20270211T080000
DTEND;TZID=America/Chicago:20270211T210000
DTSTAMP:20260421T143932
CREATED:20251229T165336Z
LAST-MODIFIED:20251229T165337Z
UID:10003176-1802332800-1802379600@www.oasispickleballclub.com
SUMMARY:Open Play (All Levels) - Thursday
DESCRIPTION:
URL:https://www.oasispickleballclub.com/calendar/open-play-all-levels-thursdays-2/2027-02-11/
LOCATION:Oasis Pickleball Club\, 5757 SH-205\, Rockwall\, TX\, 75032\, United States
ORGANIZER;CN="Oasis Pickleball Club":MAILTO:director@oasispickleballclub.com
END:VEVENT
BEGIN:VEVENT
DTSTART;TZID=America/Chicago:20270211T180000
DTEND;TZID=America/Chicago:20270211T210000
DTSTAMP:20260421T143932
CREATED:20251229T170903Z
LAST-MODIFIED:20251229T170903Z
UID:10007410-1802368800-1802379600@www.oasispickleballclub.com
SUMMARY:Pickleball & Pizza
DESCRIPTION:
URL:https://www.oasispickleballclub.com/calendar/pickleball-pizza/2027-02-11/
END:VEVENT
END:VCALENDAR